BEGIN:VCALENDAR
VERSION:2.0
PRODID:-//Portside Boulders - ECPv6.15.17.1//NONSGML v1.0//EN
CALSCALE:GREGORIAN
METHOD:PUBLISH
X-ORIGINAL-URL:https://portsideboulders.com.au
X-WR-CALDESC:Events for Portside Boulders
REFRESH-INTERVAL;VALUE=DURATION:PT1H
X-Robots-Tag:noindex
X-PUBLISHED-TTL:PT1H
BEGIN:VTIMEZONE
TZID:Asia/Shanghai
BEGIN:STANDARD
TZOFFSETFROM:+0800
TZOFFSETTO:+0800
TZNAME:CST
DTSTART:20240101T000000
END:STANDARD
END:VTIMEZONE
BEGIN:VEVENT
DTSTART;TZID=Asia/Shanghai:20250618T183000
DTEND;TZID=Asia/Shanghai:20250618T193000
DTSTAMP:20260421T222435
CREATED:20230706T040930Z
LAST-MODIFIED:20240311T074603Z
UID:10001431-1750271400-1750275000@portsideboulders.com.au
SUMMARY:Power Yoga
DESCRIPTION:A fast-paced and intense style of yoga that’s focused on building strength and endurance\, linking your breath to the different movements of your body.
URL:https://portsideboulders.com.au/event/power-yoga/2025-06-18/
LOCATION:Portside Boulders O’Connor\, 12 Murphy St\, O'Connor\, WA\, 6163\, Australia
ATTACH;FMTTYPE=image/jpeg:https://portsideboulders.com.au/wp-content/uploads/2023/07/Yoga-OC-14-scaled.jpg
END:VEVENT
BEGIN:VEVENT
DTSTART;TZID=Asia/Shanghai:20250618T183000
DTEND;TZID=Asia/Shanghai:20250618T203000
DTSTAMP:20260421T222435
CREATED:20230719T011738Z
LAST-MODIFIED:20260123T034748Z
UID:10006028-1750271400-1750278600@portsideboulders.com.au
SUMMARY:Climb Like A Girl
DESCRIPTION:A relaxed social session for women* of all levels. Move\, climb\, connect — no bookings needed\, just show up and hang out. \n$15.90 entry\, Portside members free. \n*Women includes trans\, gender diverse and cisgender women. \nWilletton – First Tuesday of the Month\nJoondalup – Second Thursday\nO’Connor – Third Tuesday\nOsborne Park – Fourth Thursday \nJoin our Climb Like A Girl Whatsapp Group Chat! Here we chat about how our sessions went and send out any updates or new things we might be doing.
URL:https://portsideboulders.com.au/event/climb-like-a-girl-2/2025-06-18/
LOCATION:Portside Boulders Osborne Park\, warehouse e/73 Walters Dr\, Osborne Park\, WA\, 6017\, Australia
ATTACH;FMTTYPE=image/jpeg:https://portsideboulders.com.au/wp-content/uploads/2023/07/CLAG-OP.jpg
END:VEVENT
END:VCALENDAR