BEGIN:VCALENDAR
VERSION:2.0
PRODID:-//Portside Boulders - ECPv6.15.17.1//NONSGML v1.0//EN
CALSCALE:GREGORIAN
METHOD:PUBLISH
X-ORIGINAL-URL:https://portsideboulders.com.au
X-WR-CALDESC:Events for Portside Boulders
REFRESH-INTERVAL;VALUE=DURATION:PT1H
X-Robots-Tag:noindex
X-PUBLISHED-TTL:PT1H
BEGIN:VTIMEZONE
TZID:Asia/Shanghai
BEGIN:STANDARD
TZOFFSETFROM:+0800
TZOFFSETTO:+0800
TZNAME:CST
DTSTART:20240101T000000
END:STANDARD
END:VTIMEZONE
BEGIN:VEVENT
DTSTART;TZID=Asia/Shanghai:20251006T183000
DTEND;TZID=Asia/Shanghai:20251006T193000
DTSTAMP:20260423T132105
CREATED:20241029T080057Z
LAST-MODIFIED:20251029T052115Z
UID:10013100-1759775400-1759779000@portsideboulders.com.au
SUMMARY:Calisthenics
DESCRIPTION:Oscar will guide you through learning a variety of calisthenics skills. Muscle ups\, levers\, handstands and pistol squats to name a couple. \nIt’s all about improving form on and off the wall\, and having fun!
URL:https://portsideboulders.com.au/event/calisthenics-2-2/2025-10-06/
LOCATION:Portside Boulders Willetton\, 8 Kembla Way\, Perth\, WA\, 6155\, Australia
ATTACH;FMTTYPE=image/jpeg:https://portsideboulders.com.au/wp-content/uploads/2023/07/DSCF6577-scaled.jpg
END:VEVENT
BEGIN:VEVENT
DTSTART;TZID=Asia/Shanghai:20251007T183000
DTEND;TZID=Asia/Shanghai:20251007T193000
DTSTAMP:20260423T132105
CREATED:20250911T025604Z
LAST-MODIFIED:20250911T025716Z
UID:10000402-1759861800-1759865400@portsideboulders.com.au
SUMMARY:Calisthenics
DESCRIPTION:Learn the proper progressions for big bodyweight movements that make the foundation of a functional body. In this class you will learn a variety of calisthenics skills such as muscle ups\, levers\, handstands and pistol squats to name a couple. \nIt’s all about improving form on and off the wall\, and having fun!
URL:https://portsideboulders.com.au/event/calisthenics-3/2025-10-07/
LOCATION:Portside Boulders Osborne Park\, warehouse e/73 Walters Dr\, Osborne Park\, WA\, 6017\, Australia
ATTACH;FMTTYPE=image/jpeg:https://portsideboulders.com.au/wp-content/uploads/2023/07/DSCF6496-1-scaled.jpg
END:VEVENT
BEGIN:VEVENT
DTSTART;TZID=Asia/Shanghai:20251007T183000
DTEND;TZID=Asia/Shanghai:20251007T193000
DTSTAMP:20260423T132105
CREATED:20251029T052238Z
LAST-MODIFIED:20251029T052359Z
UID:10013401-1759861800-1759865400@portsideboulders.com.au
SUMMARY:Calisthenics
DESCRIPTION:Learn the proper progressions for big bodyweight movements that make the foundation of a functional body. In this class you will learn a variety of calisthenics skills such as muscle ups\, levers\, handstands and pistol squats to name a couple. \nIt’s all about improving form on and off the wall\, and having fun!
URL:https://portsideboulders.com.au/event/calisthenics-3-2/2025-10-07/
LOCATION:Portside Boulders Osborne Park\, warehouse e/73 Walters Dr\, Osborne Park\, WA\, 6017\, Australia
ATTACH;FMTTYPE=image/jpeg:https://portsideboulders.com.au/wp-content/uploads/2023/07/DSCF6496-1-scaled.jpg
END:VEVENT
BEGIN:VEVENT
DTSTART;TZID=Asia/Shanghai:20251007T183000
DTEND;TZID=Asia/Shanghai:20251007T193000
DTSTAMP:20260423T132105
CREATED:20251029T052502Z
LAST-MODIFIED:20251029T063509Z
UID:10013453-1759861800-1759865400@portsideboulders.com.au
SUMMARY:Calisthenics
DESCRIPTION:Learn the proper progressions for big bodyweight movements that make the foundation of a functional body. In this class you will learn a variety of calisthenics skills such as muscle ups\, levers\, handstands and pistol squats to name a couple. \nIt’s all about improving form on and off the wall\, and having fun!
URL:https://portsideboulders.com.au/event/calisthenics-3-2-2/2025-10-07/
LOCATION:Portside Boulders Osborne Park\, warehouse e/73 Walters Dr\, Osborne Park\, WA\, 6017\, Australia
ATTACH;FMTTYPE=image/jpeg:https://portsideboulders.com.au/wp-content/uploads/2023/07/DSCF6496-1-scaled.jpg
END:VEVENT
BEGIN:VEVENT
DTSTART;TZID=Asia/Shanghai:20251013T183000
DTEND;TZID=Asia/Shanghai:20251013T193000
DTSTAMP:20260423T132105
CREATED:20241029T080057Z
LAST-MODIFIED:20251029T052115Z
UID:10013101-1760380200-1760383800@portsideboulders.com.au
SUMMARY:Calisthenics
DESCRIPTION:Oscar will guide you through learning a variety of calisthenics skills. Muscle ups\, levers\, handstands and pistol squats to name a couple. \nIt’s all about improving form on and off the wall\, and having fun!
URL:https://portsideboulders.com.au/event/calisthenics-2-2/2025-10-13/
LOCATION:Portside Boulders Willetton\, 8 Kembla Way\, Perth\, WA\, 6155\, Australia
ATTACH;FMTTYPE=image/jpeg:https://portsideboulders.com.au/wp-content/uploads/2023/07/DSCF6577-scaled.jpg
END:VEVENT
BEGIN:VEVENT
DTSTART;TZID=Asia/Shanghai:20251014T183000
DTEND;TZID=Asia/Shanghai:20251014T193000
DTSTAMP:20260423T132105
CREATED:20250911T025604Z
LAST-MODIFIED:20250911T025716Z
UID:10000403-1760466600-1760470200@portsideboulders.com.au
SUMMARY:Calisthenics
DESCRIPTION:Learn the proper progressions for big bodyweight movements that make the foundation of a functional body. In this class you will learn a variety of calisthenics skills such as muscle ups\, levers\, handstands and pistol squats to name a couple. \nIt’s all about improving form on and off the wall\, and having fun!
URL:https://portsideboulders.com.au/event/calisthenics-3/2025-10-14/
LOCATION:Portside Boulders Osborne Park\, warehouse e/73 Walters Dr\, Osborne Park\, WA\, 6017\, Australia
ATTACH;FMTTYPE=image/jpeg:https://portsideboulders.com.au/wp-content/uploads/2023/07/DSCF6496-1-scaled.jpg
END:VEVENT
BEGIN:VEVENT
DTSTART;TZID=Asia/Shanghai:20251014T183000
DTEND;TZID=Asia/Shanghai:20251014T193000
DTSTAMP:20260423T132105
CREATED:20251029T052238Z
LAST-MODIFIED:20251029T052359Z
UID:10013402-1760466600-1760470200@portsideboulders.com.au
SUMMARY:Calisthenics
DESCRIPTION:Learn the proper progressions for big bodyweight movements that make the foundation of a functional body. In this class you will learn a variety of calisthenics skills such as muscle ups\, levers\, handstands and pistol squats to name a couple. \nIt’s all about improving form on and off the wall\, and having fun!
URL:https://portsideboulders.com.au/event/calisthenics-3-2/2025-10-14/
LOCATION:Portside Boulders Osborne Park\, warehouse e/73 Walters Dr\, Osborne Park\, WA\, 6017\, Australia
ATTACH;FMTTYPE=image/jpeg:https://portsideboulders.com.au/wp-content/uploads/2023/07/DSCF6496-1-scaled.jpg
END:VEVENT
BEGIN:VEVENT
DTSTART;TZID=Asia/Shanghai:20251014T183000
DTEND;TZID=Asia/Shanghai:20251014T193000
DTSTAMP:20260423T132105
CREATED:20251029T052502Z
LAST-MODIFIED:20251029T063509Z
UID:10013454-1760466600-1760470200@portsideboulders.com.au
SUMMARY:Calisthenics
DESCRIPTION:Learn the proper progressions for big bodyweight movements that make the foundation of a functional body. In this class you will learn a variety of calisthenics skills such as muscle ups\, levers\, handstands and pistol squats to name a couple. \nIt’s all about improving form on and off the wall\, and having fun!
URL:https://portsideboulders.com.au/event/calisthenics-3-2-2/2025-10-14/
LOCATION:Portside Boulders Osborne Park\, warehouse e/73 Walters Dr\, Osborne Park\, WA\, 6017\, Australia
ATTACH;FMTTYPE=image/jpeg:https://portsideboulders.com.au/wp-content/uploads/2023/07/DSCF6496-1-scaled.jpg
END:VEVENT
BEGIN:VEVENT
DTSTART;TZID=Asia/Shanghai:20251020T183000
DTEND;TZID=Asia/Shanghai:20251020T193000
DTSTAMP:20260423T132105
CREATED:20241029T080057Z
LAST-MODIFIED:20251029T052115Z
UID:10013102-1760985000-1760988600@portsideboulders.com.au
SUMMARY:Calisthenics
DESCRIPTION:Oscar will guide you through learning a variety of calisthenics skills. Muscle ups\, levers\, handstands and pistol squats to name a couple. \nIt’s all about improving form on and off the wall\, and having fun!
URL:https://portsideboulders.com.au/event/calisthenics-2-2/2025-10-20/
LOCATION:Portside Boulders Willetton\, 8 Kembla Way\, Perth\, WA\, 6155\, Australia
ATTACH;FMTTYPE=image/jpeg:https://portsideboulders.com.au/wp-content/uploads/2023/07/DSCF6577-scaled.jpg
END:VEVENT
BEGIN:VEVENT
DTSTART;TZID=Asia/Shanghai:20251021T183000
DTEND;TZID=Asia/Shanghai:20251021T193000
DTSTAMP:20260423T132105
CREATED:20250911T025604Z
LAST-MODIFIED:20250911T025716Z
UID:10000404-1761071400-1761075000@portsideboulders.com.au
SUMMARY:Calisthenics
DESCRIPTION:Learn the proper progressions for big bodyweight movements that make the foundation of a functional body. In this class you will learn a variety of calisthenics skills such as muscle ups\, levers\, handstands and pistol squats to name a couple. \nIt’s all about improving form on and off the wall\, and having fun!
URL:https://portsideboulders.com.au/event/calisthenics-3/2025-10-21/
LOCATION:Portside Boulders Osborne Park\, warehouse e/73 Walters Dr\, Osborne Park\, WA\, 6017\, Australia
ATTACH;FMTTYPE=image/jpeg:https://portsideboulders.com.au/wp-content/uploads/2023/07/DSCF6496-1-scaled.jpg
END:VEVENT
BEGIN:VEVENT
DTSTART;TZID=Asia/Shanghai:20251021T183000
DTEND;TZID=Asia/Shanghai:20251021T193000
DTSTAMP:20260423T132105
CREATED:20251029T052238Z
LAST-MODIFIED:20251029T052359Z
UID:10013403-1761071400-1761075000@portsideboulders.com.au
SUMMARY:Calisthenics
DESCRIPTION:Learn the proper progressions for big bodyweight movements that make the foundation of a functional body. In this class you will learn a variety of calisthenics skills such as muscle ups\, levers\, handstands and pistol squats to name a couple. \nIt’s all about improving form on and off the wall\, and having fun!
URL:https://portsideboulders.com.au/event/calisthenics-3-2/2025-10-21/
LOCATION:Portside Boulders Osborne Park\, warehouse e/73 Walters Dr\, Osborne Park\, WA\, 6017\, Australia
ATTACH;FMTTYPE=image/jpeg:https://portsideboulders.com.au/wp-content/uploads/2023/07/DSCF6496-1-scaled.jpg
END:VEVENT
BEGIN:VEVENT
DTSTART;TZID=Asia/Shanghai:20251021T183000
DTEND;TZID=Asia/Shanghai:20251021T193000
DTSTAMP:20260423T132105
CREATED:20251029T052502Z
LAST-MODIFIED:20251029T063509Z
UID:10013455-1761071400-1761075000@portsideboulders.com.au
SUMMARY:Calisthenics
DESCRIPTION:Learn the proper progressions for big bodyweight movements that make the foundation of a functional body. In this class you will learn a variety of calisthenics skills such as muscle ups\, levers\, handstands and pistol squats to name a couple. \nIt’s all about improving form on and off the wall\, and having fun!
URL:https://portsideboulders.com.au/event/calisthenics-3-2-2/2025-10-21/
LOCATION:Portside Boulders Osborne Park\, warehouse e/73 Walters Dr\, Osborne Park\, WA\, 6017\, Australia
ATTACH;FMTTYPE=image/jpeg:https://portsideboulders.com.au/wp-content/uploads/2023/07/DSCF6496-1-scaled.jpg
END:VEVENT
BEGIN:VEVENT
DTSTART;TZID=Asia/Shanghai:20251027T183000
DTEND;TZID=Asia/Shanghai:20251027T193000
DTSTAMP:20260423T132105
CREATED:20241029T080057Z
LAST-MODIFIED:20251029T052115Z
UID:10013103-1761589800-1761593400@portsideboulders.com.au
SUMMARY:Calisthenics
DESCRIPTION:Oscar will guide you through learning a variety of calisthenics skills. Muscle ups\, levers\, handstands and pistol squats to name a couple. \nIt’s all about improving form on and off the wall\, and having fun!
URL:https://portsideboulders.com.au/event/calisthenics-2-2/2025-10-27/
LOCATION:Portside Boulders Willetton\, 8 Kembla Way\, Perth\, WA\, 6155\, Australia
ATTACH;FMTTYPE=image/jpeg:https://portsideboulders.com.au/wp-content/uploads/2023/07/DSCF6577-scaled.jpg
END:VEVENT
BEGIN:VEVENT
DTSTART;TZID=Asia/Shanghai:20251028T183000
DTEND;TZID=Asia/Shanghai:20251028T193000
DTSTAMP:20260423T132105
CREATED:20250911T025604Z
LAST-MODIFIED:20250911T025716Z
UID:10000405-1761676200-1761679800@portsideboulders.com.au
SUMMARY:Calisthenics
DESCRIPTION:Learn the proper progressions for big bodyweight movements that make the foundation of a functional body. In this class you will learn a variety of calisthenics skills such as muscle ups\, levers\, handstands and pistol squats to name a couple. \nIt’s all about improving form on and off the wall\, and having fun!
URL:https://portsideboulders.com.au/event/calisthenics-3/2025-10-28/
LOCATION:Portside Boulders Osborne Park\, warehouse e/73 Walters Dr\, Osborne Park\, WA\, 6017\, Australia
ATTACH;FMTTYPE=image/jpeg:https://portsideboulders.com.au/wp-content/uploads/2023/07/DSCF6496-1-scaled.jpg
END:VEVENT
BEGIN:VEVENT
DTSTART;TZID=Asia/Shanghai:20251028T183000
DTEND;TZID=Asia/Shanghai:20251028T193000
DTSTAMP:20260423T132105
CREATED:20251029T052238Z
LAST-MODIFIED:20251029T052359Z
UID:10013404-1761676200-1761679800@portsideboulders.com.au
SUMMARY:Calisthenics
DESCRIPTION:Learn the proper progressions for big bodyweight movements that make the foundation of a functional body. In this class you will learn a variety of calisthenics skills such as muscle ups\, levers\, handstands and pistol squats to name a couple. \nIt’s all about improving form on and off the wall\, and having fun!
URL:https://portsideboulders.com.au/event/calisthenics-3-2/2025-10-28/
LOCATION:Portside Boulders Osborne Park\, warehouse e/73 Walters Dr\, Osborne Park\, WA\, 6017\, Australia
ATTACH;FMTTYPE=image/jpeg:https://portsideboulders.com.au/wp-content/uploads/2023/07/DSCF6496-1-scaled.jpg
END:VEVENT
BEGIN:VEVENT
DTSTART;TZID=Asia/Shanghai:20251028T183000
DTEND;TZID=Asia/Shanghai:20251028T193000
DTSTAMP:20260423T132105
CREATED:20251029T052502Z
LAST-MODIFIED:20251029T063509Z
UID:10013456-1761676200-1761679800@portsideboulders.com.au
SUMMARY:Calisthenics
DESCRIPTION:Learn the proper progressions for big bodyweight movements that make the foundation of a functional body. In this class you will learn a variety of calisthenics skills such as muscle ups\, levers\, handstands and pistol squats to name a couple. \nIt’s all about improving form on and off the wall\, and having fun!
URL:https://portsideboulders.com.au/event/calisthenics-3-2-2/2025-10-28/
LOCATION:Portside Boulders Osborne Park\, warehouse e/73 Walters Dr\, Osborne Park\, WA\, 6017\, Australia
ATTACH;FMTTYPE=image/jpeg:https://portsideboulders.com.au/wp-content/uploads/2023/07/DSCF6496-1-scaled.jpg
END:VEVENT
END:VCALENDAR