BEGIN:VCALENDAR
VERSION:2.0
PRODID:-//Portside Boulders - ECPv6.15.17.1//NONSGML v1.0//EN
CALSCALE:GREGORIAN
METHOD:PUBLISH
X-WR-CALNAME:Portside Boulders
X-ORIGINAL-URL:https://portsideboulders.com.au
X-WR-CALDESC:Events for Portside Boulders
REFRESH-INTERVAL;VALUE=DURATION:PT1H
X-Robots-Tag:noindex
X-PUBLISHED-TTL:PT1H
BEGIN:VTIMEZONE
TZID:Asia/Shanghai
BEGIN:STANDARD
TZOFFSETFROM:+0800
TZOFFSETTO:+0800
TZNAME:CST
DTSTART:20250101T000000
END:STANDARD
END:VTIMEZONE
BEGIN:VEVENT
DTSTART;TZID=Asia/Shanghai:20260105T183000
DTEND;TZID=Asia/Shanghai:20260105T193000
DTSTAMP:20260423T073608
CREATED:20241029T080057Z
LAST-MODIFIED:20251029T052115Z
UID:10013113-1767637800-1767641400@portsideboulders.com.au
SUMMARY:Calisthenics
DESCRIPTION:Oscar will guide you through learning a variety of calisthenics skills. Muscle ups\, levers\, handstands and pistol squats to name a couple. \nIt’s all about improving form on and off the wall\, and having fun!
URL:https://portsideboulders.com.au/event/calisthenics-2-2/2026-01-05/
LOCATION:Portside Boulders Willetton\, 8 Kembla Way\, Perth\, WA\, 6155\, Australia
ATTACH;FMTTYPE=image/jpeg:https://portsideboulders.com.au/wp-content/uploads/2023/07/DSCF6577-scaled.jpg
END:VEVENT
BEGIN:VEVENT
DTSTART;TZID=Asia/Shanghai:20260106T183000
DTEND;TZID=Asia/Shanghai:20260106T193000
DTSTAMP:20260423T073608
CREATED:20251029T052502Z
LAST-MODIFIED:20251029T063509Z
UID:10000415-1767724200-1767727800@portsideboulders.com.au
SUMMARY:Calisthenics
DESCRIPTION:Learn the proper progressions for big bodyweight movements that make the foundation of a functional body. In this class you will learn a variety of calisthenics skills such as muscle ups\, levers\, handstands and pistol squats to name a couple. \nIt’s all about improving form on and off the wall\, and having fun!
URL:https://portsideboulders.com.au/event/calisthenics-3-2-2/2026-01-06/
LOCATION:Portside Boulders Osborne Park\, warehouse e/73 Walters Dr\, Osborne Park\, WA\, 6017\, Australia
ATTACH;FMTTYPE=image/jpeg:https://portsideboulders.com.au/wp-content/uploads/2023/07/DSCF6496-1-scaled.jpg
END:VEVENT
BEGIN:VEVENT
DTSTART;TZID=Asia/Shanghai:20260112T183000
DTEND;TZID=Asia/Shanghai:20260112T193000
DTSTAMP:20260423T073608
CREATED:20241029T080057Z
LAST-MODIFIED:20251029T052115Z
UID:10013114-1768242600-1768246200@portsideboulders.com.au
SUMMARY:Calisthenics
DESCRIPTION:Oscar will guide you through learning a variety of calisthenics skills. Muscle ups\, levers\, handstands and pistol squats to name a couple. \nIt’s all about improving form on and off the wall\, and having fun!
URL:https://portsideboulders.com.au/event/calisthenics-2-2/2026-01-12/
LOCATION:Portside Boulders Willetton\, 8 Kembla Way\, Perth\, WA\, 6155\, Australia
ATTACH;FMTTYPE=image/jpeg:https://portsideboulders.com.au/wp-content/uploads/2023/07/DSCF6577-scaled.jpg
END:VEVENT
BEGIN:VEVENT
DTSTART;TZID=Asia/Shanghai:20260113T183000
DTEND;TZID=Asia/Shanghai:20260113T193000
DTSTAMP:20260423T073608
CREATED:20251029T052502Z
LAST-MODIFIED:20251029T063509Z
UID:10000416-1768329000-1768332600@portsideboulders.com.au
SUMMARY:Calisthenics
DESCRIPTION:Learn the proper progressions for big bodyweight movements that make the foundation of a functional body. In this class you will learn a variety of calisthenics skills such as muscle ups\, levers\, handstands and pistol squats to name a couple. \nIt’s all about improving form on and off the wall\, and having fun!
URL:https://portsideboulders.com.au/event/calisthenics-3-2-2/2026-01-13/
LOCATION:Portside Boulders Osborne Park\, warehouse e/73 Walters Dr\, Osborne Park\, WA\, 6017\, Australia
ATTACH;FMTTYPE=image/jpeg:https://portsideboulders.com.au/wp-content/uploads/2023/07/DSCF6496-1-scaled.jpg
END:VEVENT
BEGIN:VEVENT
DTSTART;TZID=Asia/Shanghai:20260119T183000
DTEND;TZID=Asia/Shanghai:20260119T193000
DTSTAMP:20260423T073608
CREATED:20241029T080057Z
LAST-MODIFIED:20251029T052115Z
UID:10013115-1768847400-1768851000@portsideboulders.com.au
SUMMARY:Calisthenics
DESCRIPTION:Oscar will guide you through learning a variety of calisthenics skills. Muscle ups\, levers\, handstands and pistol squats to name a couple. \nIt’s all about improving form on and off the wall\, and having fun!
URL:https://portsideboulders.com.au/event/calisthenics-2-2/2026-01-19/
LOCATION:Portside Boulders Willetton\, 8 Kembla Way\, Perth\, WA\, 6155\, Australia
ATTACH;FMTTYPE=image/jpeg:https://portsideboulders.com.au/wp-content/uploads/2023/07/DSCF6577-scaled.jpg
END:VEVENT
BEGIN:VEVENT
DTSTART;TZID=Asia/Shanghai:20260120T183000
DTEND;TZID=Asia/Shanghai:20260120T193000
DTSTAMP:20260423T073608
CREATED:20251029T052502Z
LAST-MODIFIED:20251029T063509Z
UID:10000417-1768933800-1768937400@portsideboulders.com.au
SUMMARY:Calisthenics
DESCRIPTION:Learn the proper progressions for big bodyweight movements that make the foundation of a functional body. In this class you will learn a variety of calisthenics skills such as muscle ups\, levers\, handstands and pistol squats to name a couple. \nIt’s all about improving form on and off the wall\, and having fun!
URL:https://portsideboulders.com.au/event/calisthenics-3-2-2/2026-01-20/
LOCATION:Portside Boulders Osborne Park\, warehouse e/73 Walters Dr\, Osborne Park\, WA\, 6017\, Australia
ATTACH;FMTTYPE=image/jpeg:https://portsideboulders.com.au/wp-content/uploads/2023/07/DSCF6496-1-scaled.jpg
END:VEVENT
BEGIN:VEVENT
DTSTART;TZID=Asia/Shanghai:20260126T183000
DTEND;TZID=Asia/Shanghai:20260126T193000
DTSTAMP:20260423T073608
CREATED:20241029T080057Z
LAST-MODIFIED:20251029T052115Z
UID:10013116-1769452200-1769455800@portsideboulders.com.au
SUMMARY:Calisthenics
DESCRIPTION:Oscar will guide you through learning a variety of calisthenics skills. Muscle ups\, levers\, handstands and pistol squats to name a couple. \nIt’s all about improving form on and off the wall\, and having fun!
URL:https://portsideboulders.com.au/event/calisthenics-2-2/2026-01-26/
LOCATION:Portside Boulders Willetton\, 8 Kembla Way\, Perth\, WA\, 6155\, Australia
ATTACH;FMTTYPE=image/jpeg:https://portsideboulders.com.au/wp-content/uploads/2023/07/DSCF6577-scaled.jpg
END:VEVENT
BEGIN:VEVENT
DTSTART;TZID=Asia/Shanghai:20260127T183000
DTEND;TZID=Asia/Shanghai:20260127T193000
DTSTAMP:20260423T073608
CREATED:20251029T052502Z
LAST-MODIFIED:20251029T063509Z
UID:10000418-1769538600-1769542200@portsideboulders.com.au
SUMMARY:Calisthenics
DESCRIPTION:Learn the proper progressions for big bodyweight movements that make the foundation of a functional body. In this class you will learn a variety of calisthenics skills such as muscle ups\, levers\, handstands and pistol squats to name a couple. \nIt’s all about improving form on and off the wall\, and having fun!
URL:https://portsideboulders.com.au/event/calisthenics-3-2-2/2026-01-27/
LOCATION:Portside Boulders Osborne Park\, warehouse e/73 Walters Dr\, Osborne Park\, WA\, 6017\, Australia
ATTACH;FMTTYPE=image/jpeg:https://portsideboulders.com.au/wp-content/uploads/2023/07/DSCF6496-1-scaled.jpg
END:VEVENT
END:VCALENDAR