BEGIN:VCALENDAR
VERSION:2.0
PRODID:-//Portside Boulders - ECPv6.15.17.1//NONSGML v1.0//EN
CALSCALE:GREGORIAN
METHOD:PUBLISH
X-WR-CALNAME:Portside Boulders
X-ORIGINAL-URL:https://portsideboulders.com.au
X-WR-CALDESC:Events for Portside Boulders
REFRESH-INTERVAL;VALUE=DURATION:PT1H
X-Robots-Tag:noindex
X-PUBLISHED-TTL:PT1H
BEGIN:VTIMEZONE
TZID:Asia/Shanghai
BEGIN:STANDARD
TZOFFSETFROM:+0800
TZOFFSETTO:+0800
TZNAME:CST
DTSTART:20250101T000000
END:STANDARD
END:VTIMEZONE
BEGIN:VEVENT
DTSTART;TZID=Asia/Shanghai:20260504T183000
DTEND;TZID=Asia/Shanghai:20260504T193000
DTSTAMP:20260423T044139
CREATED:20241029T080057Z
LAST-MODIFIED:20251029T052115Z
UID:10013130-1777919400-1777923000@portsideboulders.com.au
SUMMARY:Calisthenics
DESCRIPTION:Oscar will guide you through learning a variety of calisthenics skills. Muscle ups\, levers\, handstands and pistol squats to name a couple. \nIt’s all about improving form on and off the wall\, and having fun!
URL:https://portsideboulders.com.au/event/calisthenics-2-2/2026-05-04/
LOCATION:Portside Boulders Willetton\, 8 Kembla Way\, Perth\, WA\, 6155\, Australia
ATTACH;FMTTYPE=image/jpeg:https://portsideboulders.com.au/wp-content/uploads/2023/07/DSCF6577-scaled.jpg
END:VEVENT
BEGIN:VEVENT
DTSTART;TZID=Asia/Shanghai:20260505T183000
DTEND;TZID=Asia/Shanghai:20260505T193000
DTSTAMP:20260423T044139
CREATED:20251029T052502Z
LAST-MODIFIED:20251029T063509Z
UID:10000432-1778005800-1778009400@portsideboulders.com.au
SUMMARY:Calisthenics
DESCRIPTION:Learn the proper progressions for big bodyweight movements that make the foundation of a functional body. In this class you will learn a variety of calisthenics skills such as muscle ups\, levers\, handstands and pistol squats to name a couple. \nIt’s all about improving form on and off the wall\, and having fun!
URL:https://portsideboulders.com.au/event/calisthenics-3-2-2/2026-05-05/
LOCATION:Portside Boulders Osborne Park\, warehouse e/73 Walters Dr\, Osborne Park\, WA\, 6017\, Australia
ATTACH;FMTTYPE=image/jpeg:https://portsideboulders.com.au/wp-content/uploads/2023/07/DSCF6496-1-scaled.jpg
END:VEVENT
BEGIN:VEVENT
DTSTART;TZID=Asia/Shanghai:20260511T183000
DTEND;TZID=Asia/Shanghai:20260511T193000
DTSTAMP:20260423T044139
CREATED:20241029T080057Z
LAST-MODIFIED:20251029T052115Z
UID:10013131-1778524200-1778527800@portsideboulders.com.au
SUMMARY:Calisthenics
DESCRIPTION:Oscar will guide you through learning a variety of calisthenics skills. Muscle ups\, levers\, handstands and pistol squats to name a couple. \nIt’s all about improving form on and off the wall\, and having fun!
URL:https://portsideboulders.com.au/event/calisthenics-2-2/2026-05-11/
LOCATION:Portside Boulders Willetton\, 8 Kembla Way\, Perth\, WA\, 6155\, Australia
ATTACH;FMTTYPE=image/jpeg:https://portsideboulders.com.au/wp-content/uploads/2023/07/DSCF6577-scaled.jpg
END:VEVENT
BEGIN:VEVENT
DTSTART;TZID=Asia/Shanghai:20260512T183000
DTEND;TZID=Asia/Shanghai:20260512T193000
DTSTAMP:20260423T044140
CREATED:20251029T052502Z
LAST-MODIFIED:20251029T063509Z
UID:10000433-1778610600-1778614200@portsideboulders.com.au
SUMMARY:Calisthenics
DESCRIPTION:Learn the proper progressions for big bodyweight movements that make the foundation of a functional body. In this class you will learn a variety of calisthenics skills such as muscle ups\, levers\, handstands and pistol squats to name a couple. \nIt’s all about improving form on and off the wall\, and having fun!
URL:https://portsideboulders.com.au/event/calisthenics-3-2-2/2026-05-12/
LOCATION:Portside Boulders Osborne Park\, warehouse e/73 Walters Dr\, Osborne Park\, WA\, 6017\, Australia
ATTACH;FMTTYPE=image/jpeg:https://portsideboulders.com.au/wp-content/uploads/2023/07/DSCF6496-1-scaled.jpg
END:VEVENT
BEGIN:VEVENT
DTSTART;TZID=Asia/Shanghai:20260518T183000
DTEND;TZID=Asia/Shanghai:20260518T193000
DTSTAMP:20260423T044140
CREATED:20241029T080057Z
LAST-MODIFIED:20251029T052115Z
UID:10013132-1779129000-1779132600@portsideboulders.com.au
SUMMARY:Calisthenics
DESCRIPTION:Oscar will guide you through learning a variety of calisthenics skills. Muscle ups\, levers\, handstands and pistol squats to name a couple. \nIt’s all about improving form on and off the wall\, and having fun!
URL:https://portsideboulders.com.au/event/calisthenics-2-2/2026-05-18/
LOCATION:Portside Boulders Willetton\, 8 Kembla Way\, Perth\, WA\, 6155\, Australia
ATTACH;FMTTYPE=image/jpeg:https://portsideboulders.com.au/wp-content/uploads/2023/07/DSCF6577-scaled.jpg
END:VEVENT
BEGIN:VEVENT
DTSTART;TZID=Asia/Shanghai:20260519T183000
DTEND;TZID=Asia/Shanghai:20260519T193000
DTSTAMP:20260423T044140
CREATED:20251029T052502Z
LAST-MODIFIED:20251029T063509Z
UID:10000434-1779215400-1779219000@portsideboulders.com.au
SUMMARY:Calisthenics
DESCRIPTION:Learn the proper progressions for big bodyweight movements that make the foundation of a functional body. In this class you will learn a variety of calisthenics skills such as muscle ups\, levers\, handstands and pistol squats to name a couple. \nIt’s all about improving form on and off the wall\, and having fun!
URL:https://portsideboulders.com.au/event/calisthenics-3-2-2/2026-05-19/
LOCATION:Portside Boulders Osborne Park\, warehouse e/73 Walters Dr\, Osborne Park\, WA\, 6017\, Australia
ATTACH;FMTTYPE=image/jpeg:https://portsideboulders.com.au/wp-content/uploads/2023/07/DSCF6496-1-scaled.jpg
END:VEVENT
BEGIN:VEVENT
DTSTART;TZID=Asia/Shanghai:20260525T183000
DTEND;TZID=Asia/Shanghai:20260525T193000
DTSTAMP:20260423T044140
CREATED:20241029T080057Z
LAST-MODIFIED:20251029T052115Z
UID:10013133-1779733800-1779737400@portsideboulders.com.au
SUMMARY:Calisthenics
DESCRIPTION:Oscar will guide you through learning a variety of calisthenics skills. Muscle ups\, levers\, handstands and pistol squats to name a couple. \nIt’s all about improving form on and off the wall\, and having fun!
URL:https://portsideboulders.com.au/event/calisthenics-2-2/2026-05-25/
LOCATION:Portside Boulders Willetton\, 8 Kembla Way\, Perth\, WA\, 6155\, Australia
ATTACH;FMTTYPE=image/jpeg:https://portsideboulders.com.au/wp-content/uploads/2023/07/DSCF6577-scaled.jpg
END:VEVENT
BEGIN:VEVENT
DTSTART;TZID=Asia/Shanghai:20260526T183000
DTEND;TZID=Asia/Shanghai:20260526T193000
DTSTAMP:20260423T044140
CREATED:20251029T052502Z
LAST-MODIFIED:20251029T063509Z
UID:10000435-1779820200-1779823800@portsideboulders.com.au
SUMMARY:Calisthenics
DESCRIPTION:Learn the proper progressions for big bodyweight movements that make the foundation of a functional body. In this class you will learn a variety of calisthenics skills such as muscle ups\, levers\, handstands and pistol squats to name a couple. \nIt’s all about improving form on and off the wall\, and having fun!
URL:https://portsideboulders.com.au/event/calisthenics-3-2-2/2026-05-26/
LOCATION:Portside Boulders Osborne Park\, warehouse e/73 Walters Dr\, Osborne Park\, WA\, 6017\, Australia
ATTACH;FMTTYPE=image/jpeg:https://portsideboulders.com.au/wp-content/uploads/2023/07/DSCF6496-1-scaled.jpg
END:VEVENT
END:VCALENDAR