BEGIN:VCALENDAR
VERSION:2.0
PRODID:-//Portside Boulders - ECPv6.15.17.1//NONSGML v1.0//EN
CALSCALE:GREGORIAN
METHOD:PUBLISH
X-WR-CALNAME:Portside Boulders
X-ORIGINAL-URL:https://portsideboulders.com.au
X-WR-CALDESC:Events for Portside Boulders
REFRESH-INTERVAL;VALUE=DURATION:PT1H
X-Robots-Tag:noindex
X-PUBLISHED-TTL:PT1H
BEGIN:VTIMEZONE
TZID:Asia/Shanghai
BEGIN:STANDARD
TZOFFSETFROM:+0800
TZOFFSETTO:+0800
TZNAME:CST
DTSTART:20250101T000000
END:STANDARD
END:VTIMEZONE
BEGIN:VEVENT
DTSTART;TZID=Asia/Shanghai:20261005T183000
DTEND;TZID=Asia/Shanghai:20261005T193000
DTSTAMP:20260423T131951
CREATED:20241029T080057Z
LAST-MODIFIED:20251029T052115Z
UID:10013152-1791225000-1791228600@portsideboulders.com.au
SUMMARY:Calisthenics
DESCRIPTION:Oscar will guide you through learning a variety of calisthenics skills. Muscle ups\, levers\, handstands and pistol squats to name a couple. \nIt’s all about improving form on and off the wall\, and having fun!
URL:https://portsideboulders.com.au/event/calisthenics-2-2/2026-10-05/
LOCATION:Portside Boulders Willetton\, 8 Kembla Way\, Perth\, WA\, 6155\, Australia
ATTACH;FMTTYPE=image/jpeg:https://portsideboulders.com.au/wp-content/uploads/2023/07/DSCF6577-scaled.jpg
END:VEVENT
BEGIN:VEVENT
DTSTART;TZID=Asia/Shanghai:20261006T183000
DTEND;TZID=Asia/Shanghai:20261006T193000
DTSTAMP:20260423T131951
CREATED:20251029T052502Z
LAST-MODIFIED:20251029T063509Z
UID:10000454-1791311400-1791315000@portsideboulders.com.au
SUMMARY:Calisthenics
DESCRIPTION:Learn the proper progressions for big bodyweight movements that make the foundation of a functional body. In this class you will learn a variety of calisthenics skills such as muscle ups\, levers\, handstands and pistol squats to name a couple. \nIt’s all about improving form on and off the wall\, and having fun!
URL:https://portsideboulders.com.au/event/calisthenics-3-2-2/2026-10-06/
LOCATION:Portside Boulders Osborne Park\, warehouse e/73 Walters Dr\, Osborne Park\, WA\, 6017\, Australia
ATTACH;FMTTYPE=image/jpeg:https://portsideboulders.com.au/wp-content/uploads/2023/07/DSCF6496-1-scaled.jpg
END:VEVENT
BEGIN:VEVENT
DTSTART;TZID=Asia/Shanghai:20261012T183000
DTEND;TZID=Asia/Shanghai:20261012T193000
DTSTAMP:20260423T131951
CREATED:20241029T080057Z
LAST-MODIFIED:20251029T052115Z
UID:10013153-1791829800-1791833400@portsideboulders.com.au
SUMMARY:Calisthenics
DESCRIPTION:Oscar will guide you through learning a variety of calisthenics skills. Muscle ups\, levers\, handstands and pistol squats to name a couple. \nIt’s all about improving form on and off the wall\, and having fun!
URL:https://portsideboulders.com.au/event/calisthenics-2-2/2026-10-12/
LOCATION:Portside Boulders Willetton\, 8 Kembla Way\, Perth\, WA\, 6155\, Australia
ATTACH;FMTTYPE=image/jpeg:https://portsideboulders.com.au/wp-content/uploads/2023/07/DSCF6577-scaled.jpg
END:VEVENT
BEGIN:VEVENT
DTSTART;TZID=Asia/Shanghai:20261013T183000
DTEND;TZID=Asia/Shanghai:20261013T193000
DTSTAMP:20260423T131951
CREATED:20251029T052502Z
LAST-MODIFIED:20251029T063509Z
UID:10000455-1791916200-1791919800@portsideboulders.com.au
SUMMARY:Calisthenics
DESCRIPTION:Learn the proper progressions for big bodyweight movements that make the foundation of a functional body. In this class you will learn a variety of calisthenics skills such as muscle ups\, levers\, handstands and pistol squats to name a couple. \nIt’s all about improving form on and off the wall\, and having fun!
URL:https://portsideboulders.com.au/event/calisthenics-3-2-2/2026-10-13/
LOCATION:Portside Boulders Osborne Park\, warehouse e/73 Walters Dr\, Osborne Park\, WA\, 6017\, Australia
ATTACH;FMTTYPE=image/jpeg:https://portsideboulders.com.au/wp-content/uploads/2023/07/DSCF6496-1-scaled.jpg
END:VEVENT
BEGIN:VEVENT
DTSTART;TZID=Asia/Shanghai:20261019T183000
DTEND;TZID=Asia/Shanghai:20261019T193000
DTSTAMP:20260423T131951
CREATED:20241029T080057Z
LAST-MODIFIED:20251029T052115Z
UID:10013154-1792434600-1792438200@portsideboulders.com.au
SUMMARY:Calisthenics
DESCRIPTION:Oscar will guide you through learning a variety of calisthenics skills. Muscle ups\, levers\, handstands and pistol squats to name a couple. \nIt’s all about improving form on and off the wall\, and having fun!
URL:https://portsideboulders.com.au/event/calisthenics-2-2/2026-10-19/
LOCATION:Portside Boulders Willetton\, 8 Kembla Way\, Perth\, WA\, 6155\, Australia
ATTACH;FMTTYPE=image/jpeg:https://portsideboulders.com.au/wp-content/uploads/2023/07/DSCF6577-scaled.jpg
END:VEVENT
BEGIN:VEVENT
DTSTART;TZID=Asia/Shanghai:20261020T183000
DTEND;TZID=Asia/Shanghai:20261020T193000
DTSTAMP:20260423T131951
CREATED:20251029T052502Z
LAST-MODIFIED:20251029T063509Z
UID:10000456-1792521000-1792524600@portsideboulders.com.au
SUMMARY:Calisthenics
DESCRIPTION:Learn the proper progressions for big bodyweight movements that make the foundation of a functional body. In this class you will learn a variety of calisthenics skills such as muscle ups\, levers\, handstands and pistol squats to name a couple. \nIt’s all about improving form on and off the wall\, and having fun!
URL:https://portsideboulders.com.au/event/calisthenics-3-2-2/2026-10-20/
LOCATION:Portside Boulders Osborne Park\, warehouse e/73 Walters Dr\, Osborne Park\, WA\, 6017\, Australia
ATTACH;FMTTYPE=image/jpeg:https://portsideboulders.com.au/wp-content/uploads/2023/07/DSCF6496-1-scaled.jpg
END:VEVENT
BEGIN:VEVENT
DTSTART;TZID=Asia/Shanghai:20261026T183000
DTEND;TZID=Asia/Shanghai:20261026T193000
DTSTAMP:20260423T131951
CREATED:20241029T080057Z
LAST-MODIFIED:20251029T052115Z
UID:10013155-1793039400-1793043000@portsideboulders.com.au
SUMMARY:Calisthenics
DESCRIPTION:Oscar will guide you through learning a variety of calisthenics skills. Muscle ups\, levers\, handstands and pistol squats to name a couple. \nIt’s all about improving form on and off the wall\, and having fun!
URL:https://portsideboulders.com.au/event/calisthenics-2-2/2026-10-26/
LOCATION:Portside Boulders Willetton\, 8 Kembla Way\, Perth\, WA\, 6155\, Australia
ATTACH;FMTTYPE=image/jpeg:https://portsideboulders.com.au/wp-content/uploads/2023/07/DSCF6577-scaled.jpg
END:VEVENT
BEGIN:VEVENT
DTSTART;TZID=Asia/Shanghai:20261027T183000
DTEND;TZID=Asia/Shanghai:20261027T193000
DTSTAMP:20260423T131951
CREATED:20251029T052502Z
LAST-MODIFIED:20251029T063509Z
UID:10000457-1793125800-1793129400@portsideboulders.com.au
SUMMARY:Calisthenics
DESCRIPTION:Learn the proper progressions for big bodyweight movements that make the foundation of a functional body. In this class you will learn a variety of calisthenics skills such as muscle ups\, levers\, handstands and pistol squats to name a couple. \nIt’s all about improving form on and off the wall\, and having fun!
URL:https://portsideboulders.com.au/event/calisthenics-3-2-2/2026-10-27/
LOCATION:Portside Boulders Osborne Park\, warehouse e/73 Walters Dr\, Osborne Park\, WA\, 6017\, Australia
ATTACH;FMTTYPE=image/jpeg:https://portsideboulders.com.au/wp-content/uploads/2023/07/DSCF6496-1-scaled.jpg
END:VEVENT
END:VCALENDAR