BEGIN:VCALENDAR
VERSION:2.0
PRODID:-//Portside Boulders - ECPv6.15.17.1//NONSGML v1.0//EN
CALSCALE:GREGORIAN
METHOD:PUBLISH
X-ORIGINAL-URL:https://portsideboulders.com.au
X-WR-CALDESC:Events for Portside Boulders
REFRESH-INTERVAL;VALUE=DURATION:PT1H
X-Robots-Tag:noindex
X-PUBLISHED-TTL:PT1H
BEGIN:VTIMEZONE
TZID:Asia/Shanghai
BEGIN:STANDARD
TZOFFSETFROM:+0800
TZOFFSETTO:+0800
TZNAME:CST
DTSTART:20270101T000000
END:STANDARD
END:VTIMEZONE
BEGIN:VEVENT
DTSTART;TZID=Asia/Shanghai:20281101T183000
DTEND;TZID=Asia/Shanghai:20281101T193000
DTSTAMP:20260424T054517
CREATED:20230706T040930Z
LAST-MODIFIED:20240311T074603Z
UID:10011620-1856716200-1856719800@portsideboulders.com.au
SUMMARY:Power Yoga
DESCRIPTION:A fast-paced and intense style of yoga that’s focused on building strength and endurance\, linking your breath to the different movements of your body.
URL:https://portsideboulders.com.au/event/power-yoga/2028-11-01/
LOCATION:Portside Boulders O’Connor\, 12 Murphy St\, O'Connor\, WA\, 6163\, Australia
ATTACH;FMTTYPE=image/jpeg:https://portsideboulders.com.au/wp-content/uploads/2023/07/Yoga-OC-14-scaled.jpg
END:VEVENT
BEGIN:VEVENT
DTSTART;VALUE=DATE:20281103
DTEND;VALUE=DATE:20281104
DTSTAMP:20260424T054517
CREATED:20230719T035540Z
LAST-MODIFIED:20260123T034118Z
UID:10011488-1856822400-1856908799@portsideboulders.com.au
SUMMARY:Student Fridays
DESCRIPTION:Every Friday we offer $16 entry for students to each Portside with any valid student ID. \nNote: this does not include chalk ($3) and shoe ($7) hire. \nWe also have a BBQ that runs from approximately 6pm-7:30pm. \nSo come on down\, and bring your mates! To speed things up\, make sure you get anyone new you’d like to fill out the waiver in advance.
URL:https://portsideboulders.com.au/event/student-fridays-2/2028-11-03/
LOCATION:Portside Boulders O’Connor\, 12 Murphy St\, O'Connor\, WA\, 6163\, Australia
ATTACH;FMTTYPE=image/jpeg:https://portsideboulders.com.au/wp-content/uploads/2024/02/student-night.jpg
END:VEVENT
BEGIN:VEVENT
DTSTART;TZID=Asia/Shanghai:20281104T083000
DTEND;TZID=Asia/Shanghai:20281104T093000
DTSTAMP:20260424T054517
CREATED:20230228T023951Z
LAST-MODIFIED:20240311T074007Z
UID:10011836-1856939400-1856943000@portsideboulders.com.au
SUMMARY:Revitalising Yin & Yang Yoga
DESCRIPTION:Yin Yoga is a slower practice where poses are passively held for longer. Yin relates to the deep connective tissues and joints in the body. Yang Yoga\, in contrast\, refers to a more active practice. This works on the (Yang) muscles and blood flow\, building strength\, stamina and flexibility. Combining both Yin and Yang Yoga in one class provides a balanced practice and can have a powerful effect on energy levels!
URL:https://portsideboulders.com.au/event/revitalising-yin-yang-yoga-2/2028-11-04/
LOCATION:Portside Boulders O’Connor\, 12 Murphy St\, O'Connor\, WA\, 6163\, Australia
ATTACH;FMTTYPE=image/jpeg:https://portsideboulders.com.au/wp-content/uploads/2023/07/YogaSelects-29-scaled.jpg
END:VEVENT
BEGIN:VEVENT
DTSTART;TZID=Asia/Shanghai:20281104T100000
DTEND;TZID=Asia/Shanghai:20281104T110000
DTSTAMP:20260424T054517
CREATED:20230706T051222Z
LAST-MODIFIED:20240311T074121Z
UID:10011867-1856944800-1856948400@portsideboulders.com.au
SUMMARY:Revitalising Yin & Yang Yoga
DESCRIPTION:Yin Yoga is a slower practice where poses are passively held for longer. Yin relates to the deep connective tissues and joints in the body. Yang Yoga\, in contrast\, refers to a more active practice. This works on the (Yang) muscles and blood flow\, building strength\, stamina and flexibility. Combining both Yin and Yang Yoga in one class provides a balanced practice and can have a powerful effect on energy levels!
URL:https://portsideboulders.com.au/event/revitalising-yin-yang-yoga/2028-11-04/
LOCATION:Portside Boulders O’Connor\, 12 Murphy St\, O'Connor\, WA\, 6163\, Australia
ATTACH;FMTTYPE=image/jpeg:https://portsideboulders.com.au/wp-content/uploads/2023/07/Ash-OC-19-Copy-scaled.jpg
END:VEVENT
BEGIN:VEVENT
DTSTART;TZID=Asia/Shanghai:20281107T180000
DTEND;TZID=Asia/Shanghai:20281107T193000
DTSTAMP:20260424T054517
CREATED:20241129T021655Z
LAST-MODIFIED:20241129T021655Z
UID:10010958-1857232800-1857238200@portsideboulders.com.au
SUMMARY:Boulder Stronger
DESCRIPTION:This is a comprehensive\, customised training program designed by our head coach and contains one face-to-face session each week\, as well as two homework sessions a week. \nYou’ll focus on advanced climbing techniques\, as well as tailor-made strength-work. If you’re looking to really elevate your climbing abilities or train for competition climbing\, this is the program for you! \nPortside Members – $39.95 p/w\nNon-Members – $49.95 p/w \nAll our Bouldering Classes are run by Axis Coaching. \nAxis are a professional coaching service\, and have been integrated into Portside since 2017.\nTheir mission is to help boulderers improve their performance both on and off the wall.
URL:https://portsideboulders.com.au/event/boulder-stronger-2-2/2028-11-07/
LOCATION:Portside Boulders O’Connor\, 12 Murphy St\, O'Connor\, WA\, 6163\, Australia
ATTACH;FMTTYPE=image/png:https://portsideboulders.com.au/wp-content/uploads/2023/07/Boulder-Stronger.png
END:VEVENT
BEGIN:VEVENT
DTSTART;TZID=Asia/Shanghai:20281108T183000
DTEND;TZID=Asia/Shanghai:20281108T193000
DTSTAMP:20260424T054517
CREATED:20230706T040930Z
LAST-MODIFIED:20240311T074603Z
UID:10011621-1857321000-1857324600@portsideboulders.com.au
SUMMARY:Power Yoga
DESCRIPTION:A fast-paced and intense style of yoga that’s focused on building strength and endurance\, linking your breath to the different movements of your body.
URL:https://portsideboulders.com.au/event/power-yoga/2028-11-08/
LOCATION:Portside Boulders O’Connor\, 12 Murphy St\, O'Connor\, WA\, 6163\, Australia
ATTACH;FMTTYPE=image/jpeg:https://portsideboulders.com.au/wp-content/uploads/2023/07/Yoga-OC-14-scaled.jpg
END:VEVENT
BEGIN:VEVENT
DTSTART;VALUE=DATE:20281110
DTEND;VALUE=DATE:20281111
DTSTAMP:20260424T054517
CREATED:20230719T035540Z
LAST-MODIFIED:20260123T034118Z
UID:10011489-1857427200-1857513599@portsideboulders.com.au
SUMMARY:Student Fridays
DESCRIPTION:Every Friday we offer $16 entry for students to each Portside with any valid student ID. \nNote: this does not include chalk ($3) and shoe ($7) hire. \nWe also have a BBQ that runs from approximately 6pm-7:30pm. \nSo come on down\, and bring your mates! To speed things up\, make sure you get anyone new you’d like to fill out the waiver in advance.
URL:https://portsideboulders.com.au/event/student-fridays-2/2028-11-10/
LOCATION:Portside Boulders O’Connor\, 12 Murphy St\, O'Connor\, WA\, 6163\, Australia
ATTACH;FMTTYPE=image/jpeg:https://portsideboulders.com.au/wp-content/uploads/2024/02/student-night.jpg
END:VEVENT
BEGIN:VEVENT
DTSTART;TZID=Asia/Shanghai:20281111T083000
DTEND;TZID=Asia/Shanghai:20281111T093000
DTSTAMP:20260424T054517
CREATED:20230228T023951Z
LAST-MODIFIED:20240311T074007Z
UID:10011837-1857544200-1857547800@portsideboulders.com.au
SUMMARY:Revitalising Yin & Yang Yoga
DESCRIPTION:Yin Yoga is a slower practice where poses are passively held for longer. Yin relates to the deep connective tissues and joints in the body. Yang Yoga\, in contrast\, refers to a more active practice. This works on the (Yang) muscles and blood flow\, building strength\, stamina and flexibility. Combining both Yin and Yang Yoga in one class provides a balanced practice and can have a powerful effect on energy levels!
URL:https://portsideboulders.com.au/event/revitalising-yin-yang-yoga-2/2028-11-11/
LOCATION:Portside Boulders O’Connor\, 12 Murphy St\, O'Connor\, WA\, 6163\, Australia
ATTACH;FMTTYPE=image/jpeg:https://portsideboulders.com.au/wp-content/uploads/2023/07/YogaSelects-29-scaled.jpg
END:VEVENT
BEGIN:VEVENT
DTSTART;TZID=Asia/Shanghai:20281111T100000
DTEND;TZID=Asia/Shanghai:20281111T110000
DTSTAMP:20260424T054517
CREATED:20230706T051222Z
LAST-MODIFIED:20240311T074121Z
UID:10011868-1857549600-1857553200@portsideboulders.com.au
SUMMARY:Revitalising Yin & Yang Yoga
DESCRIPTION:Yin Yoga is a slower practice where poses are passively held for longer. Yin relates to the deep connective tissues and joints in the body. Yang Yoga\, in contrast\, refers to a more active practice. This works on the (Yang) muscles and blood flow\, building strength\, stamina and flexibility. Combining both Yin and Yang Yoga in one class provides a balanced practice and can have a powerful effect on energy levels!
URL:https://portsideboulders.com.au/event/revitalising-yin-yang-yoga/2028-11-11/
LOCATION:Portside Boulders O’Connor\, 12 Murphy St\, O'Connor\, WA\, 6163\, Australia
ATTACH;FMTTYPE=image/jpeg:https://portsideboulders.com.au/wp-content/uploads/2023/07/Ash-OC-19-Copy-scaled.jpg
END:VEVENT
BEGIN:VEVENT
DTSTART;TZID=Asia/Shanghai:20281114T180000
DTEND;TZID=Asia/Shanghai:20281114T193000
DTSTAMP:20260424T054517
CREATED:20241129T021655Z
LAST-MODIFIED:20241129T021655Z
UID:10010959-1857837600-1857843000@portsideboulders.com.au
SUMMARY:Boulder Stronger
DESCRIPTION:This is a comprehensive\, customised training program designed by our head coach and contains one face-to-face session each week\, as well as two homework sessions a week. \nYou’ll focus on advanced climbing techniques\, as well as tailor-made strength-work. If you’re looking to really elevate your climbing abilities or train for competition climbing\, this is the program for you! \nPortside Members – $39.95 p/w\nNon-Members – $49.95 p/w \nAll our Bouldering Classes are run by Axis Coaching. \nAxis are a professional coaching service\, and have been integrated into Portside since 2017.\nTheir mission is to help boulderers improve their performance both on and off the wall.
URL:https://portsideboulders.com.au/event/boulder-stronger-2-2/2028-11-14/
LOCATION:Portside Boulders O’Connor\, 12 Murphy St\, O'Connor\, WA\, 6163\, Australia
ATTACH;FMTTYPE=image/png:https://portsideboulders.com.au/wp-content/uploads/2023/07/Boulder-Stronger.png
END:VEVENT
BEGIN:VEVENT
DTSTART;TZID=Asia/Shanghai:20281115T183000
DTEND;TZID=Asia/Shanghai:20281115T193000
DTSTAMP:20260424T054517
CREATED:20230706T040930Z
LAST-MODIFIED:20240311T074603Z
UID:10011622-1857925800-1857929400@portsideboulders.com.au
SUMMARY:Power Yoga
DESCRIPTION:A fast-paced and intense style of yoga that’s focused on building strength and endurance\, linking your breath to the different movements of your body.
URL:https://portsideboulders.com.au/event/power-yoga/2028-11-15/
LOCATION:Portside Boulders O’Connor\, 12 Murphy St\, O'Connor\, WA\, 6163\, Australia
ATTACH;FMTTYPE=image/jpeg:https://portsideboulders.com.au/wp-content/uploads/2023/07/Yoga-OC-14-scaled.jpg
END:VEVENT
BEGIN:VEVENT
DTSTART;VALUE=DATE:20281117
DTEND;VALUE=DATE:20281118
DTSTAMP:20260424T054517
CREATED:20230719T035540Z
LAST-MODIFIED:20260123T034118Z
UID:10011490-1858032000-1858118399@portsideboulders.com.au
SUMMARY:Student Fridays
DESCRIPTION:Every Friday we offer $16 entry for students to each Portside with any valid student ID. \nNote: this does not include chalk ($3) and shoe ($7) hire. \nWe also have a BBQ that runs from approximately 6pm-7:30pm. \nSo come on down\, and bring your mates! To speed things up\, make sure you get anyone new you’d like to fill out the waiver in advance.
URL:https://portsideboulders.com.au/event/student-fridays-2/2028-11-17/
LOCATION:Portside Boulders O’Connor\, 12 Murphy St\, O'Connor\, WA\, 6163\, Australia
ATTACH;FMTTYPE=image/jpeg:https://portsideboulders.com.au/wp-content/uploads/2024/02/student-night.jpg
END:VEVENT
BEGIN:VEVENT
DTSTART;TZID=Asia/Shanghai:20281118T083000
DTEND;TZID=Asia/Shanghai:20281118T093000
DTSTAMP:20260424T054517
CREATED:20230228T023951Z
LAST-MODIFIED:20240311T074007Z
UID:10011838-1858149000-1858152600@portsideboulders.com.au
SUMMARY:Revitalising Yin & Yang Yoga
DESCRIPTION:Yin Yoga is a slower practice where poses are passively held for longer. Yin relates to the deep connective tissues and joints in the body. Yang Yoga\, in contrast\, refers to a more active practice. This works on the (Yang) muscles and blood flow\, building strength\, stamina and flexibility. Combining both Yin and Yang Yoga in one class provides a balanced practice and can have a powerful effect on energy levels!
URL:https://portsideboulders.com.au/event/revitalising-yin-yang-yoga-2/2028-11-18/
LOCATION:Portside Boulders O’Connor\, 12 Murphy St\, O'Connor\, WA\, 6163\, Australia
ATTACH;FMTTYPE=image/jpeg:https://portsideboulders.com.au/wp-content/uploads/2023/07/YogaSelects-29-scaled.jpg
END:VEVENT
BEGIN:VEVENT
DTSTART;TZID=Asia/Shanghai:20281118T100000
DTEND;TZID=Asia/Shanghai:20281118T110000
DTSTAMP:20260424T054517
CREATED:20230706T051222Z
LAST-MODIFIED:20240311T074121Z
UID:10011869-1858154400-1858158000@portsideboulders.com.au
SUMMARY:Revitalising Yin & Yang Yoga
DESCRIPTION:Yin Yoga is a slower practice where poses are passively held for longer. Yin relates to the deep connective tissues and joints in the body. Yang Yoga\, in contrast\, refers to a more active practice. This works on the (Yang) muscles and blood flow\, building strength\, stamina and flexibility. Combining both Yin and Yang Yoga in one class provides a balanced practice and can have a powerful effect on energy levels!
URL:https://portsideboulders.com.au/event/revitalising-yin-yang-yoga/2028-11-18/
LOCATION:Portside Boulders O’Connor\, 12 Murphy St\, O'Connor\, WA\, 6163\, Australia
ATTACH;FMTTYPE=image/jpeg:https://portsideboulders.com.au/wp-content/uploads/2023/07/Ash-OC-19-Copy-scaled.jpg
END:VEVENT
BEGIN:VEVENT
DTSTART;TZID=Asia/Shanghai:20281121T180000
DTEND;TZID=Asia/Shanghai:20281121T193000
DTSTAMP:20260424T054517
CREATED:20241129T021655Z
LAST-MODIFIED:20241129T021655Z
UID:10010960-1858442400-1858447800@portsideboulders.com.au
SUMMARY:Boulder Stronger
DESCRIPTION:This is a comprehensive\, customised training program designed by our head coach and contains one face-to-face session each week\, as well as two homework sessions a week. \nYou’ll focus on advanced climbing techniques\, as well as tailor-made strength-work. If you’re looking to really elevate your climbing abilities or train for competition climbing\, this is the program for you! \nPortside Members – $39.95 p/w\nNon-Members – $49.95 p/w \nAll our Bouldering Classes are run by Axis Coaching. \nAxis are a professional coaching service\, and have been integrated into Portside since 2017.\nTheir mission is to help boulderers improve their performance both on and off the wall.
URL:https://portsideboulders.com.au/event/boulder-stronger-2-2/2028-11-21/
LOCATION:Portside Boulders O’Connor\, 12 Murphy St\, O'Connor\, WA\, 6163\, Australia
ATTACH;FMTTYPE=image/png:https://portsideboulders.com.au/wp-content/uploads/2023/07/Boulder-Stronger.png
END:VEVENT
BEGIN:VEVENT
DTSTART;TZID=Asia/Shanghai:20281121T190000
DTEND;TZID=Asia/Shanghai:20281121T200000
DTSTAMP:20260424T054517
CREATED:20250603T050457Z
LAST-MODIFIED:20260123T034636Z
UID:10012880-1858446000-1858449600@portsideboulders.com.au
SUMMARY:Climb Like A Girl
DESCRIPTION:A relaxed social session for women* of all levels. Move\, climb\, connect — no bookings needed\, just show up and hang out. \n$15.90 entry\, Portside members free. \n*Women includes trans\, gender diverse and cisgender women. \nWilletton – First Tuesday of the Month\nJoondalup – Second Thursday\nO’Connor – Third Tuesday\nOsborne Park – Fourth Thursday \nJoin our Climb Like A Girl Whatsapp Group Chat! Here we chat about how our sessions went and send out any updates or new things we might be doing.
URL:https://portsideboulders.com.au/event/climb-like-a-girl-4/2028-11-21/
LOCATION:Portside Boulders O’Connor\, 12 Murphy St\, O'Connor\, WA\, 6163\, Australia
ATTACH;FMTTYPE=image/png:https://portsideboulders.com.au/wp-content/uploads/2025/06/CLAG-OC.png
END:VEVENT
BEGIN:VEVENT
DTSTART;TZID=Asia/Shanghai:20281122T183000
DTEND;TZID=Asia/Shanghai:20281122T193000
DTSTAMP:20260424T054517
CREATED:20230706T040930Z
LAST-MODIFIED:20240311T074603Z
UID:10011623-1858530600-1858534200@portsideboulders.com.au
SUMMARY:Power Yoga
DESCRIPTION:A fast-paced and intense style of yoga that’s focused on building strength and endurance\, linking your breath to the different movements of your body.
URL:https://portsideboulders.com.au/event/power-yoga/2028-11-22/
LOCATION:Portside Boulders O’Connor\, 12 Murphy St\, O'Connor\, WA\, 6163\, Australia
ATTACH;FMTTYPE=image/jpeg:https://portsideboulders.com.au/wp-content/uploads/2023/07/Yoga-OC-14-scaled.jpg
END:VEVENT
BEGIN:VEVENT
DTSTART;VALUE=DATE:20281124
DTEND;VALUE=DATE:20281125
DTSTAMP:20260424T054517
CREATED:20230719T035540Z
LAST-MODIFIED:20260123T034118Z
UID:10011491-1858636800-1858723199@portsideboulders.com.au
SUMMARY:Student Fridays
DESCRIPTION:Every Friday we offer $16 entry for students to each Portside with any valid student ID. \nNote: this does not include chalk ($3) and shoe ($7) hire. \nWe also have a BBQ that runs from approximately 6pm-7:30pm. \nSo come on down\, and bring your mates! To speed things up\, make sure you get anyone new you’d like to fill out the waiver in advance.
URL:https://portsideboulders.com.au/event/student-fridays-2/2028-11-24/
LOCATION:Portside Boulders O’Connor\, 12 Murphy St\, O'Connor\, WA\, 6163\, Australia
ATTACH;FMTTYPE=image/jpeg:https://portsideboulders.com.au/wp-content/uploads/2024/02/student-night.jpg
END:VEVENT
BEGIN:VEVENT
DTSTART;TZID=Asia/Shanghai:20281125T083000
DTEND;TZID=Asia/Shanghai:20281125T093000
DTSTAMP:20260424T054517
CREATED:20230228T023951Z
LAST-MODIFIED:20240311T074007Z
UID:10011839-1858753800-1858757400@portsideboulders.com.au
SUMMARY:Revitalising Yin & Yang Yoga
DESCRIPTION:Yin Yoga is a slower practice where poses are passively held for longer. Yin relates to the deep connective tissues and joints in the body. Yang Yoga\, in contrast\, refers to a more active practice. This works on the (Yang) muscles and blood flow\, building strength\, stamina and flexibility. Combining both Yin and Yang Yoga in one class provides a balanced practice and can have a powerful effect on energy levels!
URL:https://portsideboulders.com.au/event/revitalising-yin-yang-yoga-2/2028-11-25/
LOCATION:Portside Boulders O’Connor\, 12 Murphy St\, O'Connor\, WA\, 6163\, Australia
ATTACH;FMTTYPE=image/jpeg:https://portsideboulders.com.au/wp-content/uploads/2023/07/YogaSelects-29-scaled.jpg
END:VEVENT
BEGIN:VEVENT
DTSTART;TZID=Asia/Shanghai:20281125T100000
DTEND;TZID=Asia/Shanghai:20281125T110000
DTSTAMP:20260424T054517
CREATED:20230706T051222Z
LAST-MODIFIED:20240311T074121Z
UID:10011870-1858759200-1858762800@portsideboulders.com.au
SUMMARY:Revitalising Yin & Yang Yoga
DESCRIPTION:Yin Yoga is a slower practice where poses are passively held for longer. Yin relates to the deep connective tissues and joints in the body. Yang Yoga\, in contrast\, refers to a more active practice. This works on the (Yang) muscles and blood flow\, building strength\, stamina and flexibility. Combining both Yin and Yang Yoga in one class provides a balanced practice and can have a powerful effect on energy levels!
URL:https://portsideboulders.com.au/event/revitalising-yin-yang-yoga/2028-11-25/
LOCATION:Portside Boulders O’Connor\, 12 Murphy St\, O'Connor\, WA\, 6163\, Australia
ATTACH;FMTTYPE=image/jpeg:https://portsideboulders.com.au/wp-content/uploads/2023/07/Ash-OC-19-Copy-scaled.jpg
END:VEVENT
BEGIN:VEVENT
DTSTART;TZID=Asia/Shanghai:20281128T180000
DTEND;TZID=Asia/Shanghai:20281128T193000
DTSTAMP:20260424T054517
CREATED:20241129T021655Z
LAST-MODIFIED:20241129T021655Z
UID:10010961-1859047200-1859052600@portsideboulders.com.au
SUMMARY:Boulder Stronger
DESCRIPTION:This is a comprehensive\, customised training program designed by our head coach and contains one face-to-face session each week\, as well as two homework sessions a week. \nYou’ll focus on advanced climbing techniques\, as well as tailor-made strength-work. If you’re looking to really elevate your climbing abilities or train for competition climbing\, this is the program for you! \nPortside Members – $39.95 p/w\nNon-Members – $49.95 p/w \nAll our Bouldering Classes are run by Axis Coaching. \nAxis are a professional coaching service\, and have been integrated into Portside since 2017.\nTheir mission is to help boulderers improve their performance both on and off the wall.
URL:https://portsideboulders.com.au/event/boulder-stronger-2-2/2028-11-28/
LOCATION:Portside Boulders O’Connor\, 12 Murphy St\, O'Connor\, WA\, 6163\, Australia
ATTACH;FMTTYPE=image/png:https://portsideboulders.com.au/wp-content/uploads/2023/07/Boulder-Stronger.png
END:VEVENT
BEGIN:VEVENT
DTSTART;TZID=Asia/Shanghai:20281129T183000
DTEND;TZID=Asia/Shanghai:20281129T193000
DTSTAMP:20260424T054517
CREATED:20230706T040930Z
LAST-MODIFIED:20240311T074603Z
UID:10011624-1859135400-1859139000@portsideboulders.com.au
SUMMARY:Power Yoga
DESCRIPTION:A fast-paced and intense style of yoga that’s focused on building strength and endurance\, linking your breath to the different movements of your body.
URL:https://portsideboulders.com.au/event/power-yoga/2028-11-29/
LOCATION:Portside Boulders O’Connor\, 12 Murphy St\, O'Connor\, WA\, 6163\, Australia
ATTACH;FMTTYPE=image/jpeg:https://portsideboulders.com.au/wp-content/uploads/2023/07/Yoga-OC-14-scaled.jpg
END:VEVENT
END:VCALENDAR