BEGIN:VCALENDAR
VERSION:2.0
PRODID:-//Portside Boulders - ECPv6.15.17.1//NONSGML v1.0//EN
CALSCALE:GREGORIAN
METHOD:PUBLISH
X-WR-CALNAME:Portside Boulders
X-ORIGINAL-URL:https://portsideboulders.com.au
X-WR-CALDESC:Events for Portside Boulders
REFRESH-INTERVAL;VALUE=DURATION:PT1H
X-Robots-Tag:noindex
X-PUBLISHED-TTL:PT1H
BEGIN:VTIMEZONE
TZID:Asia/Shanghai
BEGIN:STANDARD
TZOFFSETFROM:+0800
TZOFFSETTO:+0800
TZNAME:CST
DTSTART:20280101T000000
END:STANDARD
END:VTIMEZONE
BEGIN:VEVENT
DTSTART;TZID=Asia/Shanghai:20290501T180000
DTEND;TZID=Asia/Shanghai:20290501T193000
DTSTAMP:20260424T142330
CREATED:20241129T021655Z
LAST-MODIFIED:20241129T021655Z
UID:10012200-1872352800-1872358200@portsideboulders.com.au
SUMMARY:Boulder Stronger
DESCRIPTION:This is a comprehensive\, customised training program designed by our head coach and contains one face-to-face session each week\, as well as two homework sessions a week. \nYou’ll focus on advanced climbing techniques\, as well as tailor-made strength-work. If you’re looking to really elevate your climbing abilities or train for competition climbing\, this is the program for you! \nPortside Members – $39.95 p/w\nNon-Members – $49.95 p/w \nAll our Bouldering Classes are run by Axis Coaching. \nAxis are a professional coaching service\, and have been integrated into Portside since 2017.\nTheir mission is to help boulderers improve their performance both on and off the wall.
URL:https://portsideboulders.com.au/event/boulder-stronger-2-2/2029-05-01/
LOCATION:Portside Boulders O’Connor\, 12 Murphy St\, O'Connor\, WA\, 6163\, Australia
ATTACH;FMTTYPE=image/png:https://portsideboulders.com.au/wp-content/uploads/2023/07/Boulder-Stronger.png
END:VEVENT
BEGIN:VEVENT
DTSTART;VALUE=DATE:20290504
DTEND;VALUE=DATE:20290505
DTSTAMP:20260424T142330
CREATED:20230719T035540Z
LAST-MODIFIED:20260123T034118Z
UID:10012477-1872547200-1872633599@portsideboulders.com.au
SUMMARY:Student Fridays
DESCRIPTION:Every Friday we offer $16 entry for students to each Portside with any valid student ID. \nNote: this does not include chalk ($3) and shoe ($7) hire. \nWe also have a BBQ that runs from approximately 6pm-7:30pm. \nSo come on down\, and bring your mates! To speed things up\, make sure you get anyone new you’d like to fill out the waiver in advance.
URL:https://portsideboulders.com.au/event/student-fridays-2/2029-05-04/
LOCATION:Portside Boulders O’Connor\, 12 Murphy St\, O'Connor\, WA\, 6163\, Australia
ATTACH;FMTTYPE=image/jpeg:https://portsideboulders.com.au/wp-content/uploads/2024/02/student-night.jpg
END:VEVENT
BEGIN:VEVENT
DTSTART;TZID=Asia/Shanghai:20290508T180000
DTEND;TZID=Asia/Shanghai:20290508T193000
DTSTAMP:20260424T142330
CREATED:20241129T021655Z
LAST-MODIFIED:20241129T021655Z
UID:10012201-1872957600-1872963000@portsideboulders.com.au
SUMMARY:Boulder Stronger
DESCRIPTION:This is a comprehensive\, customised training program designed by our head coach and contains one face-to-face session each week\, as well as two homework sessions a week. \nYou’ll focus on advanced climbing techniques\, as well as tailor-made strength-work. If you’re looking to really elevate your climbing abilities or train for competition climbing\, this is the program for you! \nPortside Members – $39.95 p/w\nNon-Members – $49.95 p/w \nAll our Bouldering Classes are run by Axis Coaching. \nAxis are a professional coaching service\, and have been integrated into Portside since 2017.\nTheir mission is to help boulderers improve their performance both on and off the wall.
URL:https://portsideboulders.com.au/event/boulder-stronger-2-2/2029-05-08/
LOCATION:Portside Boulders O’Connor\, 12 Murphy St\, O'Connor\, WA\, 6163\, Australia
ATTACH;FMTTYPE=image/png:https://portsideboulders.com.au/wp-content/uploads/2023/07/Boulder-Stronger.png
END:VEVENT
BEGIN:VEVENT
DTSTART;VALUE=DATE:20290511
DTEND;VALUE=DATE:20290512
DTSTAMP:20260424T142330
CREATED:20230719T035540Z
LAST-MODIFIED:20260123T034118Z
UID:10012478-1873152000-1873238399@portsideboulders.com.au
SUMMARY:Student Fridays
DESCRIPTION:Every Friday we offer $16 entry for students to each Portside with any valid student ID. \nNote: this does not include chalk ($3) and shoe ($7) hire. \nWe also have a BBQ that runs from approximately 6pm-7:30pm. \nSo come on down\, and bring your mates! To speed things up\, make sure you get anyone new you’d like to fill out the waiver in advance.
URL:https://portsideboulders.com.au/event/student-fridays-2/2029-05-11/
LOCATION:Portside Boulders O’Connor\, 12 Murphy St\, O'Connor\, WA\, 6163\, Australia
ATTACH;FMTTYPE=image/jpeg:https://portsideboulders.com.au/wp-content/uploads/2024/02/student-night.jpg
END:VEVENT
BEGIN:VEVENT
DTSTART;TZID=Asia/Shanghai:20290515T180000
DTEND;TZID=Asia/Shanghai:20290515T193000
DTSTAMP:20260424T142330
CREATED:20241129T021655Z
LAST-MODIFIED:20241129T021655Z
UID:10012202-1873562400-1873567800@portsideboulders.com.au
SUMMARY:Boulder Stronger
DESCRIPTION:This is a comprehensive\, customised training program designed by our head coach and contains one face-to-face session each week\, as well as two homework sessions a week. \nYou’ll focus on advanced climbing techniques\, as well as tailor-made strength-work. If you’re looking to really elevate your climbing abilities or train for competition climbing\, this is the program for you! \nPortside Members – $39.95 p/w\nNon-Members – $49.95 p/w \nAll our Bouldering Classes are run by Axis Coaching. \nAxis are a professional coaching service\, and have been integrated into Portside since 2017.\nTheir mission is to help boulderers improve their performance both on and off the wall.
URL:https://portsideboulders.com.au/event/boulder-stronger-2-2/2029-05-15/
LOCATION:Portside Boulders O’Connor\, 12 Murphy St\, O'Connor\, WA\, 6163\, Australia
ATTACH;FMTTYPE=image/png:https://portsideboulders.com.au/wp-content/uploads/2023/07/Boulder-Stronger.png
END:VEVENT
BEGIN:VEVENT
DTSTART;TZID=Asia/Shanghai:20290515T190000
DTEND;TZID=Asia/Shanghai:20290515T200000
DTSTAMP:20260424T142330
CREATED:20250603T050457Z
LAST-MODIFIED:20260123T034636Z
UID:10012886-1873566000-1873569600@portsideboulders.com.au
SUMMARY:Climb Like A Girl
DESCRIPTION:A relaxed social session for women* of all levels. Move\, climb\, connect — no bookings needed\, just show up and hang out. \n$15.90 entry\, Portside members free. \n*Women includes trans\, gender diverse and cisgender women. \nWilletton – First Tuesday of the Month\nJoondalup – Second Thursday\nO’Connor – Third Tuesday\nOsborne Park – Fourth Thursday \nJoin our Climb Like A Girl Whatsapp Group Chat! Here we chat about how our sessions went and send out any updates or new things we might be doing.
URL:https://portsideboulders.com.au/event/climb-like-a-girl-4/2029-05-15/
LOCATION:Portside Boulders O’Connor\, 12 Murphy St\, O'Connor\, WA\, 6163\, Australia
ATTACH;FMTTYPE=image/png:https://portsideboulders.com.au/wp-content/uploads/2025/06/CLAG-OC.png
END:VEVENT
BEGIN:VEVENT
DTSTART;VALUE=DATE:20290518
DTEND;VALUE=DATE:20290519
DTSTAMP:20260424T142330
CREATED:20230719T035540Z
LAST-MODIFIED:20260123T034118Z
UID:10012479-1873756800-1873843199@portsideboulders.com.au
SUMMARY:Student Fridays
DESCRIPTION:Every Friday we offer $16 entry for students to each Portside with any valid student ID. \nNote: this does not include chalk ($3) and shoe ($7) hire. \nWe also have a BBQ that runs from approximately 6pm-7:30pm. \nSo come on down\, and bring your mates! To speed things up\, make sure you get anyone new you’d like to fill out the waiver in advance.
URL:https://portsideboulders.com.au/event/student-fridays-2/2029-05-18/
LOCATION:Portside Boulders O’Connor\, 12 Murphy St\, O'Connor\, WA\, 6163\, Australia
ATTACH;FMTTYPE=image/jpeg:https://portsideboulders.com.au/wp-content/uploads/2024/02/student-night.jpg
END:VEVENT
BEGIN:VEVENT
DTSTART;TZID=Asia/Shanghai:20290522T180000
DTEND;TZID=Asia/Shanghai:20290522T193000
DTSTAMP:20260424T142330
CREATED:20241129T021655Z
LAST-MODIFIED:20241129T021655Z
UID:10012203-1874167200-1874172600@portsideboulders.com.au
SUMMARY:Boulder Stronger
DESCRIPTION:This is a comprehensive\, customised training program designed by our head coach and contains one face-to-face session each week\, as well as two homework sessions a week. \nYou’ll focus on advanced climbing techniques\, as well as tailor-made strength-work. If you’re looking to really elevate your climbing abilities or train for competition climbing\, this is the program for you! \nPortside Members – $39.95 p/w\nNon-Members – $49.95 p/w \nAll our Bouldering Classes are run by Axis Coaching. \nAxis are a professional coaching service\, and have been integrated into Portside since 2017.\nTheir mission is to help boulderers improve their performance both on and off the wall.
URL:https://portsideboulders.com.au/event/boulder-stronger-2-2/2029-05-22/
LOCATION:Portside Boulders O’Connor\, 12 Murphy St\, O'Connor\, WA\, 6163\, Australia
ATTACH;FMTTYPE=image/png:https://portsideboulders.com.au/wp-content/uploads/2023/07/Boulder-Stronger.png
END:VEVENT
BEGIN:VEVENT
DTSTART;VALUE=DATE:20290525
DTEND;VALUE=DATE:20290526
DTSTAMP:20260424T142330
CREATED:20230719T035540Z
LAST-MODIFIED:20260123T034118Z
UID:10012480-1874361600-1874447999@portsideboulders.com.au
SUMMARY:Student Fridays
DESCRIPTION:Every Friday we offer $16 entry for students to each Portside with any valid student ID. \nNote: this does not include chalk ($3) and shoe ($7) hire. \nWe also have a BBQ that runs from approximately 6pm-7:30pm. \nSo come on down\, and bring your mates! To speed things up\, make sure you get anyone new you’d like to fill out the waiver in advance.
URL:https://portsideboulders.com.au/event/student-fridays-2/2029-05-25/
LOCATION:Portside Boulders O’Connor\, 12 Murphy St\, O'Connor\, WA\, 6163\, Australia
ATTACH;FMTTYPE=image/jpeg:https://portsideboulders.com.au/wp-content/uploads/2024/02/student-night.jpg
END:VEVENT
BEGIN:VEVENT
DTSTART;TZID=Asia/Shanghai:20290529T180000
DTEND;TZID=Asia/Shanghai:20290529T193000
DTSTAMP:20260424T142330
CREATED:20241129T021655Z
LAST-MODIFIED:20241129T021655Z
UID:10012204-1874772000-1874777400@portsideboulders.com.au
SUMMARY:Boulder Stronger
DESCRIPTION:This is a comprehensive\, customised training program designed by our head coach and contains one face-to-face session each week\, as well as two homework sessions a week. \nYou’ll focus on advanced climbing techniques\, as well as tailor-made strength-work. If you’re looking to really elevate your climbing abilities or train for competition climbing\, this is the program for you! \nPortside Members – $39.95 p/w\nNon-Members – $49.95 p/w \nAll our Bouldering Classes are run by Axis Coaching. \nAxis are a professional coaching service\, and have been integrated into Portside since 2017.\nTheir mission is to help boulderers improve their performance both on and off the wall.
URL:https://portsideboulders.com.au/event/boulder-stronger-2-2/2029-05-29/
LOCATION:Portside Boulders O’Connor\, 12 Murphy St\, O'Connor\, WA\, 6163\, Australia
ATTACH;FMTTYPE=image/png:https://portsideboulders.com.au/wp-content/uploads/2023/07/Boulder-Stronger.png
END:VEVENT
END:VCALENDAR