BEGIN:VCALENDAR
VERSION:2.0
PRODID:-//Portside Boulders - ECPv6.15.17.1//NONSGML v1.0//EN
CALSCALE:GREGORIAN
METHOD:PUBLISH
X-ORIGINAL-URL:https://portsideboulders.com.au
X-WR-CALDESC:Events for Portside Boulders
REFRESH-INTERVAL;VALUE=DURATION:PT1H
X-Robots-Tag:noindex
X-PUBLISHED-TTL:PT1H
BEGIN:VTIMEZONE
TZID:Australia/Perth
BEGIN:STANDARD
TZOFFSETFROM:+0800
TZOFFSETTO:+0800
TZNAME:AWST
DTSTART:20230101T000000
END:STANDARD
END:VTIMEZONE
BEGIN:VTIMEZONE
TZID:Asia/Shanghai
BEGIN:STANDARD
TZOFFSETFROM:+0800
TZOFFSETTO:+0800
TZNAME:CST
DTSTART:20230101T000000
END:STANDARD
END:VTIMEZONE
BEGIN:VEVENT
DTSTART;TZID=Australia/Perth:20240902T183000
DTEND;TZID=Australia/Perth:20240902T193000
DTSTAMP:20260423T132018
CREATED:20230706T042815Z
LAST-MODIFIED:20251028T003935Z
UID:10000083-1725301800-1725305400@portsideboulders.com.au
SUMMARY:Hatha Yoga
DESCRIPTION:Hatha Yoga is a gentle\, purposeful practice that combines breath\, movement\, and stillness to build strength\, flexibility\, and inner calm. Perfect for beginners and experienced yogis alike\, it’s about slowing down\, tuning in\, and creating balance—on and off the mat.
URL:https://portsideboulders.com.au/event/power-yoga-2/2024-09-02/
LOCATION:Portside Boulders Osborne Park\, warehouse e/73 Walters Dr\, Osborne Park\, WA\, 6017\, Australia
ATTACH;FMTTYPE=image/jpeg:https://portsideboulders.com.au/wp-content/uploads/2023/07/Yoga-OC-14-scaled.jpg
END:VEVENT
BEGIN:VEVENT
DTSTART;TZID=Asia/Shanghai:20240903T183000
DTEND;TZID=Asia/Shanghai:20240903T193000
DTSTAMP:20260423T132018
CREATED:20230706T042747Z
LAST-MODIFIED:20240311T073457Z
UID:10000345-1725388200-1725391800@portsideboulders.com.au
SUMMARY:Calisthenics
DESCRIPTION:Learn the proper progressions for big bodyweight movements that make the foundation of a functional body. In this class you will learn a variety of calisthenics skills such as muscle ups\, levers\, handstands and pistol squats to name a couple. \nIt’s all about improving form on and off the wall\, and having fun!
URL:https://portsideboulders.com.au/event/calisthenics/2024-09-03/
LOCATION:Portside Boulders Osborne Park\, warehouse e/73 Walters Dr\, Osborne Park\, WA\, 6017\, Australia
ATTACH;FMTTYPE=image/jpeg:https://portsideboulders.com.au/wp-content/uploads/2023/07/DSCF6496-1-scaled.jpg
END:VEVENT
BEGIN:VEVENT
DTSTART;TZID=Asia/Shanghai:20240905T180000
DTEND;TZID=Asia/Shanghai:20240905T193000
DTSTAMP:20260423T132018
CREATED:20230706T053239Z
LAST-MODIFIED:20240408T005503Z
UID:10005679-1725559200-1725564600@portsideboulders.com.au
SUMMARY:Boulder Stronger
DESCRIPTION:This is a comprehensive\, customised training program designed by our head coach and contains one face-to-face session each week\, as well as two homework sessions a week. \nYou’ll focus on advanced climbing techniques\, as well as tailor-made strength-work. If you’re looking to really elevate your climbing abilities or train for competition climbing\, this is the program for you! \nPortside Members – $39.95 p/w\nNon-Members – $49.95 p/w \nAll our Bouldering Classes are run by Axis Coaching. \nAxis are a professional coaching service\, and have been integrated into Portside since 2017.\nTheir mission is to help boulderers improve their performance both on and off the wall.
URL:https://portsideboulders.com.au/event/boulder-stronger/2024-09-05/
LOCATION:Portside Boulders Osborne Park\, warehouse e/73 Walters Dr\, Osborne Park\, WA\, 6017\, Australia
ATTACH;FMTTYPE=image/png:https://portsideboulders.com.au/wp-content/uploads/2023/07/Boulder-Stronger.png
END:VEVENT
BEGIN:VEVENT
DTSTART;TZID=Asia/Shanghai:20240905T183000
DTEND;TZID=Asia/Shanghai:20240905T193000
DTSTAMP:20260423T132018
CREATED:20230706T041014Z
LAST-MODIFIED:20240311T073607Z
UID:10002208-1725561000-1725564600@portsideboulders.com.au
SUMMARY:Strength & Conditioning
DESCRIPTION:Increase your overall climbing strength and performance and build functional strength on and off the wall. \nIt’s all about improving form on and off the wall\, and having fun!
URL:https://portsideboulders.com.au/event/strength-conditioning/2024-09-05/
LOCATION:Portside Boulders Osborne Park\, warehouse e/73 Walters Dr\, Osborne Park\, WA\, 6017\, Australia
ATTACH;FMTTYPE=image/jpeg:https://portsideboulders.com.au/wp-content/uploads/2023/07/DSCF6586-scaled.jpg
END:VEVENT
BEGIN:VEVENT
DTSTART;VALUE=DATE:20240906
DTEND;VALUE=DATE:20240907
DTSTAMP:20260423T132018
CREATED:20240226T074543Z
LAST-MODIFIED:20260123T033936Z
UID:10006127-1725580800-1725667199@portsideboulders.com.au
SUMMARY:Student Fridays
DESCRIPTION:Every Friday we offer $16 entry for students to each Portside with any valid student ID. \nNote: this does not include chalk ($3) and shoe ($7) hire. \nWe also have a BBQ that runs from approximately 6pm-7:30pm. \nSo come on down\, and bring your mates! To speed things up\, make sure you get anyone new you’d like to fill out the waiver in advance.
URL:https://portsideboulders.com.au/event/student-fridays-3-2/2024-09-06/
LOCATION:Portside Boulders Osborne Park\, warehouse e/73 Walters Dr\, Osborne Park\, WA\, 6017\, Australia
ATTACH;FMTTYPE=image/jpeg:https://portsideboulders.com.au/wp-content/uploads/2024/02/student-night.jpg
END:VEVENT
BEGIN:VEVENT
DTSTART;TZID=Australia/Perth:20240909T183000
DTEND;TZID=Australia/Perth:20240909T193000
DTSTAMP:20260423T132018
CREATED:20230706T042815Z
LAST-MODIFIED:20251028T003935Z
UID:10000084-1725906600-1725910200@portsideboulders.com.au
SUMMARY:Hatha Yoga
DESCRIPTION:Hatha Yoga is a gentle\, purposeful practice that combines breath\, movement\, and stillness to build strength\, flexibility\, and inner calm. Perfect for beginners and experienced yogis alike\, it’s about slowing down\, tuning in\, and creating balance—on and off the mat.
URL:https://portsideboulders.com.au/event/power-yoga-2/2024-09-09/
LOCATION:Portside Boulders Osborne Park\, warehouse e/73 Walters Dr\, Osborne Park\, WA\, 6017\, Australia
ATTACH;FMTTYPE=image/jpeg:https://portsideboulders.com.au/wp-content/uploads/2023/07/Yoga-OC-14-scaled.jpg
END:VEVENT
BEGIN:VEVENT
DTSTART;TZID=Asia/Shanghai:20240910T183000
DTEND;TZID=Asia/Shanghai:20240910T193000
DTSTAMP:20260423T132018
CREATED:20230706T042747Z
LAST-MODIFIED:20240311T073457Z
UID:10000346-1725993000-1725996600@portsideboulders.com.au
SUMMARY:Calisthenics
DESCRIPTION:Learn the proper progressions for big bodyweight movements that make the foundation of a functional body. In this class you will learn a variety of calisthenics skills such as muscle ups\, levers\, handstands and pistol squats to name a couple. \nIt’s all about improving form on and off the wall\, and having fun!
URL:https://portsideboulders.com.au/event/calisthenics/2024-09-10/
LOCATION:Portside Boulders Osborne Park\, warehouse e/73 Walters Dr\, Osborne Park\, WA\, 6017\, Australia
ATTACH;FMTTYPE=image/jpeg:https://portsideboulders.com.au/wp-content/uploads/2023/07/DSCF6496-1-scaled.jpg
END:VEVENT
BEGIN:VEVENT
DTSTART;TZID=Asia/Shanghai:20240912T180000
DTEND;TZID=Asia/Shanghai:20240912T193000
DTSTAMP:20260423T132018
CREATED:20230706T053239Z
LAST-MODIFIED:20240408T005503Z
UID:10005680-1726164000-1726169400@portsideboulders.com.au
SUMMARY:Boulder Stronger
DESCRIPTION:This is a comprehensive\, customised training program designed by our head coach and contains one face-to-face session each week\, as well as two homework sessions a week. \nYou’ll focus on advanced climbing techniques\, as well as tailor-made strength-work. If you’re looking to really elevate your climbing abilities or train for competition climbing\, this is the program for you! \nPortside Members – $39.95 p/w\nNon-Members – $49.95 p/w \nAll our Bouldering Classes are run by Axis Coaching. \nAxis are a professional coaching service\, and have been integrated into Portside since 2017.\nTheir mission is to help boulderers improve their performance both on and off the wall.
URL:https://portsideboulders.com.au/event/boulder-stronger/2024-09-12/
LOCATION:Portside Boulders Osborne Park\, warehouse e/73 Walters Dr\, Osborne Park\, WA\, 6017\, Australia
ATTACH;FMTTYPE=image/png:https://portsideboulders.com.au/wp-content/uploads/2023/07/Boulder-Stronger.png
END:VEVENT
BEGIN:VEVENT
DTSTART;TZID=Asia/Shanghai:20240912T183000
DTEND;TZID=Asia/Shanghai:20240912T193000
DTSTAMP:20260423T132018
CREATED:20230706T041014Z
LAST-MODIFIED:20240311T073607Z
UID:10002209-1726165800-1726169400@portsideboulders.com.au
SUMMARY:Strength & Conditioning
DESCRIPTION:Increase your overall climbing strength and performance and build functional strength on and off the wall. \nIt’s all about improving form on and off the wall\, and having fun!
URL:https://portsideboulders.com.au/event/strength-conditioning/2024-09-12/
LOCATION:Portside Boulders Osborne Park\, warehouse e/73 Walters Dr\, Osborne Park\, WA\, 6017\, Australia
ATTACH;FMTTYPE=image/jpeg:https://portsideboulders.com.au/wp-content/uploads/2023/07/DSCF6586-scaled.jpg
END:VEVENT
BEGIN:VEVENT
DTSTART;VALUE=DATE:20240913
DTEND;VALUE=DATE:20240914
DTSTAMP:20260423T132018
CREATED:20240226T074543Z
LAST-MODIFIED:20260123T033936Z
UID:10006128-1726185600-1726271999@portsideboulders.com.au
SUMMARY:Student Fridays
DESCRIPTION:Every Friday we offer $16 entry for students to each Portside with any valid student ID. \nNote: this does not include chalk ($3) and shoe ($7) hire. \nWe also have a BBQ that runs from approximately 6pm-7:30pm. \nSo come on down\, and bring your mates! To speed things up\, make sure you get anyone new you’d like to fill out the waiver in advance.
URL:https://portsideboulders.com.au/event/student-fridays-3-2/2024-09-13/
LOCATION:Portside Boulders Osborne Park\, warehouse e/73 Walters Dr\, Osborne Park\, WA\, 6017\, Australia
ATTACH;FMTTYPE=image/jpeg:https://portsideboulders.com.au/wp-content/uploads/2024/02/student-night.jpg
END:VEVENT
BEGIN:VEVENT
DTSTART;TZID=Australia/Perth:20240916T183000
DTEND;TZID=Australia/Perth:20240916T193000
DTSTAMP:20260423T132018
CREATED:20230706T042815Z
LAST-MODIFIED:20251028T003935Z
UID:10000085-1726511400-1726515000@portsideboulders.com.au
SUMMARY:Hatha Yoga
DESCRIPTION:Hatha Yoga is a gentle\, purposeful practice that combines breath\, movement\, and stillness to build strength\, flexibility\, and inner calm. Perfect for beginners and experienced yogis alike\, it’s about slowing down\, tuning in\, and creating balance—on and off the mat.
URL:https://portsideboulders.com.au/event/power-yoga-2/2024-09-16/
LOCATION:Portside Boulders Osborne Park\, warehouse e/73 Walters Dr\, Osborne Park\, WA\, 6017\, Australia
ATTACH;FMTTYPE=image/jpeg:https://portsideboulders.com.au/wp-content/uploads/2023/07/Yoga-OC-14-scaled.jpg
END:VEVENT
BEGIN:VEVENT
DTSTART;TZID=Asia/Shanghai:20240917T183000
DTEND;TZID=Asia/Shanghai:20240917T193000
DTSTAMP:20260423T132018
CREATED:20230706T042747Z
LAST-MODIFIED:20240311T073457Z
UID:10000347-1726597800-1726601400@portsideboulders.com.au
SUMMARY:Calisthenics
DESCRIPTION:Learn the proper progressions for big bodyweight movements that make the foundation of a functional body. In this class you will learn a variety of calisthenics skills such as muscle ups\, levers\, handstands and pistol squats to name a couple. \nIt’s all about improving form on and off the wall\, and having fun!
URL:https://portsideboulders.com.au/event/calisthenics/2024-09-17/
LOCATION:Portside Boulders Osborne Park\, warehouse e/73 Walters Dr\, Osborne Park\, WA\, 6017\, Australia
ATTACH;FMTTYPE=image/jpeg:https://portsideboulders.com.au/wp-content/uploads/2023/07/DSCF6496-1-scaled.jpg
END:VEVENT
BEGIN:VEVENT
DTSTART;TZID=Asia/Shanghai:20240918T183000
DTEND;TZID=Asia/Shanghai:20240918T203000
DTSTAMP:20260423T132018
CREATED:20230719T011738Z
LAST-MODIFIED:20260123T034748Z
UID:10006019-1726684200-1726691400@portsideboulders.com.au
SUMMARY:Climb Like A Girl
DESCRIPTION:A relaxed social session for women* of all levels. Move\, climb\, connect — no bookings needed\, just show up and hang out. \n$15.90 entry\, Portside members free. \n*Women includes trans\, gender diverse and cisgender women. \nWilletton – First Tuesday of the Month\nJoondalup – Second Thursday\nO’Connor – Third Tuesday\nOsborne Park – Fourth Thursday \nJoin our Climb Like A Girl Whatsapp Group Chat! Here we chat about how our sessions went and send out any updates or new things we might be doing.
URL:https://portsideboulders.com.au/event/climb-like-a-girl-2/2024-09-18/
LOCATION:Portside Boulders Osborne Park\, warehouse e/73 Walters Dr\, Osborne Park\, WA\, 6017\, Australia
ATTACH;FMTTYPE=image/jpeg:https://portsideboulders.com.au/wp-content/uploads/2023/07/CLAG-OP.jpg
END:VEVENT
BEGIN:VEVENT
DTSTART;TZID=Asia/Shanghai:20240919T180000
DTEND;TZID=Asia/Shanghai:20240919T193000
DTSTAMP:20260423T132018
CREATED:20230706T053239Z
LAST-MODIFIED:20240408T005503Z
UID:10005681-1726768800-1726774200@portsideboulders.com.au
SUMMARY:Boulder Stronger
DESCRIPTION:This is a comprehensive\, customised training program designed by our head coach and contains one face-to-face session each week\, as well as two homework sessions a week. \nYou’ll focus on advanced climbing techniques\, as well as tailor-made strength-work. If you’re looking to really elevate your climbing abilities or train for competition climbing\, this is the program for you! \nPortside Members – $39.95 p/w\nNon-Members – $49.95 p/w \nAll our Bouldering Classes are run by Axis Coaching. \nAxis are a professional coaching service\, and have been integrated into Portside since 2017.\nTheir mission is to help boulderers improve their performance both on and off the wall.
URL:https://portsideboulders.com.au/event/boulder-stronger/2024-09-19/
LOCATION:Portside Boulders Osborne Park\, warehouse e/73 Walters Dr\, Osborne Park\, WA\, 6017\, Australia
ATTACH;FMTTYPE=image/png:https://portsideboulders.com.au/wp-content/uploads/2023/07/Boulder-Stronger.png
END:VEVENT
BEGIN:VEVENT
DTSTART;TZID=Asia/Shanghai:20240919T183000
DTEND;TZID=Asia/Shanghai:20240919T193000
DTSTAMP:20260423T132018
CREATED:20230706T041014Z
LAST-MODIFIED:20240311T073607Z
UID:10002210-1726770600-1726774200@portsideboulders.com.au
SUMMARY:Strength & Conditioning
DESCRIPTION:Increase your overall climbing strength and performance and build functional strength on and off the wall. \nIt’s all about improving form on and off the wall\, and having fun!
URL:https://portsideboulders.com.au/event/strength-conditioning/2024-09-19/
LOCATION:Portside Boulders Osborne Park\, warehouse e/73 Walters Dr\, Osborne Park\, WA\, 6017\, Australia
ATTACH;FMTTYPE=image/jpeg:https://portsideboulders.com.au/wp-content/uploads/2023/07/DSCF6586-scaled.jpg
END:VEVENT
BEGIN:VEVENT
DTSTART;VALUE=DATE:20240920
DTEND;VALUE=DATE:20240921
DTSTAMP:20260423T132018
CREATED:20240226T074543Z
LAST-MODIFIED:20260123T033936Z
UID:10006129-1726790400-1726876799@portsideboulders.com.au
SUMMARY:Student Fridays
DESCRIPTION:Every Friday we offer $16 entry for students to each Portside with any valid student ID. \nNote: this does not include chalk ($3) and shoe ($7) hire. \nWe also have a BBQ that runs from approximately 6pm-7:30pm. \nSo come on down\, and bring your mates! To speed things up\, make sure you get anyone new you’d like to fill out the waiver in advance.
URL:https://portsideboulders.com.au/event/student-fridays-3-2/2024-09-20/
LOCATION:Portside Boulders Osborne Park\, warehouse e/73 Walters Dr\, Osborne Park\, WA\, 6017\, Australia
ATTACH;FMTTYPE=image/jpeg:https://portsideboulders.com.au/wp-content/uploads/2024/02/student-night.jpg
END:VEVENT
BEGIN:VEVENT
DTSTART;TZID=Australia/Perth:20240923T183000
DTEND;TZID=Australia/Perth:20240923T193000
DTSTAMP:20260423T132018
CREATED:20230706T042815Z
LAST-MODIFIED:20251028T003935Z
UID:10000086-1727116200-1727119800@portsideboulders.com.au
SUMMARY:Hatha Yoga
DESCRIPTION:Hatha Yoga is a gentle\, purposeful practice that combines breath\, movement\, and stillness to build strength\, flexibility\, and inner calm. Perfect for beginners and experienced yogis alike\, it’s about slowing down\, tuning in\, and creating balance—on and off the mat.
URL:https://portsideboulders.com.au/event/power-yoga-2/2024-09-23/
LOCATION:Portside Boulders Osborne Park\, warehouse e/73 Walters Dr\, Osborne Park\, WA\, 6017\, Australia
ATTACH;FMTTYPE=image/jpeg:https://portsideboulders.com.au/wp-content/uploads/2023/07/Yoga-OC-14-scaled.jpg
END:VEVENT
BEGIN:VEVENT
DTSTART;TZID=Asia/Shanghai:20240924T183000
DTEND;TZID=Asia/Shanghai:20240924T193000
DTSTAMP:20260423T132018
CREATED:20230706T042747Z
LAST-MODIFIED:20240311T073457Z
UID:10000348-1727202600-1727206200@portsideboulders.com.au
SUMMARY:Calisthenics
DESCRIPTION:Learn the proper progressions for big bodyweight movements that make the foundation of a functional body. In this class you will learn a variety of calisthenics skills such as muscle ups\, levers\, handstands and pistol squats to name a couple. \nIt’s all about improving form on and off the wall\, and having fun!
URL:https://portsideboulders.com.au/event/calisthenics/2024-09-24/
LOCATION:Portside Boulders Osborne Park\, warehouse e/73 Walters Dr\, Osborne Park\, WA\, 6017\, Australia
ATTACH;FMTTYPE=image/jpeg:https://portsideboulders.com.au/wp-content/uploads/2023/07/DSCF6496-1-scaled.jpg
END:VEVENT
BEGIN:VEVENT
DTSTART;TZID=Asia/Shanghai:20240926T180000
DTEND;TZID=Asia/Shanghai:20240926T193000
DTSTAMP:20260423T132018
CREATED:20230706T053239Z
LAST-MODIFIED:20240408T005503Z
UID:10005682-1727373600-1727379000@portsideboulders.com.au
SUMMARY:Boulder Stronger
DESCRIPTION:This is a comprehensive\, customised training program designed by our head coach and contains one face-to-face session each week\, as well as two homework sessions a week. \nYou’ll focus on advanced climbing techniques\, as well as tailor-made strength-work. If you’re looking to really elevate your climbing abilities or train for competition climbing\, this is the program for you! \nPortside Members – $39.95 p/w\nNon-Members – $49.95 p/w \nAll our Bouldering Classes are run by Axis Coaching. \nAxis are a professional coaching service\, and have been integrated into Portside since 2017.\nTheir mission is to help boulderers improve their performance both on and off the wall.
URL:https://portsideboulders.com.au/event/boulder-stronger/2024-09-26/
LOCATION:Portside Boulders Osborne Park\, warehouse e/73 Walters Dr\, Osborne Park\, WA\, 6017\, Australia
ATTACH;FMTTYPE=image/png:https://portsideboulders.com.au/wp-content/uploads/2023/07/Boulder-Stronger.png
END:VEVENT
BEGIN:VEVENT
DTSTART;TZID=Asia/Shanghai:20240926T183000
DTEND;TZID=Asia/Shanghai:20240926T193000
DTSTAMP:20260423T132018
CREATED:20230706T041014Z
LAST-MODIFIED:20240311T073607Z
UID:10002211-1727375400-1727379000@portsideboulders.com.au
SUMMARY:Strength & Conditioning
DESCRIPTION:Increase your overall climbing strength and performance and build functional strength on and off the wall. \nIt’s all about improving form on and off the wall\, and having fun!
URL:https://portsideboulders.com.au/event/strength-conditioning/2024-09-26/
LOCATION:Portside Boulders Osborne Park\, warehouse e/73 Walters Dr\, Osborne Park\, WA\, 6017\, Australia
ATTACH;FMTTYPE=image/jpeg:https://portsideboulders.com.au/wp-content/uploads/2023/07/DSCF6586-scaled.jpg
END:VEVENT
BEGIN:VEVENT
DTSTART;VALUE=DATE:20240927
DTEND;VALUE=DATE:20240928
DTSTAMP:20260423T132018
CREATED:20240226T074543Z
LAST-MODIFIED:20260123T033936Z
UID:10006130-1727395200-1727481599@portsideboulders.com.au
SUMMARY:Student Fridays
DESCRIPTION:Every Friday we offer $16 entry for students to each Portside with any valid student ID. \nNote: this does not include chalk ($3) and shoe ($7) hire. \nWe also have a BBQ that runs from approximately 6pm-7:30pm. \nSo come on down\, and bring your mates! To speed things up\, make sure you get anyone new you’d like to fill out the waiver in advance.
URL:https://portsideboulders.com.au/event/student-fridays-3-2/2024-09-27/
LOCATION:Portside Boulders Osborne Park\, warehouse e/73 Walters Dr\, Osborne Park\, WA\, 6017\, Australia
ATTACH;FMTTYPE=image/jpeg:https://portsideboulders.com.au/wp-content/uploads/2024/02/student-night.jpg
END:VEVENT
BEGIN:VEVENT
DTSTART;TZID=Australia/Perth:20240930T183000
DTEND;TZID=Australia/Perth:20240930T193000
DTSTAMP:20260423T132018
CREATED:20230706T042815Z
LAST-MODIFIED:20251028T003935Z
UID:10000087-1727721000-1727724600@portsideboulders.com.au
SUMMARY:Hatha Yoga
DESCRIPTION:Hatha Yoga is a gentle\, purposeful practice that combines breath\, movement\, and stillness to build strength\, flexibility\, and inner calm. Perfect for beginners and experienced yogis alike\, it’s about slowing down\, tuning in\, and creating balance—on and off the mat.
URL:https://portsideboulders.com.au/event/power-yoga-2/2024-09-30/
LOCATION:Portside Boulders Osborne Park\, warehouse e/73 Walters Dr\, Osborne Park\, WA\, 6017\, Australia
ATTACH;FMTTYPE=image/jpeg:https://portsideboulders.com.au/wp-content/uploads/2023/07/Yoga-OC-14-scaled.jpg
END:VEVENT
END:VCALENDAR