BEGIN:VCALENDAR
VERSION:2.0
PRODID:-//Portside Boulders - ECPv6.15.17.1//NONSGML v1.0//EN
CALSCALE:GREGORIAN
METHOD:PUBLISH
X-ORIGINAL-URL:https://portsideboulders.com.au
X-WR-CALDESC:Events for Portside Boulders
REFRESH-INTERVAL;VALUE=DURATION:PT1H
X-Robots-Tag:noindex
X-PUBLISHED-TTL:PT1H
BEGIN:VTIMEZONE
TZID:Asia/Shanghai
BEGIN:STANDARD
TZOFFSETFROM:+0800
TZOFFSETTO:+0800
TZNAME:CST
DTSTART:20240101T000000
END:STANDARD
END:VTIMEZONE
BEGIN:VTIMEZONE
TZID:Australia/Perth
BEGIN:STANDARD
TZOFFSETFROM:+0800
TZOFFSETTO:+0800
TZNAME:AWST
DTSTART:20240101T000000
END:STANDARD
END:VTIMEZONE
BEGIN:VEVENT
DTSTART;TZID=Asia/Shanghai:20250401T183000
DTEND;TZID=Asia/Shanghai:20250401T193000
DTSTAMP:20260423T002219
CREATED:20230706T042747Z
LAST-MODIFIED:20240311T073457Z
UID:10000375-1743532200-1743535800@portsideboulders.com.au
SUMMARY:Calisthenics
DESCRIPTION:Learn the proper progressions for big bodyweight movements that make the foundation of a functional body. In this class you will learn a variety of calisthenics skills such as muscle ups\, levers\, handstands and pistol squats to name a couple. \nIt’s all about improving form on and off the wall\, and having fun!
URL:https://portsideboulders.com.au/event/calisthenics/2025-04-01/
LOCATION:Portside Boulders Osborne Park\, warehouse e/73 Walters Dr\, Osborne Park\, WA\, 6017\, Australia
ATTACH;FMTTYPE=image/jpeg:https://portsideboulders.com.au/wp-content/uploads/2023/07/DSCF6496-1-scaled.jpg
END:VEVENT
BEGIN:VEVENT
DTSTART;TZID=Asia/Shanghai:20250401T183000
DTEND;TZID=Asia/Shanghai:20250401T193000
DTSTAMP:20260423T002219
CREATED:20251029T052238Z
LAST-MODIFIED:20251029T052359Z
UID:10013375-1743532200-1743535800@portsideboulders.com.au
SUMMARY:Calisthenics
DESCRIPTION:Learn the proper progressions for big bodyweight movements that make the foundation of a functional body. In this class you will learn a variety of calisthenics skills such as muscle ups\, levers\, handstands and pistol squats to name a couple. \nIt’s all about improving form on and off the wall\, and having fun!
URL:https://portsideboulders.com.au/event/calisthenics-3-2/2025-04-01/
LOCATION:Portside Boulders Osborne Park\, warehouse e/73 Walters Dr\, Osborne Park\, WA\, 6017\, Australia
ATTACH;FMTTYPE=image/jpeg:https://portsideboulders.com.au/wp-content/uploads/2023/07/DSCF6496-1-scaled.jpg
END:VEVENT
BEGIN:VEVENT
DTSTART;TZID=Asia/Shanghai:20250401T183000
DTEND;TZID=Asia/Shanghai:20250401T193000
DTSTAMP:20260423T002219
CREATED:20251029T052502Z
LAST-MODIFIED:20251029T063509Z
UID:10013427-1743532200-1743535800@portsideboulders.com.au
SUMMARY:Calisthenics
DESCRIPTION:Learn the proper progressions for big bodyweight movements that make the foundation of a functional body. In this class you will learn a variety of calisthenics skills such as muscle ups\, levers\, handstands and pistol squats to name a couple. \nIt’s all about improving form on and off the wall\, and having fun!
URL:https://portsideboulders.com.au/event/calisthenics-3-2-2/2025-04-01/
LOCATION:Portside Boulders Osborne Park\, warehouse e/73 Walters Dr\, Osborne Park\, WA\, 6017\, Australia
ATTACH;FMTTYPE=image/jpeg:https://portsideboulders.com.au/wp-content/uploads/2023/07/DSCF6496-1-scaled.jpg
END:VEVENT
BEGIN:VEVENT
DTSTART;TZID=Asia/Shanghai:20250403T180000
DTEND;TZID=Asia/Shanghai:20250403T193000
DTSTAMP:20260423T002219
CREATED:20230706T053239Z
LAST-MODIFIED:20240408T005503Z
UID:10005709-1743703200-1743708600@portsideboulders.com.au
SUMMARY:Boulder Stronger
DESCRIPTION:This is a comprehensive\, customised training program designed by our head coach and contains one face-to-face session each week\, as well as two homework sessions a week. \nYou’ll focus on advanced climbing techniques\, as well as tailor-made strength-work. If you’re looking to really elevate your climbing abilities or train for competition climbing\, this is the program for you! \nPortside Members – $39.95 p/w\nNon-Members – $49.95 p/w \nAll our Bouldering Classes are run by Axis Coaching. \nAxis are a professional coaching service\, and have been integrated into Portside since 2017.\nTheir mission is to help boulderers improve their performance both on and off the wall.
URL:https://portsideboulders.com.au/event/boulder-stronger/2025-04-03/
LOCATION:Portside Boulders Osborne Park\, warehouse e/73 Walters Dr\, Osborne Park\, WA\, 6017\, Australia
ATTACH;FMTTYPE=image/png:https://portsideboulders.com.au/wp-content/uploads/2023/07/Boulder-Stronger.png
END:VEVENT
BEGIN:VEVENT
DTSTART;TZID=Asia/Shanghai:20250403T183000
DTEND;TZID=Asia/Shanghai:20250403T193000
DTSTAMP:20260423T002219
CREATED:20230706T041014Z
LAST-MODIFIED:20240311T073607Z
UID:10002238-1743705000-1743708600@portsideboulders.com.au
SUMMARY:Strength & Conditioning
DESCRIPTION:Increase your overall climbing strength and performance and build functional strength on and off the wall. \nIt’s all about improving form on and off the wall\, and having fun!
URL:https://portsideboulders.com.au/event/strength-conditioning/2025-04-03/
LOCATION:Portside Boulders Osborne Park\, warehouse e/73 Walters Dr\, Osborne Park\, WA\, 6017\, Australia
ATTACH;FMTTYPE=image/jpeg:https://portsideboulders.com.au/wp-content/uploads/2023/07/DSCF6586-scaled.jpg
END:VEVENT
BEGIN:VEVENT
DTSTART;VALUE=DATE:20250404
DTEND;VALUE=DATE:20250405
DTSTAMP:20260423T002219
CREATED:20240226T074543Z
LAST-MODIFIED:20260123T033936Z
UID:10006157-1743724800-1743811199@portsideboulders.com.au
SUMMARY:Student Fridays
DESCRIPTION:Every Friday we offer $16 entry for students to each Portside with any valid student ID. \nNote: this does not include chalk ($3) and shoe ($7) hire. \nWe also have a BBQ that runs from approximately 6pm-7:30pm. \nSo come on down\, and bring your mates! To speed things up\, make sure you get anyone new you’d like to fill out the waiver in advance.
URL:https://portsideboulders.com.au/event/student-fridays-3-2/2025-04-04/
LOCATION:Portside Boulders Osborne Park\, warehouse e/73 Walters Dr\, Osborne Park\, WA\, 6017\, Australia
ATTACH;FMTTYPE=image/jpeg:https://portsideboulders.com.au/wp-content/uploads/2024/02/student-night.jpg
END:VEVENT
BEGIN:VEVENT
DTSTART;TZID=Australia/Perth:20250407T183000
DTEND;TZID=Australia/Perth:20250407T193000
DTSTAMP:20260423T002219
CREATED:20230706T042815Z
LAST-MODIFIED:20251028T003935Z
UID:10000114-1744050600-1744054200@portsideboulders.com.au
SUMMARY:Hatha Yoga
DESCRIPTION:Hatha Yoga is a gentle\, purposeful practice that combines breath\, movement\, and stillness to build strength\, flexibility\, and inner calm. Perfect for beginners and experienced yogis alike\, it’s about slowing down\, tuning in\, and creating balance—on and off the mat.
URL:https://portsideboulders.com.au/event/power-yoga-2/2025-04-07/
LOCATION:Portside Boulders Osborne Park\, warehouse e/73 Walters Dr\, Osborne Park\, WA\, 6017\, Australia
ATTACH;FMTTYPE=image/jpeg:https://portsideboulders.com.au/wp-content/uploads/2023/07/Yoga-OC-14-scaled.jpg
END:VEVENT
BEGIN:VEVENT
DTSTART;TZID=Asia/Shanghai:20250408T183000
DTEND;TZID=Asia/Shanghai:20250408T193000
DTSTAMP:20260423T002219
CREATED:20230706T042747Z
LAST-MODIFIED:20240311T073457Z
UID:10000376-1744137000-1744140600@portsideboulders.com.au
SUMMARY:Calisthenics
DESCRIPTION:Learn the proper progressions for big bodyweight movements that make the foundation of a functional body. In this class you will learn a variety of calisthenics skills such as muscle ups\, levers\, handstands and pistol squats to name a couple. \nIt’s all about improving form on and off the wall\, and having fun!
URL:https://portsideboulders.com.au/event/calisthenics/2025-04-08/
LOCATION:Portside Boulders Osborne Park\, warehouse e/73 Walters Dr\, Osborne Park\, WA\, 6017\, Australia
ATTACH;FMTTYPE=image/jpeg:https://portsideboulders.com.au/wp-content/uploads/2023/07/DSCF6496-1-scaled.jpg
END:VEVENT
BEGIN:VEVENT
DTSTART;TZID=Asia/Shanghai:20250408T183000
DTEND;TZID=Asia/Shanghai:20250408T193000
DTSTAMP:20260423T002219
CREATED:20251029T052238Z
LAST-MODIFIED:20251029T052359Z
UID:10013376-1744137000-1744140600@portsideboulders.com.au
SUMMARY:Calisthenics
DESCRIPTION:Learn the proper progressions for big bodyweight movements that make the foundation of a functional body. In this class you will learn a variety of calisthenics skills such as muscle ups\, levers\, handstands and pistol squats to name a couple. \nIt’s all about improving form on and off the wall\, and having fun!
URL:https://portsideboulders.com.au/event/calisthenics-3-2/2025-04-08/
LOCATION:Portside Boulders Osborne Park\, warehouse e/73 Walters Dr\, Osborne Park\, WA\, 6017\, Australia
ATTACH;FMTTYPE=image/jpeg:https://portsideboulders.com.au/wp-content/uploads/2023/07/DSCF6496-1-scaled.jpg
END:VEVENT
BEGIN:VEVENT
DTSTART;TZID=Asia/Shanghai:20250408T183000
DTEND;TZID=Asia/Shanghai:20250408T193000
DTSTAMP:20260423T002219
CREATED:20251029T052502Z
LAST-MODIFIED:20251029T063509Z
UID:10013428-1744137000-1744140600@portsideboulders.com.au
SUMMARY:Calisthenics
DESCRIPTION:Learn the proper progressions for big bodyweight movements that make the foundation of a functional body. In this class you will learn a variety of calisthenics skills such as muscle ups\, levers\, handstands and pistol squats to name a couple. \nIt’s all about improving form on and off the wall\, and having fun!
URL:https://portsideboulders.com.au/event/calisthenics-3-2-2/2025-04-08/
LOCATION:Portside Boulders Osborne Park\, warehouse e/73 Walters Dr\, Osborne Park\, WA\, 6017\, Australia
ATTACH;FMTTYPE=image/jpeg:https://portsideboulders.com.au/wp-content/uploads/2023/07/DSCF6496-1-scaled.jpg
END:VEVENT
BEGIN:VEVENT
DTSTART;TZID=Asia/Shanghai:20250410T180000
DTEND;TZID=Asia/Shanghai:20250410T193000
DTSTAMP:20260423T002219
CREATED:20230706T053239Z
LAST-MODIFIED:20240408T005503Z
UID:10005710-1744308000-1744313400@portsideboulders.com.au
SUMMARY:Boulder Stronger
DESCRIPTION:This is a comprehensive\, customised training program designed by our head coach and contains one face-to-face session each week\, as well as two homework sessions a week. \nYou’ll focus on advanced climbing techniques\, as well as tailor-made strength-work. If you’re looking to really elevate your climbing abilities or train for competition climbing\, this is the program for you! \nPortside Members – $39.95 p/w\nNon-Members – $49.95 p/w \nAll our Bouldering Classes are run by Axis Coaching. \nAxis are a professional coaching service\, and have been integrated into Portside since 2017.\nTheir mission is to help boulderers improve their performance both on and off the wall.
URL:https://portsideboulders.com.au/event/boulder-stronger/2025-04-10/
LOCATION:Portside Boulders Osborne Park\, warehouse e/73 Walters Dr\, Osborne Park\, WA\, 6017\, Australia
ATTACH;FMTTYPE=image/png:https://portsideboulders.com.au/wp-content/uploads/2023/07/Boulder-Stronger.png
END:VEVENT
BEGIN:VEVENT
DTSTART;TZID=Asia/Shanghai:20250410T183000
DTEND;TZID=Asia/Shanghai:20250410T193000
DTSTAMP:20260423T002219
CREATED:20230706T041014Z
LAST-MODIFIED:20240311T073607Z
UID:10002239-1744309800-1744313400@portsideboulders.com.au
SUMMARY:Strength & Conditioning
DESCRIPTION:Increase your overall climbing strength and performance and build functional strength on and off the wall. \nIt’s all about improving form on and off the wall\, and having fun!
URL:https://portsideboulders.com.au/event/strength-conditioning/2025-04-10/
LOCATION:Portside Boulders Osborne Park\, warehouse e/73 Walters Dr\, Osborne Park\, WA\, 6017\, Australia
ATTACH;FMTTYPE=image/jpeg:https://portsideboulders.com.au/wp-content/uploads/2023/07/DSCF6586-scaled.jpg
END:VEVENT
BEGIN:VEVENT
DTSTART;VALUE=DATE:20250411
DTEND;VALUE=DATE:20250412
DTSTAMP:20260423T002219
CREATED:20240226T074543Z
LAST-MODIFIED:20260123T033936Z
UID:10006158-1744329600-1744415999@portsideboulders.com.au
SUMMARY:Student Fridays
DESCRIPTION:Every Friday we offer $16 entry for students to each Portside with any valid student ID. \nNote: this does not include chalk ($3) and shoe ($7) hire. \nWe also have a BBQ that runs from approximately 6pm-7:30pm. \nSo come on down\, and bring your mates! To speed things up\, make sure you get anyone new you’d like to fill out the waiver in advance.
URL:https://portsideboulders.com.au/event/student-fridays-3-2/2025-04-11/
LOCATION:Portside Boulders Osborne Park\, warehouse e/73 Walters Dr\, Osborne Park\, WA\, 6017\, Australia
ATTACH;FMTTYPE=image/jpeg:https://portsideboulders.com.au/wp-content/uploads/2024/02/student-night.jpg
END:VEVENT
BEGIN:VEVENT
DTSTART;TZID=Australia/Perth:20250414T183000
DTEND;TZID=Australia/Perth:20250414T193000
DTSTAMP:20260423T002219
CREATED:20230706T042815Z
LAST-MODIFIED:20251028T003935Z
UID:10000115-1744655400-1744659000@portsideboulders.com.au
SUMMARY:Hatha Yoga
DESCRIPTION:Hatha Yoga is a gentle\, purposeful practice that combines breath\, movement\, and stillness to build strength\, flexibility\, and inner calm. Perfect for beginners and experienced yogis alike\, it’s about slowing down\, tuning in\, and creating balance—on and off the mat.
URL:https://portsideboulders.com.au/event/power-yoga-2/2025-04-14/
LOCATION:Portside Boulders Osborne Park\, warehouse e/73 Walters Dr\, Osborne Park\, WA\, 6017\, Australia
ATTACH;FMTTYPE=image/jpeg:https://portsideboulders.com.au/wp-content/uploads/2023/07/Yoga-OC-14-scaled.jpg
END:VEVENT
BEGIN:VEVENT
DTSTART;TZID=Asia/Shanghai:20250415T183000
DTEND;TZID=Asia/Shanghai:20250415T193000
DTSTAMP:20260423T002219
CREATED:20230706T042747Z
LAST-MODIFIED:20240311T073457Z
UID:10000377-1744741800-1744745400@portsideboulders.com.au
SUMMARY:Calisthenics
DESCRIPTION:Learn the proper progressions for big bodyweight movements that make the foundation of a functional body. In this class you will learn a variety of calisthenics skills such as muscle ups\, levers\, handstands and pistol squats to name a couple. \nIt’s all about improving form on and off the wall\, and having fun!
URL:https://portsideboulders.com.au/event/calisthenics/2025-04-15/
LOCATION:Portside Boulders Osborne Park\, warehouse e/73 Walters Dr\, Osborne Park\, WA\, 6017\, Australia
ATTACH;FMTTYPE=image/jpeg:https://portsideboulders.com.au/wp-content/uploads/2023/07/DSCF6496-1-scaled.jpg
END:VEVENT
BEGIN:VEVENT
DTSTART;TZID=Asia/Shanghai:20250415T183000
DTEND;TZID=Asia/Shanghai:20250415T193000
DTSTAMP:20260423T002219
CREATED:20251029T052238Z
LAST-MODIFIED:20251029T052359Z
UID:10013377-1744741800-1744745400@portsideboulders.com.au
SUMMARY:Calisthenics
DESCRIPTION:Learn the proper progressions for big bodyweight movements that make the foundation of a functional body. In this class you will learn a variety of calisthenics skills such as muscle ups\, levers\, handstands and pistol squats to name a couple. \nIt’s all about improving form on and off the wall\, and having fun!
URL:https://portsideboulders.com.au/event/calisthenics-3-2/2025-04-15/
LOCATION:Portside Boulders Osborne Park\, warehouse e/73 Walters Dr\, Osborne Park\, WA\, 6017\, Australia
ATTACH;FMTTYPE=image/jpeg:https://portsideboulders.com.au/wp-content/uploads/2023/07/DSCF6496-1-scaled.jpg
END:VEVENT
BEGIN:VEVENT
DTSTART;TZID=Asia/Shanghai:20250415T183000
DTEND;TZID=Asia/Shanghai:20250415T193000
DTSTAMP:20260423T002219
CREATED:20251029T052502Z
LAST-MODIFIED:20251029T063509Z
UID:10013429-1744741800-1744745400@portsideboulders.com.au
SUMMARY:Calisthenics
DESCRIPTION:Learn the proper progressions for big bodyweight movements that make the foundation of a functional body. In this class you will learn a variety of calisthenics skills such as muscle ups\, levers\, handstands and pistol squats to name a couple. \nIt’s all about improving form on and off the wall\, and having fun!
URL:https://portsideboulders.com.au/event/calisthenics-3-2-2/2025-04-15/
LOCATION:Portside Boulders Osborne Park\, warehouse e/73 Walters Dr\, Osborne Park\, WA\, 6017\, Australia
ATTACH;FMTTYPE=image/jpeg:https://portsideboulders.com.au/wp-content/uploads/2023/07/DSCF6496-1-scaled.jpg
END:VEVENT
BEGIN:VEVENT
DTSTART;TZID=Asia/Shanghai:20250416T183000
DTEND;TZID=Asia/Shanghai:20250416T203000
DTSTAMP:20260423T002219
CREATED:20230719T011738Z
LAST-MODIFIED:20260123T034748Z
UID:10006026-1744828200-1744835400@portsideboulders.com.au
SUMMARY:Climb Like A Girl
DESCRIPTION:A relaxed social session for women* of all levels. Move\, climb\, connect — no bookings needed\, just show up and hang out. \n$15.90 entry\, Portside members free. \n*Women includes trans\, gender diverse and cisgender women. \nWilletton – First Tuesday of the Month\nJoondalup – Second Thursday\nO’Connor – Third Tuesday\nOsborne Park – Fourth Thursday \nJoin our Climb Like A Girl Whatsapp Group Chat! Here we chat about how our sessions went and send out any updates or new things we might be doing.
URL:https://portsideboulders.com.au/event/climb-like-a-girl-2/2025-04-16/
LOCATION:Portside Boulders Osborne Park\, warehouse e/73 Walters Dr\, Osborne Park\, WA\, 6017\, Australia
ATTACH;FMTTYPE=image/jpeg:https://portsideboulders.com.au/wp-content/uploads/2023/07/CLAG-OP.jpg
END:VEVENT
BEGIN:VEVENT
DTSTART;TZID=Asia/Shanghai:20250417T180000
DTEND;TZID=Asia/Shanghai:20250417T193000
DTSTAMP:20260423T002219
CREATED:20230706T053239Z
LAST-MODIFIED:20240408T005503Z
UID:10005711-1744912800-1744918200@portsideboulders.com.au
SUMMARY:Boulder Stronger
DESCRIPTION:This is a comprehensive\, customised training program designed by our head coach and contains one face-to-face session each week\, as well as two homework sessions a week. \nYou’ll focus on advanced climbing techniques\, as well as tailor-made strength-work. If you’re looking to really elevate your climbing abilities or train for competition climbing\, this is the program for you! \nPortside Members – $39.95 p/w\nNon-Members – $49.95 p/w \nAll our Bouldering Classes are run by Axis Coaching. \nAxis are a professional coaching service\, and have been integrated into Portside since 2017.\nTheir mission is to help boulderers improve their performance both on and off the wall.
URL:https://portsideboulders.com.au/event/boulder-stronger/2025-04-17/
LOCATION:Portside Boulders Osborne Park\, warehouse e/73 Walters Dr\, Osborne Park\, WA\, 6017\, Australia
ATTACH;FMTTYPE=image/png:https://portsideboulders.com.au/wp-content/uploads/2023/07/Boulder-Stronger.png
END:VEVENT
BEGIN:VEVENT
DTSTART;TZID=Asia/Shanghai:20250417T183000
DTEND;TZID=Asia/Shanghai:20250417T193000
DTSTAMP:20260423T002219
CREATED:20230706T041014Z
LAST-MODIFIED:20240311T073607Z
UID:10002240-1744914600-1744918200@portsideboulders.com.au
SUMMARY:Strength & Conditioning
DESCRIPTION:Increase your overall climbing strength and performance and build functional strength on and off the wall. \nIt’s all about improving form on and off the wall\, and having fun!
URL:https://portsideboulders.com.au/event/strength-conditioning/2025-04-17/
LOCATION:Portside Boulders Osborne Park\, warehouse e/73 Walters Dr\, Osborne Park\, WA\, 6017\, Australia
ATTACH;FMTTYPE=image/jpeg:https://portsideboulders.com.au/wp-content/uploads/2023/07/DSCF6586-scaled.jpg
END:VEVENT
BEGIN:VEVENT
DTSTART;VALUE=DATE:20250418
DTEND;VALUE=DATE:20250419
DTSTAMP:20260423T002219
CREATED:20240226T074543Z
LAST-MODIFIED:20260123T033936Z
UID:10006159-1744934400-1745020799@portsideboulders.com.au
SUMMARY:Student Fridays
DESCRIPTION:Every Friday we offer $16 entry for students to each Portside with any valid student ID. \nNote: this does not include chalk ($3) and shoe ($7) hire. \nWe also have a BBQ that runs from approximately 6pm-7:30pm. \nSo come on down\, and bring your mates! To speed things up\, make sure you get anyone new you’d like to fill out the waiver in advance.
URL:https://portsideboulders.com.au/event/student-fridays-3-2/2025-04-18/
LOCATION:Portside Boulders Osborne Park\, warehouse e/73 Walters Dr\, Osborne Park\, WA\, 6017\, Australia
ATTACH;FMTTYPE=image/jpeg:https://portsideboulders.com.au/wp-content/uploads/2024/02/student-night.jpg
END:VEVENT
BEGIN:VEVENT
DTSTART;TZID=Australia/Perth:20250421T183000
DTEND;TZID=Australia/Perth:20250421T193000
DTSTAMP:20260423T002219
CREATED:20230706T042815Z
LAST-MODIFIED:20251028T003935Z
UID:10000116-1745260200-1745263800@portsideboulders.com.au
SUMMARY:Hatha Yoga
DESCRIPTION:Hatha Yoga is a gentle\, purposeful practice that combines breath\, movement\, and stillness to build strength\, flexibility\, and inner calm. Perfect for beginners and experienced yogis alike\, it’s about slowing down\, tuning in\, and creating balance—on and off the mat.
URL:https://portsideboulders.com.au/event/power-yoga-2/2025-04-21/
LOCATION:Portside Boulders Osborne Park\, warehouse e/73 Walters Dr\, Osborne Park\, WA\, 6017\, Australia
ATTACH;FMTTYPE=image/jpeg:https://portsideboulders.com.au/wp-content/uploads/2023/07/Yoga-OC-14-scaled.jpg
END:VEVENT
BEGIN:VEVENT
DTSTART;TZID=Asia/Shanghai:20250422T183000
DTEND;TZID=Asia/Shanghai:20250422T193000
DTSTAMP:20260423T002219
CREATED:20230706T042747Z
LAST-MODIFIED:20240311T073457Z
UID:10000378-1745346600-1745350200@portsideboulders.com.au
SUMMARY:Calisthenics
DESCRIPTION:Learn the proper progressions for big bodyweight movements that make the foundation of a functional body. In this class you will learn a variety of calisthenics skills such as muscle ups\, levers\, handstands and pistol squats to name a couple. \nIt’s all about improving form on and off the wall\, and having fun!
URL:https://portsideboulders.com.au/event/calisthenics/2025-04-22/
LOCATION:Portside Boulders Osborne Park\, warehouse e/73 Walters Dr\, Osborne Park\, WA\, 6017\, Australia
ATTACH;FMTTYPE=image/jpeg:https://portsideboulders.com.au/wp-content/uploads/2023/07/DSCF6496-1-scaled.jpg
END:VEVENT
BEGIN:VEVENT
DTSTART;TZID=Asia/Shanghai:20250422T183000
DTEND;TZID=Asia/Shanghai:20250422T193000
DTSTAMP:20260423T002219
CREATED:20251029T052238Z
LAST-MODIFIED:20251029T052359Z
UID:10013378-1745346600-1745350200@portsideboulders.com.au
SUMMARY:Calisthenics
DESCRIPTION:Learn the proper progressions for big bodyweight movements that make the foundation of a functional body. In this class you will learn a variety of calisthenics skills such as muscle ups\, levers\, handstands and pistol squats to name a couple. \nIt’s all about improving form on and off the wall\, and having fun!
URL:https://portsideboulders.com.au/event/calisthenics-3-2/2025-04-22/
LOCATION:Portside Boulders Osborne Park\, warehouse e/73 Walters Dr\, Osborne Park\, WA\, 6017\, Australia
ATTACH;FMTTYPE=image/jpeg:https://portsideboulders.com.au/wp-content/uploads/2023/07/DSCF6496-1-scaled.jpg
END:VEVENT
BEGIN:VEVENT
DTSTART;TZID=Asia/Shanghai:20250422T183000
DTEND;TZID=Asia/Shanghai:20250422T193000
DTSTAMP:20260423T002219
CREATED:20251029T052502Z
LAST-MODIFIED:20251029T063509Z
UID:10013430-1745346600-1745350200@portsideboulders.com.au
SUMMARY:Calisthenics
DESCRIPTION:Learn the proper progressions for big bodyweight movements that make the foundation of a functional body. In this class you will learn a variety of calisthenics skills such as muscle ups\, levers\, handstands and pistol squats to name a couple. \nIt’s all about improving form on and off the wall\, and having fun!
URL:https://portsideboulders.com.au/event/calisthenics-3-2-2/2025-04-22/
LOCATION:Portside Boulders Osborne Park\, warehouse e/73 Walters Dr\, Osborne Park\, WA\, 6017\, Australia
ATTACH;FMTTYPE=image/jpeg:https://portsideboulders.com.au/wp-content/uploads/2023/07/DSCF6496-1-scaled.jpg
END:VEVENT
BEGIN:VEVENT
DTSTART;TZID=Asia/Shanghai:20250424T180000
DTEND;TZID=Asia/Shanghai:20250424T193000
DTSTAMP:20260423T002219
CREATED:20230706T053239Z
LAST-MODIFIED:20240408T005503Z
UID:10005712-1745517600-1745523000@portsideboulders.com.au
SUMMARY:Boulder Stronger
DESCRIPTION:This is a comprehensive\, customised training program designed by our head coach and contains one face-to-face session each week\, as well as two homework sessions a week. \nYou’ll focus on advanced climbing techniques\, as well as tailor-made strength-work. If you’re looking to really elevate your climbing abilities or train for competition climbing\, this is the program for you! \nPortside Members – $39.95 p/w\nNon-Members – $49.95 p/w \nAll our Bouldering Classes are run by Axis Coaching. \nAxis are a professional coaching service\, and have been integrated into Portside since 2017.\nTheir mission is to help boulderers improve their performance both on and off the wall.
URL:https://portsideboulders.com.au/event/boulder-stronger/2025-04-24/
LOCATION:Portside Boulders Osborne Park\, warehouse e/73 Walters Dr\, Osborne Park\, WA\, 6017\, Australia
ATTACH;FMTTYPE=image/png:https://portsideboulders.com.au/wp-content/uploads/2023/07/Boulder-Stronger.png
END:VEVENT
BEGIN:VEVENT
DTSTART;TZID=Asia/Shanghai:20250424T183000
DTEND;TZID=Asia/Shanghai:20250424T193000
DTSTAMP:20260423T002219
CREATED:20230706T041014Z
LAST-MODIFIED:20240311T073607Z
UID:10002241-1745519400-1745523000@portsideboulders.com.au
SUMMARY:Strength & Conditioning
DESCRIPTION:Increase your overall climbing strength and performance and build functional strength on and off the wall. \nIt’s all about improving form on and off the wall\, and having fun!
URL:https://portsideboulders.com.au/event/strength-conditioning/2025-04-24/
LOCATION:Portside Boulders Osborne Park\, warehouse e/73 Walters Dr\, Osborne Park\, WA\, 6017\, Australia
ATTACH;FMTTYPE=image/jpeg:https://portsideboulders.com.au/wp-content/uploads/2023/07/DSCF6586-scaled.jpg
END:VEVENT
BEGIN:VEVENT
DTSTART;VALUE=DATE:20250425
DTEND;VALUE=DATE:20250426
DTSTAMP:20260423T002219
CREATED:20240226T074543Z
LAST-MODIFIED:20260123T033936Z
UID:10006160-1745539200-1745625599@portsideboulders.com.au
SUMMARY:Student Fridays
DESCRIPTION:Every Friday we offer $16 entry for students to each Portside with any valid student ID. \nNote: this does not include chalk ($3) and shoe ($7) hire. \nWe also have a BBQ that runs from approximately 6pm-7:30pm. \nSo come on down\, and bring your mates! To speed things up\, make sure you get anyone new you’d like to fill out the waiver in advance.
URL:https://portsideboulders.com.au/event/student-fridays-3-2/2025-04-25/
LOCATION:Portside Boulders Osborne Park\, warehouse e/73 Walters Dr\, Osborne Park\, WA\, 6017\, Australia
ATTACH;FMTTYPE=image/jpeg:https://portsideboulders.com.au/wp-content/uploads/2024/02/student-night.jpg
END:VEVENT
BEGIN:VEVENT
DTSTART;TZID=Australia/Perth:20250428T183000
DTEND;TZID=Australia/Perth:20250428T193000
DTSTAMP:20260423T002219
CREATED:20230706T042815Z
LAST-MODIFIED:20251028T003935Z
UID:10000117-1745865000-1745868600@portsideboulders.com.au
SUMMARY:Hatha Yoga
DESCRIPTION:Hatha Yoga is a gentle\, purposeful practice that combines breath\, movement\, and stillness to build strength\, flexibility\, and inner calm. Perfect for beginners and experienced yogis alike\, it’s about slowing down\, tuning in\, and creating balance—on and off the mat.
URL:https://portsideboulders.com.au/event/power-yoga-2/2025-04-28/
LOCATION:Portside Boulders Osborne Park\, warehouse e/73 Walters Dr\, Osborne Park\, WA\, 6017\, Australia
ATTACH;FMTTYPE=image/jpeg:https://portsideboulders.com.au/wp-content/uploads/2023/07/Yoga-OC-14-scaled.jpg
END:VEVENT
BEGIN:VEVENT
DTSTART;TZID=Asia/Shanghai:20250429T183000
DTEND;TZID=Asia/Shanghai:20250429T193000
DTSTAMP:20260423T002219
CREATED:20230706T042747Z
LAST-MODIFIED:20240311T073457Z
UID:10000379-1745951400-1745955000@portsideboulders.com.au
SUMMARY:Calisthenics
DESCRIPTION:Learn the proper progressions for big bodyweight movements that make the foundation of a functional body. In this class you will learn a variety of calisthenics skills such as muscle ups\, levers\, handstands and pistol squats to name a couple. \nIt’s all about improving form on and off the wall\, and having fun!
URL:https://portsideboulders.com.au/event/calisthenics/2025-04-29/
LOCATION:Portside Boulders Osborne Park\, warehouse e/73 Walters Dr\, Osborne Park\, WA\, 6017\, Australia
ATTACH;FMTTYPE=image/jpeg:https://portsideboulders.com.au/wp-content/uploads/2023/07/DSCF6496-1-scaled.jpg
END:VEVENT
END:VCALENDAR