BEGIN:VCALENDAR
VERSION:2.0
PRODID:-//Portside Boulders - ECPv6.15.17.1//NONSGML v1.0//EN
CALSCALE:GREGORIAN
METHOD:PUBLISH
X-ORIGINAL-URL:https://portsideboulders.com.au
X-WR-CALDESC:Events for Portside Boulders
REFRESH-INTERVAL;VALUE=DURATION:PT1H
X-Robots-Tag:noindex
X-PUBLISHED-TTL:PT1H
BEGIN:VTIMEZONE
TZID:Asia/Shanghai
BEGIN:STANDARD
TZOFFSETFROM:+0800
TZOFFSETTO:+0800
TZNAME:CST
DTSTART:20240101T000000
END:STANDARD
END:VTIMEZONE
BEGIN:VEVENT
DTSTART;TZID=Asia/Shanghai:20250605T183000
DTEND;TZID=Asia/Shanghai:20250605T193000
DTSTAMP:20260425T183159
CREATED:20230706T041014Z
LAST-MODIFIED:20240311T073607Z
UID:10002247-1749148200-1749151800@portsideboulders.com.au
SUMMARY:Strength & Conditioning
DESCRIPTION:Increase your overall climbing strength and performance and build functional strength on and off the wall. \nIt’s all about improving form on and off the wall\, and having fun!
URL:https://portsideboulders.com.au/event/strength-conditioning/2025-06-05/
LOCATION:Portside Boulders Osborne Park\, warehouse e/73 Walters Dr\, Osborne Park\, WA\, 6017\, Australia
ATTACH;FMTTYPE=image/jpeg:https://portsideboulders.com.au/wp-content/uploads/2023/07/DSCF6586-scaled.jpg
END:VEVENT
BEGIN:VEVENT
DTSTART;TZID=Asia/Shanghai:20250612T183000
DTEND;TZID=Asia/Shanghai:20250612T193000
DTSTAMP:20260425T183159
CREATED:20230706T041014Z
LAST-MODIFIED:20240311T073607Z
UID:10002248-1749753000-1749756600@portsideboulders.com.au
SUMMARY:Strength & Conditioning
DESCRIPTION:Increase your overall climbing strength and performance and build functional strength on and off the wall. \nIt’s all about improving form on and off the wall\, and having fun!
URL:https://portsideboulders.com.au/event/strength-conditioning/2025-06-12/
LOCATION:Portside Boulders Osborne Park\, warehouse e/73 Walters Dr\, Osborne Park\, WA\, 6017\, Australia
ATTACH;FMTTYPE=image/jpeg:https://portsideboulders.com.au/wp-content/uploads/2023/07/DSCF6586-scaled.jpg
END:VEVENT
BEGIN:VEVENT
DTSTART;TZID=Asia/Shanghai:20250619T183000
DTEND;TZID=Asia/Shanghai:20250619T193000
DTSTAMP:20260425T183159
CREATED:20230706T041014Z
LAST-MODIFIED:20240311T073607Z
UID:10002249-1750357800-1750361400@portsideboulders.com.au
SUMMARY:Strength & Conditioning
DESCRIPTION:Increase your overall climbing strength and performance and build functional strength on and off the wall. \nIt’s all about improving form on and off the wall\, and having fun!
URL:https://portsideboulders.com.au/event/strength-conditioning/2025-06-19/
LOCATION:Portside Boulders Osborne Park\, warehouse e/73 Walters Dr\, Osborne Park\, WA\, 6017\, Australia
ATTACH;FMTTYPE=image/jpeg:https://portsideboulders.com.au/wp-content/uploads/2023/07/DSCF6586-scaled.jpg
END:VEVENT
BEGIN:VEVENT
DTSTART;TZID=Asia/Shanghai:20250626T183000
DTEND;TZID=Asia/Shanghai:20250626T193000
DTSTAMP:20260425T183159
CREATED:20230706T041014Z
LAST-MODIFIED:20240311T073607Z
UID:10002250-1750962600-1750966200@portsideboulders.com.au
SUMMARY:Strength & Conditioning
DESCRIPTION:Increase your overall climbing strength and performance and build functional strength on and off the wall. \nIt’s all about improving form on and off the wall\, and having fun!
URL:https://portsideboulders.com.au/event/strength-conditioning/2025-06-26/
LOCATION:Portside Boulders Osborne Park\, warehouse e/73 Walters Dr\, Osborne Park\, WA\, 6017\, Australia
ATTACH;FMTTYPE=image/jpeg:https://portsideboulders.com.au/wp-content/uploads/2023/07/DSCF6586-scaled.jpg
END:VEVENT
END:VCALENDAR