BEGIN:VCALENDAR
VERSION:2.0
PRODID:-//Portside Boulders - ECPv6.15.17.1//NONSGML v1.0//EN
CALSCALE:GREGORIAN
METHOD:PUBLISH
X-ORIGINAL-URL:https://portsideboulders.com.au
X-WR-CALDESC:Events for Portside Boulders
REFRESH-INTERVAL;VALUE=DURATION:PT1H
X-Robots-Tag:noindex
X-PUBLISHED-TTL:PT1H
BEGIN:VTIMEZONE
TZID:Asia/Shanghai
BEGIN:STANDARD
TZOFFSETFROM:+0800
TZOFFSETTO:+0800
TZNAME:CST
DTSTART:20270101T000000
END:STANDARD
END:VTIMEZONE
BEGIN:VEVENT
DTSTART;TZID=Asia/Shanghai:20280525T183000
DTEND;TZID=Asia/Shanghai:20280525T193000
DTSTAMP:20260425T081308
CREATED:20230706T041014Z
LAST-MODIFIED:20240311T073607Z
UID:10002402-1842892200-1842895800@portsideboulders.com.au
SUMMARY:Strength & Conditioning
DESCRIPTION:Increase your overall climbing strength and performance and build functional strength on and off the wall. \nIt’s all about improving form on and off the wall\, and having fun!
URL:https://portsideboulders.com.au/event/strength-conditioning/2028-05-25/
LOCATION:Portside Boulders Osborne Park\, warehouse e/73 Walters Dr\, Osborne Park\, WA\, 6017\, Australia
ATTACH;FMTTYPE=image/jpeg:https://portsideboulders.com.au/wp-content/uploads/2023/07/DSCF6586-scaled.jpg
END:VEVENT
BEGIN:VEVENT
DTSTART;TZID=Asia/Shanghai:20280601T183000
DTEND;TZID=Asia/Shanghai:20280601T193000
DTSTAMP:20260425T081308
CREATED:20230706T041014Z
LAST-MODIFIED:20240311T073607Z
UID:10002403-1843497000-1843500600@portsideboulders.com.au
SUMMARY:Strength & Conditioning
DESCRIPTION:Increase your overall climbing strength and performance and build functional strength on and off the wall. \nIt’s all about improving form on and off the wall\, and having fun!
URL:https://portsideboulders.com.au/event/strength-conditioning/2028-06-01/
LOCATION:Portside Boulders Osborne Park\, warehouse e/73 Walters Dr\, Osborne Park\, WA\, 6017\, Australia
ATTACH;FMTTYPE=image/jpeg:https://portsideboulders.com.au/wp-content/uploads/2023/07/DSCF6586-scaled.jpg
END:VEVENT
BEGIN:VEVENT
DTSTART;TZID=Asia/Shanghai:20280608T183000
DTEND;TZID=Asia/Shanghai:20280608T193000
DTSTAMP:20260425T081308
CREATED:20230706T041014Z
LAST-MODIFIED:20240311T073607Z
UID:10002404-1844101800-1844105400@portsideboulders.com.au
SUMMARY:Strength & Conditioning
DESCRIPTION:Increase your overall climbing strength and performance and build functional strength on and off the wall. \nIt’s all about improving form on and off the wall\, and having fun!
URL:https://portsideboulders.com.au/event/strength-conditioning/2028-06-08/
LOCATION:Portside Boulders Osborne Park\, warehouse e/73 Walters Dr\, Osborne Park\, WA\, 6017\, Australia
ATTACH;FMTTYPE=image/jpeg:https://portsideboulders.com.au/wp-content/uploads/2023/07/DSCF6586-scaled.jpg
END:VEVENT
BEGIN:VEVENT
DTSTART;TZID=Asia/Shanghai:20280615T183000
DTEND;TZID=Asia/Shanghai:20280615T193000
DTSTAMP:20260425T081308
CREATED:20230706T041014Z
LAST-MODIFIED:20240311T073607Z
UID:10002405-1844706600-1844710200@portsideboulders.com.au
SUMMARY:Strength & Conditioning
DESCRIPTION:Increase your overall climbing strength and performance and build functional strength on and off the wall. \nIt’s all about improving form on and off the wall\, and having fun!
URL:https://portsideboulders.com.au/event/strength-conditioning/2028-06-15/
LOCATION:Portside Boulders Osborne Park\, warehouse e/73 Walters Dr\, Osborne Park\, WA\, 6017\, Australia
ATTACH;FMTTYPE=image/jpeg:https://portsideboulders.com.au/wp-content/uploads/2023/07/DSCF6586-scaled.jpg
END:VEVENT
BEGIN:VEVENT
DTSTART;TZID=Asia/Shanghai:20280622T183000
DTEND;TZID=Asia/Shanghai:20280622T193000
DTSTAMP:20260425T081308
CREATED:20230706T041014Z
LAST-MODIFIED:20240311T073607Z
UID:10002406-1845311400-1845315000@portsideboulders.com.au
SUMMARY:Strength & Conditioning
DESCRIPTION:Increase your overall climbing strength and performance and build functional strength on and off the wall. \nIt’s all about improving form on and off the wall\, and having fun!
URL:https://portsideboulders.com.au/event/strength-conditioning/2028-06-22/
LOCATION:Portside Boulders Osborne Park\, warehouse e/73 Walters Dr\, Osborne Park\, WA\, 6017\, Australia
ATTACH;FMTTYPE=image/jpeg:https://portsideboulders.com.au/wp-content/uploads/2023/07/DSCF6586-scaled.jpg
END:VEVENT
BEGIN:VEVENT
DTSTART;TZID=Asia/Shanghai:20280629T183000
DTEND;TZID=Asia/Shanghai:20280629T193000
DTSTAMP:20260425T081308
CREATED:20230706T041014Z
LAST-MODIFIED:20240311T073607Z
UID:10002407-1845916200-1845919800@portsideboulders.com.au
SUMMARY:Strength & Conditioning
DESCRIPTION:Increase your overall climbing strength and performance and build functional strength on and off the wall. \nIt’s all about improving form on and off the wall\, and having fun!
URL:https://portsideboulders.com.au/event/strength-conditioning/2028-06-29/
LOCATION:Portside Boulders Osborne Park\, warehouse e/73 Walters Dr\, Osborne Park\, WA\, 6017\, Australia
ATTACH;FMTTYPE=image/jpeg:https://portsideboulders.com.au/wp-content/uploads/2023/07/DSCF6586-scaled.jpg
END:VEVENT
BEGIN:VEVENT
DTSTART;TZID=Asia/Shanghai:20280706T183000
DTEND;TZID=Asia/Shanghai:20280706T193000
DTSTAMP:20260425T081308
CREATED:20230706T041014Z
LAST-MODIFIED:20240311T073607Z
UID:10002408-1846521000-1846524600@portsideboulders.com.au
SUMMARY:Strength & Conditioning
DESCRIPTION:Increase your overall climbing strength and performance and build functional strength on and off the wall. \nIt’s all about improving form on and off the wall\, and having fun!
URL:https://portsideboulders.com.au/event/strength-conditioning/2028-07-06/
LOCATION:Portside Boulders Osborne Park\, warehouse e/73 Walters Dr\, Osborne Park\, WA\, 6017\, Australia
ATTACH;FMTTYPE=image/jpeg:https://portsideboulders.com.au/wp-content/uploads/2023/07/DSCF6586-scaled.jpg
END:VEVENT
BEGIN:VEVENT
DTSTART;TZID=Asia/Shanghai:20280713T183000
DTEND;TZID=Asia/Shanghai:20280713T193000
DTSTAMP:20260425T081308
CREATED:20230706T041014Z
LAST-MODIFIED:20240311T073607Z
UID:10006912-1847125800-1847129400@portsideboulders.com.au
SUMMARY:Strength & Conditioning
DESCRIPTION:Increase your overall climbing strength and performance and build functional strength on and off the wall. \nIt’s all about improving form on and off the wall\, and having fun!
URL:https://portsideboulders.com.au/event/strength-conditioning/2028-07-13/
LOCATION:Portside Boulders Osborne Park\, warehouse e/73 Walters Dr\, Osborne Park\, WA\, 6017\, Australia
ATTACH;FMTTYPE=image/jpeg:https://portsideboulders.com.au/wp-content/uploads/2023/07/DSCF6586-scaled.jpg
END:VEVENT
BEGIN:VEVENT
DTSTART;TZID=Asia/Shanghai:20280720T183000
DTEND;TZID=Asia/Shanghai:20280720T193000
DTSTAMP:20260425T081308
CREATED:20230706T041014Z
LAST-MODIFIED:20240311T073607Z
UID:10010879-1847730600-1847734200@portsideboulders.com.au
SUMMARY:Strength & Conditioning
DESCRIPTION:Increase your overall climbing strength and performance and build functional strength on and off the wall. \nIt’s all about improving form on and off the wall\, and having fun!
URL:https://portsideboulders.com.au/event/strength-conditioning/2028-07-20/
LOCATION:Portside Boulders Osborne Park\, warehouse e/73 Walters Dr\, Osborne Park\, WA\, 6017\, Australia
ATTACH;FMTTYPE=image/jpeg:https://portsideboulders.com.au/wp-content/uploads/2023/07/DSCF6586-scaled.jpg
END:VEVENT
BEGIN:VEVENT
DTSTART;TZID=Asia/Shanghai:20280727T183000
DTEND;TZID=Asia/Shanghai:20280727T193000
DTSTAMP:20260425T081308
CREATED:20230706T041014Z
LAST-MODIFIED:20240311T073607Z
UID:10010880-1848335400-1848339000@portsideboulders.com.au
SUMMARY:Strength & Conditioning
DESCRIPTION:Increase your overall climbing strength and performance and build functional strength on and off the wall. \nIt’s all about improving form on and off the wall\, and having fun!
URL:https://portsideboulders.com.au/event/strength-conditioning/2028-07-27/
LOCATION:Portside Boulders Osborne Park\, warehouse e/73 Walters Dr\, Osborne Park\, WA\, 6017\, Australia
ATTACH;FMTTYPE=image/jpeg:https://portsideboulders.com.au/wp-content/uploads/2023/07/DSCF6586-scaled.jpg
END:VEVENT
BEGIN:VEVENT
DTSTART;TZID=Asia/Shanghai:20280803T183000
DTEND;TZID=Asia/Shanghai:20280803T193000
DTSTAMP:20260425T081308
CREATED:20230706T041014Z
LAST-MODIFIED:20240311T073607Z
UID:10010881-1848940200-1848943800@portsideboulders.com.au
SUMMARY:Strength & Conditioning
DESCRIPTION:Increase your overall climbing strength and performance and build functional strength on and off the wall. \nIt’s all about improving form on and off the wall\, and having fun!
URL:https://portsideboulders.com.au/event/strength-conditioning/2028-08-03/
LOCATION:Portside Boulders Osborne Park\, warehouse e/73 Walters Dr\, Osborne Park\, WA\, 6017\, Australia
ATTACH;FMTTYPE=image/jpeg:https://portsideboulders.com.au/wp-content/uploads/2023/07/DSCF6586-scaled.jpg
END:VEVENT
BEGIN:VEVENT
DTSTART;TZID=Asia/Shanghai:20280810T183000
DTEND;TZID=Asia/Shanghai:20280810T193000
DTSTAMP:20260425T081308
CREATED:20230706T041014Z
LAST-MODIFIED:20240311T073607Z
UID:10011637-1849545000-1849548600@portsideboulders.com.au
SUMMARY:Strength & Conditioning
DESCRIPTION:Increase your overall climbing strength and performance and build functional strength on and off the wall. \nIt’s all about improving form on and off the wall\, and having fun!
URL:https://portsideboulders.com.au/event/strength-conditioning/2028-08-10/
LOCATION:Portside Boulders Osborne Park\, warehouse e/73 Walters Dr\, Osborne Park\, WA\, 6017\, Australia
ATTACH;FMTTYPE=image/jpeg:https://portsideboulders.com.au/wp-content/uploads/2023/07/DSCF6586-scaled.jpg
END:VEVENT
BEGIN:VEVENT
DTSTART;TZID=Asia/Shanghai:20280817T183000
DTEND;TZID=Asia/Shanghai:20280817T193000
DTSTAMP:20260425T081308
CREATED:20230706T041014Z
LAST-MODIFIED:20240311T073607Z
UID:10011638-1850149800-1850153400@portsideboulders.com.au
SUMMARY:Strength & Conditioning
DESCRIPTION:Increase your overall climbing strength and performance and build functional strength on and off the wall. \nIt’s all about improving form on and off the wall\, and having fun!
URL:https://portsideboulders.com.au/event/strength-conditioning/2028-08-17/
LOCATION:Portside Boulders Osborne Park\, warehouse e/73 Walters Dr\, Osborne Park\, WA\, 6017\, Australia
ATTACH;FMTTYPE=image/jpeg:https://portsideboulders.com.au/wp-content/uploads/2023/07/DSCF6586-scaled.jpg
END:VEVENT
BEGIN:VEVENT
DTSTART;TZID=Asia/Shanghai:20280824T183000
DTEND;TZID=Asia/Shanghai:20280824T193000
DTSTAMP:20260425T081308
CREATED:20230706T041014Z
LAST-MODIFIED:20240311T073607Z
UID:10011639-1850754600-1850758200@portsideboulders.com.au
SUMMARY:Strength & Conditioning
DESCRIPTION:Increase your overall climbing strength and performance and build functional strength on and off the wall. \nIt’s all about improving form on and off the wall\, and having fun!
URL:https://portsideboulders.com.au/event/strength-conditioning/2028-08-24/
LOCATION:Portside Boulders Osborne Park\, warehouse e/73 Walters Dr\, Osborne Park\, WA\, 6017\, Australia
ATTACH;FMTTYPE=image/jpeg:https://portsideboulders.com.au/wp-content/uploads/2023/07/DSCF6586-scaled.jpg
END:VEVENT
BEGIN:VEVENT
DTSTART;TZID=Asia/Shanghai:20280831T183000
DTEND;TZID=Asia/Shanghai:20280831T193000
DTSTAMP:20260425T081308
CREATED:20230706T041014Z
LAST-MODIFIED:20240311T073607Z
UID:10011640-1851359400-1851363000@portsideboulders.com.au
SUMMARY:Strength & Conditioning
DESCRIPTION:Increase your overall climbing strength and performance and build functional strength on and off the wall. \nIt’s all about improving form on and off the wall\, and having fun!
URL:https://portsideboulders.com.au/event/strength-conditioning/2028-08-31/
LOCATION:Portside Boulders Osborne Park\, warehouse e/73 Walters Dr\, Osborne Park\, WA\, 6017\, Australia
ATTACH;FMTTYPE=image/jpeg:https://portsideboulders.com.au/wp-content/uploads/2023/07/DSCF6586-scaled.jpg
END:VEVENT
BEGIN:VEVENT
DTSTART;TZID=Asia/Shanghai:20280907T183000
DTEND;TZID=Asia/Shanghai:20280907T193000
DTSTAMP:20260425T081308
CREATED:20230706T041014Z
LAST-MODIFIED:20240311T073607Z
UID:10011641-1851964200-1851967800@portsideboulders.com.au
SUMMARY:Strength & Conditioning
DESCRIPTION:Increase your overall climbing strength and performance and build functional strength on and off the wall. \nIt’s all about improving form on and off the wall\, and having fun!
URL:https://portsideboulders.com.au/event/strength-conditioning/2028-09-07/
LOCATION:Portside Boulders Osborne Park\, warehouse e/73 Walters Dr\, Osborne Park\, WA\, 6017\, Australia
ATTACH;FMTTYPE=image/jpeg:https://portsideboulders.com.au/wp-content/uploads/2023/07/DSCF6586-scaled.jpg
END:VEVENT
BEGIN:VEVENT
DTSTART;TZID=Asia/Shanghai:20280914T183000
DTEND;TZID=Asia/Shanghai:20280914T193000
DTSTAMP:20260425T081308
CREATED:20230706T041014Z
LAST-MODIFIED:20240311T073607Z
UID:10011642-1852569000-1852572600@portsideboulders.com.au
SUMMARY:Strength & Conditioning
DESCRIPTION:Increase your overall climbing strength and performance and build functional strength on and off the wall. \nIt’s all about improving form on and off the wall\, and having fun!
URL:https://portsideboulders.com.au/event/strength-conditioning/2028-09-14/
LOCATION:Portside Boulders Osborne Park\, warehouse e/73 Walters Dr\, Osborne Park\, WA\, 6017\, Australia
ATTACH;FMTTYPE=image/jpeg:https://portsideboulders.com.au/wp-content/uploads/2023/07/DSCF6586-scaled.jpg
END:VEVENT
BEGIN:VEVENT
DTSTART;TZID=Asia/Shanghai:20280921T183000
DTEND;TZID=Asia/Shanghai:20280921T193000
DTSTAMP:20260425T081308
CREATED:20230706T041014Z
LAST-MODIFIED:20240311T073607Z
UID:10011643-1853173800-1853177400@portsideboulders.com.au
SUMMARY:Strength & Conditioning
DESCRIPTION:Increase your overall climbing strength and performance and build functional strength on and off the wall. \nIt’s all about improving form on and off the wall\, and having fun!
URL:https://portsideboulders.com.au/event/strength-conditioning/2028-09-21/
LOCATION:Portside Boulders Osborne Park\, warehouse e/73 Walters Dr\, Osborne Park\, WA\, 6017\, Australia
ATTACH;FMTTYPE=image/jpeg:https://portsideboulders.com.au/wp-content/uploads/2023/07/DSCF6586-scaled.jpg
END:VEVENT
BEGIN:VEVENT
DTSTART;TZID=Asia/Shanghai:20280928T183000
DTEND;TZID=Asia/Shanghai:20280928T193000
DTSTAMP:20260425T081308
CREATED:20230706T041014Z
LAST-MODIFIED:20240311T073607Z
UID:10011644-1853778600-1853782200@portsideboulders.com.au
SUMMARY:Strength & Conditioning
DESCRIPTION:Increase your overall climbing strength and performance and build functional strength on and off the wall. \nIt’s all about improving form on and off the wall\, and having fun!
URL:https://portsideboulders.com.au/event/strength-conditioning/2028-09-28/
LOCATION:Portside Boulders Osborne Park\, warehouse e/73 Walters Dr\, Osborne Park\, WA\, 6017\, Australia
ATTACH;FMTTYPE=image/jpeg:https://portsideboulders.com.au/wp-content/uploads/2023/07/DSCF6586-scaled.jpg
END:VEVENT
BEGIN:VEVENT
DTSTART;TZID=Asia/Shanghai:20281005T183000
DTEND;TZID=Asia/Shanghai:20281005T193000
DTSTAMP:20260425T081308
CREATED:20230706T041014Z
LAST-MODIFIED:20240311T073607Z
UID:10011645-1854383400-1854387000@portsideboulders.com.au
SUMMARY:Strength & Conditioning
DESCRIPTION:Increase your overall climbing strength and performance and build functional strength on and off the wall. \nIt’s all about improving form on and off the wall\, and having fun!
URL:https://portsideboulders.com.au/event/strength-conditioning/2028-10-05/
LOCATION:Portside Boulders Osborne Park\, warehouse e/73 Walters Dr\, Osborne Park\, WA\, 6017\, Australia
ATTACH;FMTTYPE=image/jpeg:https://portsideboulders.com.au/wp-content/uploads/2023/07/DSCF6586-scaled.jpg
END:VEVENT
BEGIN:VEVENT
DTSTART;TZID=Asia/Shanghai:20281012T183000
DTEND;TZID=Asia/Shanghai:20281012T193000
DTSTAMP:20260425T081308
CREATED:20230706T041014Z
LAST-MODIFIED:20240311T073607Z
UID:10011646-1854988200-1854991800@portsideboulders.com.au
SUMMARY:Strength & Conditioning
DESCRIPTION:Increase your overall climbing strength and performance and build functional strength on and off the wall. \nIt’s all about improving form on and off the wall\, and having fun!
URL:https://portsideboulders.com.au/event/strength-conditioning/2028-10-12/
LOCATION:Portside Boulders Osborne Park\, warehouse e/73 Walters Dr\, Osborne Park\, WA\, 6017\, Australia
ATTACH;FMTTYPE=image/jpeg:https://portsideboulders.com.au/wp-content/uploads/2023/07/DSCF6586-scaled.jpg
END:VEVENT
BEGIN:VEVENT
DTSTART;TZID=Asia/Shanghai:20281019T183000
DTEND;TZID=Asia/Shanghai:20281019T193000
DTSTAMP:20260425T081308
CREATED:20230706T041014Z
LAST-MODIFIED:20240311T073607Z
UID:10011647-1855593000-1855596600@portsideboulders.com.au
SUMMARY:Strength & Conditioning
DESCRIPTION:Increase your overall climbing strength and performance and build functional strength on and off the wall. \nIt’s all about improving form on and off the wall\, and having fun!
URL:https://portsideboulders.com.au/event/strength-conditioning/2028-10-19/
LOCATION:Portside Boulders Osborne Park\, warehouse e/73 Walters Dr\, Osborne Park\, WA\, 6017\, Australia
ATTACH;FMTTYPE=image/jpeg:https://portsideboulders.com.au/wp-content/uploads/2023/07/DSCF6586-scaled.jpg
END:VEVENT
BEGIN:VEVENT
DTSTART;TZID=Asia/Shanghai:20281026T183000
DTEND;TZID=Asia/Shanghai:20281026T193000
DTSTAMP:20260425T081308
CREATED:20230706T041014Z
LAST-MODIFIED:20240311T073607Z
UID:10011648-1856197800-1856201400@portsideboulders.com.au
SUMMARY:Strength & Conditioning
DESCRIPTION:Increase your overall climbing strength and performance and build functional strength on and off the wall. \nIt’s all about improving form on and off the wall\, and having fun!
URL:https://portsideboulders.com.au/event/strength-conditioning/2028-10-26/
LOCATION:Portside Boulders Osborne Park\, warehouse e/73 Walters Dr\, Osborne Park\, WA\, 6017\, Australia
ATTACH;FMTTYPE=image/jpeg:https://portsideboulders.com.au/wp-content/uploads/2023/07/DSCF6586-scaled.jpg
END:VEVENT
BEGIN:VEVENT
DTSTART;TZID=Asia/Shanghai:20281102T183000
DTEND;TZID=Asia/Shanghai:20281102T193000
DTSTAMP:20260425T081308
CREATED:20230706T041014Z
LAST-MODIFIED:20240311T073607Z
UID:10011649-1856802600-1856806200@portsideboulders.com.au
SUMMARY:Strength & Conditioning
DESCRIPTION:Increase your overall climbing strength and performance and build functional strength on and off the wall. \nIt’s all about improving form on and off the wall\, and having fun!
URL:https://portsideboulders.com.au/event/strength-conditioning/2028-11-02/
LOCATION:Portside Boulders Osborne Park\, warehouse e/73 Walters Dr\, Osborne Park\, WA\, 6017\, Australia
ATTACH;FMTTYPE=image/jpeg:https://portsideboulders.com.au/wp-content/uploads/2023/07/DSCF6586-scaled.jpg
END:VEVENT
BEGIN:VEVENT
DTSTART;TZID=Asia/Shanghai:20281109T183000
DTEND;TZID=Asia/Shanghai:20281109T193000
DTSTAMP:20260425T081308
CREATED:20230706T041014Z
LAST-MODIFIED:20240311T073607Z
UID:10011650-1857407400-1857411000@portsideboulders.com.au
SUMMARY:Strength & Conditioning
DESCRIPTION:Increase your overall climbing strength and performance and build functional strength on and off the wall. \nIt’s all about improving form on and off the wall\, and having fun!
URL:https://portsideboulders.com.au/event/strength-conditioning/2028-11-09/
LOCATION:Portside Boulders Osborne Park\, warehouse e/73 Walters Dr\, Osborne Park\, WA\, 6017\, Australia
ATTACH;FMTTYPE=image/jpeg:https://portsideboulders.com.au/wp-content/uploads/2023/07/DSCF6586-scaled.jpg
END:VEVENT
BEGIN:VEVENT
DTSTART;TZID=Asia/Shanghai:20281116T183000
DTEND;TZID=Asia/Shanghai:20281116T193000
DTSTAMP:20260425T081309
CREATED:20230706T041014Z
LAST-MODIFIED:20240311T073607Z
UID:10011651-1858012200-1858015800@portsideboulders.com.au
SUMMARY:Strength & Conditioning
DESCRIPTION:Increase your overall climbing strength and performance and build functional strength on and off the wall. \nIt’s all about improving form on and off the wall\, and having fun!
URL:https://portsideboulders.com.au/event/strength-conditioning/2028-11-16/
LOCATION:Portside Boulders Osborne Park\, warehouse e/73 Walters Dr\, Osborne Park\, WA\, 6017\, Australia
ATTACH;FMTTYPE=image/jpeg:https://portsideboulders.com.au/wp-content/uploads/2023/07/DSCF6586-scaled.jpg
END:VEVENT
BEGIN:VEVENT
DTSTART;TZID=Asia/Shanghai:20281123T183000
DTEND;TZID=Asia/Shanghai:20281123T193000
DTSTAMP:20260425T081309
CREATED:20230706T041014Z
LAST-MODIFIED:20240311T073607Z
UID:10011652-1858617000-1858620600@portsideboulders.com.au
SUMMARY:Strength & Conditioning
DESCRIPTION:Increase your overall climbing strength and performance and build functional strength on and off the wall. \nIt’s all about improving form on and off the wall\, and having fun!
URL:https://portsideboulders.com.au/event/strength-conditioning/2028-11-23/
LOCATION:Portside Boulders Osborne Park\, warehouse e/73 Walters Dr\, Osborne Park\, WA\, 6017\, Australia
ATTACH;FMTTYPE=image/jpeg:https://portsideboulders.com.au/wp-content/uploads/2023/07/DSCF6586-scaled.jpg
END:VEVENT
BEGIN:VEVENT
DTSTART;TZID=Asia/Shanghai:20281130T183000
DTEND;TZID=Asia/Shanghai:20281130T193000
DTSTAMP:20260425T081309
CREATED:20230706T041014Z
LAST-MODIFIED:20240311T073607Z
UID:10011653-1859221800-1859225400@portsideboulders.com.au
SUMMARY:Strength & Conditioning
DESCRIPTION:Increase your overall climbing strength and performance and build functional strength on and off the wall. \nIt’s all about improving form on and off the wall\, and having fun!
URL:https://portsideboulders.com.au/event/strength-conditioning/2028-11-30/
LOCATION:Portside Boulders Osborne Park\, warehouse e/73 Walters Dr\, Osborne Park\, WA\, 6017\, Australia
ATTACH;FMTTYPE=image/jpeg:https://portsideboulders.com.au/wp-content/uploads/2023/07/DSCF6586-scaled.jpg
END:VEVENT
BEGIN:VEVENT
DTSTART;TZID=Asia/Shanghai:20281207T183000
DTEND;TZID=Asia/Shanghai:20281207T193000
DTSTAMP:20260425T081309
CREATED:20230706T041014Z
LAST-MODIFIED:20240311T073607Z
UID:10011654-1859826600-1859830200@portsideboulders.com.au
SUMMARY:Strength & Conditioning
DESCRIPTION:Increase your overall climbing strength and performance and build functional strength on and off the wall. \nIt’s all about improving form on and off the wall\, and having fun!
URL:https://portsideboulders.com.au/event/strength-conditioning/2028-12-07/
LOCATION:Portside Boulders Osborne Park\, warehouse e/73 Walters Dr\, Osborne Park\, WA\, 6017\, Australia
ATTACH;FMTTYPE=image/jpeg:https://portsideboulders.com.au/wp-content/uploads/2023/07/DSCF6586-scaled.jpg
END:VEVENT
BEGIN:VEVENT
DTSTART;TZID=Asia/Shanghai:20281214T183000
DTEND;TZID=Asia/Shanghai:20281214T193000
DTSTAMP:20260425T081309
CREATED:20230706T041014Z
LAST-MODIFIED:20240311T073607Z
UID:10011655-1860431400-1860435000@portsideboulders.com.au
SUMMARY:Strength & Conditioning
DESCRIPTION:Increase your overall climbing strength and performance and build functional strength on and off the wall. \nIt’s all about improving form on and off the wall\, and having fun!
URL:https://portsideboulders.com.au/event/strength-conditioning/2028-12-14/
LOCATION:Portside Boulders Osborne Park\, warehouse e/73 Walters Dr\, Osborne Park\, WA\, 6017\, Australia
ATTACH;FMTTYPE=image/jpeg:https://portsideboulders.com.au/wp-content/uploads/2023/07/DSCF6586-scaled.jpg
END:VEVENT
END:VCALENDAR