BEGIN:VCALENDAR
VERSION:2.0
PRODID:-//Portside Boulders - ECPv6.15.17.1//NONSGML v1.0//EN
CALSCALE:GREGORIAN
METHOD:PUBLISH
X-ORIGINAL-URL:https://portsideboulders.com.au
X-WR-CALDESC:Events for Portside Boulders
REFRESH-INTERVAL;VALUE=DURATION:PT1H
X-Robots-Tag:noindex
X-PUBLISHED-TTL:PT1H
BEGIN:VTIMEZONE
TZID:Asia/Shanghai
BEGIN:STANDARD
TZOFFSETFROM:+0800
TZOFFSETTO:+0800
TZNAME:CST
DTSTART:20260101T000000
END:STANDARD
END:VTIMEZONE
BEGIN:VEVENT
DTSTART;TZID=Asia/Shanghai:20270107T183000
DTEND;TZID=Asia/Shanghai:20270107T193000
DTSTAMP:20260425T003856
CREATED:20230706T041014Z
LAST-MODIFIED:20240311T073607Z
UID:10002330-1799346600-1799350200@portsideboulders.com.au
SUMMARY:Strength & Conditioning
DESCRIPTION:Increase your overall climbing strength and performance and build functional strength on and off the wall. \nIt’s all about improving form on and off the wall\, and having fun!
URL:https://portsideboulders.com.au/event/strength-conditioning/2027-01-07/
LOCATION:Portside Boulders Osborne Park\, warehouse e/73 Walters Dr\, Osborne Park\, WA\, 6017\, Australia
ATTACH;FMTTYPE=image/jpeg:https://portsideboulders.com.au/wp-content/uploads/2023/07/DSCF6586-scaled.jpg
END:VEVENT
BEGIN:VEVENT
DTSTART;TZID=Asia/Shanghai:20270114T183000
DTEND;TZID=Asia/Shanghai:20270114T193000
DTSTAMP:20260425T003856
CREATED:20230706T041014Z
LAST-MODIFIED:20240311T073607Z
UID:10002331-1799951400-1799955000@portsideboulders.com.au
SUMMARY:Strength & Conditioning
DESCRIPTION:Increase your overall climbing strength and performance and build functional strength on and off the wall. \nIt’s all about improving form on and off the wall\, and having fun!
URL:https://portsideboulders.com.au/event/strength-conditioning/2027-01-14/
LOCATION:Portside Boulders Osborne Park\, warehouse e/73 Walters Dr\, Osborne Park\, WA\, 6017\, Australia
ATTACH;FMTTYPE=image/jpeg:https://portsideboulders.com.au/wp-content/uploads/2023/07/DSCF6586-scaled.jpg
END:VEVENT
BEGIN:VEVENT
DTSTART;TZID=Asia/Shanghai:20270121T183000
DTEND;TZID=Asia/Shanghai:20270121T193000
DTSTAMP:20260425T003856
CREATED:20230706T041014Z
LAST-MODIFIED:20240311T073607Z
UID:10002332-1800556200-1800559800@portsideboulders.com.au
SUMMARY:Strength & Conditioning
DESCRIPTION:Increase your overall climbing strength and performance and build functional strength on and off the wall. \nIt’s all about improving form on and off the wall\, and having fun!
URL:https://portsideboulders.com.au/event/strength-conditioning/2027-01-21/
LOCATION:Portside Boulders Osborne Park\, warehouse e/73 Walters Dr\, Osborne Park\, WA\, 6017\, Australia
ATTACH;FMTTYPE=image/jpeg:https://portsideboulders.com.au/wp-content/uploads/2023/07/DSCF6586-scaled.jpg
END:VEVENT
BEGIN:VEVENT
DTSTART;TZID=Asia/Shanghai:20270128T183000
DTEND;TZID=Asia/Shanghai:20270128T193000
DTSTAMP:20260425T003856
CREATED:20230706T041014Z
LAST-MODIFIED:20240311T073607Z
UID:10002333-1801161000-1801164600@portsideboulders.com.au
SUMMARY:Strength & Conditioning
DESCRIPTION:Increase your overall climbing strength and performance and build functional strength on and off the wall. \nIt’s all about improving form on and off the wall\, and having fun!
URL:https://portsideboulders.com.au/event/strength-conditioning/2027-01-28/
LOCATION:Portside Boulders Osborne Park\, warehouse e/73 Walters Dr\, Osborne Park\, WA\, 6017\, Australia
ATTACH;FMTTYPE=image/jpeg:https://portsideboulders.com.au/wp-content/uploads/2023/07/DSCF6586-scaled.jpg
END:VEVENT
BEGIN:VEVENT
DTSTART;TZID=Asia/Shanghai:20270204T183000
DTEND;TZID=Asia/Shanghai:20270204T193000
DTSTAMP:20260425T003856
CREATED:20230706T041014Z
LAST-MODIFIED:20240311T073607Z
UID:10002334-1801765800-1801769400@portsideboulders.com.au
SUMMARY:Strength & Conditioning
DESCRIPTION:Increase your overall climbing strength and performance and build functional strength on and off the wall. \nIt’s all about improving form on and off the wall\, and having fun!
URL:https://portsideboulders.com.au/event/strength-conditioning/2027-02-04/
LOCATION:Portside Boulders Osborne Park\, warehouse e/73 Walters Dr\, Osborne Park\, WA\, 6017\, Australia
ATTACH;FMTTYPE=image/jpeg:https://portsideboulders.com.au/wp-content/uploads/2023/07/DSCF6586-scaled.jpg
END:VEVENT
BEGIN:VEVENT
DTSTART;TZID=Asia/Shanghai:20270211T183000
DTEND;TZID=Asia/Shanghai:20270211T193000
DTSTAMP:20260425T003856
CREATED:20230706T041014Z
LAST-MODIFIED:20240311T073607Z
UID:10002335-1802370600-1802374200@portsideboulders.com.au
SUMMARY:Strength & Conditioning
DESCRIPTION:Increase your overall climbing strength and performance and build functional strength on and off the wall. \nIt’s all about improving form on and off the wall\, and having fun!
URL:https://portsideboulders.com.au/event/strength-conditioning/2027-02-11/
LOCATION:Portside Boulders Osborne Park\, warehouse e/73 Walters Dr\, Osborne Park\, WA\, 6017\, Australia
ATTACH;FMTTYPE=image/jpeg:https://portsideboulders.com.au/wp-content/uploads/2023/07/DSCF6586-scaled.jpg
END:VEVENT
BEGIN:VEVENT
DTSTART;TZID=Asia/Shanghai:20270218T183000
DTEND;TZID=Asia/Shanghai:20270218T193000
DTSTAMP:20260425T003856
CREATED:20230706T041014Z
LAST-MODIFIED:20240311T073607Z
UID:10002336-1802975400-1802979000@portsideboulders.com.au
SUMMARY:Strength & Conditioning
DESCRIPTION:Increase your overall climbing strength and performance and build functional strength on and off the wall. \nIt’s all about improving form on and off the wall\, and having fun!
URL:https://portsideboulders.com.au/event/strength-conditioning/2027-02-18/
LOCATION:Portside Boulders Osborne Park\, warehouse e/73 Walters Dr\, Osborne Park\, WA\, 6017\, Australia
ATTACH;FMTTYPE=image/jpeg:https://portsideboulders.com.au/wp-content/uploads/2023/07/DSCF6586-scaled.jpg
END:VEVENT
BEGIN:VEVENT
DTSTART;TZID=Asia/Shanghai:20270225T183000
DTEND;TZID=Asia/Shanghai:20270225T193000
DTSTAMP:20260425T003856
CREATED:20230706T041014Z
LAST-MODIFIED:20240311T073607Z
UID:10002337-1803580200-1803583800@portsideboulders.com.au
SUMMARY:Strength & Conditioning
DESCRIPTION:Increase your overall climbing strength and performance and build functional strength on and off the wall. \nIt’s all about improving form on and off the wall\, and having fun!
URL:https://portsideboulders.com.au/event/strength-conditioning/2027-02-25/
LOCATION:Portside Boulders Osborne Park\, warehouse e/73 Walters Dr\, Osborne Park\, WA\, 6017\, Australia
ATTACH;FMTTYPE=image/jpeg:https://portsideboulders.com.au/wp-content/uploads/2023/07/DSCF6586-scaled.jpg
END:VEVENT
BEGIN:VEVENT
DTSTART;TZID=Asia/Shanghai:20270304T183000
DTEND;TZID=Asia/Shanghai:20270304T193000
DTSTAMP:20260425T003856
CREATED:20230706T041014Z
LAST-MODIFIED:20240311T073607Z
UID:10002338-1804185000-1804188600@portsideboulders.com.au
SUMMARY:Strength & Conditioning
DESCRIPTION:Increase your overall climbing strength and performance and build functional strength on and off the wall. \nIt’s all about improving form on and off the wall\, and having fun!
URL:https://portsideboulders.com.au/event/strength-conditioning/2027-03-04/
LOCATION:Portside Boulders Osborne Park\, warehouse e/73 Walters Dr\, Osborne Park\, WA\, 6017\, Australia
ATTACH;FMTTYPE=image/jpeg:https://portsideboulders.com.au/wp-content/uploads/2023/07/DSCF6586-scaled.jpg
END:VEVENT
BEGIN:VEVENT
DTSTART;TZID=Asia/Shanghai:20270311T183000
DTEND;TZID=Asia/Shanghai:20270311T193000
DTSTAMP:20260425T003856
CREATED:20230706T041014Z
LAST-MODIFIED:20240311T073607Z
UID:10002339-1804789800-1804793400@portsideboulders.com.au
SUMMARY:Strength & Conditioning
DESCRIPTION:Increase your overall climbing strength and performance and build functional strength on and off the wall. \nIt’s all about improving form on and off the wall\, and having fun!
URL:https://portsideboulders.com.au/event/strength-conditioning/2027-03-11/
LOCATION:Portside Boulders Osborne Park\, warehouse e/73 Walters Dr\, Osborne Park\, WA\, 6017\, Australia
ATTACH;FMTTYPE=image/jpeg:https://portsideboulders.com.au/wp-content/uploads/2023/07/DSCF6586-scaled.jpg
END:VEVENT
BEGIN:VEVENT
DTSTART;TZID=Asia/Shanghai:20270318T183000
DTEND;TZID=Asia/Shanghai:20270318T193000
DTSTAMP:20260425T003856
CREATED:20230706T041014Z
LAST-MODIFIED:20240311T073607Z
UID:10002340-1805394600-1805398200@portsideboulders.com.au
SUMMARY:Strength & Conditioning
DESCRIPTION:Increase your overall climbing strength and performance and build functional strength on and off the wall. \nIt’s all about improving form on and off the wall\, and having fun!
URL:https://portsideboulders.com.au/event/strength-conditioning/2027-03-18/
LOCATION:Portside Boulders Osborne Park\, warehouse e/73 Walters Dr\, Osborne Park\, WA\, 6017\, Australia
ATTACH;FMTTYPE=image/jpeg:https://portsideboulders.com.au/wp-content/uploads/2023/07/DSCF6586-scaled.jpg
END:VEVENT
BEGIN:VEVENT
DTSTART;TZID=Asia/Shanghai:20270325T183000
DTEND;TZID=Asia/Shanghai:20270325T193000
DTSTAMP:20260425T003856
CREATED:20230706T041014Z
LAST-MODIFIED:20240311T073607Z
UID:10002341-1805999400-1806003000@portsideboulders.com.au
SUMMARY:Strength & Conditioning
DESCRIPTION:Increase your overall climbing strength and performance and build functional strength on and off the wall. \nIt’s all about improving form on and off the wall\, and having fun!
URL:https://portsideboulders.com.au/event/strength-conditioning/2027-03-25/
LOCATION:Portside Boulders Osborne Park\, warehouse e/73 Walters Dr\, Osborne Park\, WA\, 6017\, Australia
ATTACH;FMTTYPE=image/jpeg:https://portsideboulders.com.au/wp-content/uploads/2023/07/DSCF6586-scaled.jpg
END:VEVENT
BEGIN:VEVENT
DTSTART;TZID=Asia/Shanghai:20270401T183000
DTEND;TZID=Asia/Shanghai:20270401T193000
DTSTAMP:20260425T003856
CREATED:20230706T041014Z
LAST-MODIFIED:20240311T073607Z
UID:10002342-1806604200-1806607800@portsideboulders.com.au
SUMMARY:Strength & Conditioning
DESCRIPTION:Increase your overall climbing strength and performance and build functional strength on and off the wall. \nIt’s all about improving form on and off the wall\, and having fun!
URL:https://portsideboulders.com.au/event/strength-conditioning/2027-04-01/
LOCATION:Portside Boulders Osborne Park\, warehouse e/73 Walters Dr\, Osborne Park\, WA\, 6017\, Australia
ATTACH;FMTTYPE=image/jpeg:https://portsideboulders.com.au/wp-content/uploads/2023/07/DSCF6586-scaled.jpg
END:VEVENT
BEGIN:VEVENT
DTSTART;TZID=Asia/Shanghai:20270408T183000
DTEND;TZID=Asia/Shanghai:20270408T193000
DTSTAMP:20260425T003856
CREATED:20230706T041014Z
LAST-MODIFIED:20240311T073607Z
UID:10002343-1807209000-1807212600@portsideboulders.com.au
SUMMARY:Strength & Conditioning
DESCRIPTION:Increase your overall climbing strength and performance and build functional strength on and off the wall. \nIt’s all about improving form on and off the wall\, and having fun!
URL:https://portsideboulders.com.au/event/strength-conditioning/2027-04-08/
LOCATION:Portside Boulders Osborne Park\, warehouse e/73 Walters Dr\, Osborne Park\, WA\, 6017\, Australia
ATTACH;FMTTYPE=image/jpeg:https://portsideboulders.com.au/wp-content/uploads/2023/07/DSCF6586-scaled.jpg
END:VEVENT
BEGIN:VEVENT
DTSTART;TZID=Asia/Shanghai:20270415T183000
DTEND;TZID=Asia/Shanghai:20270415T193000
DTSTAMP:20260425T003856
CREATED:20230706T041014Z
LAST-MODIFIED:20240311T073607Z
UID:10002344-1807813800-1807817400@portsideboulders.com.au
SUMMARY:Strength & Conditioning
DESCRIPTION:Increase your overall climbing strength and performance and build functional strength on and off the wall. \nIt’s all about improving form on and off the wall\, and having fun!
URL:https://portsideboulders.com.au/event/strength-conditioning/2027-04-15/
LOCATION:Portside Boulders Osborne Park\, warehouse e/73 Walters Dr\, Osborne Park\, WA\, 6017\, Australia
ATTACH;FMTTYPE=image/jpeg:https://portsideboulders.com.au/wp-content/uploads/2023/07/DSCF6586-scaled.jpg
END:VEVENT
BEGIN:VEVENT
DTSTART;TZID=Asia/Shanghai:20270422T183000
DTEND;TZID=Asia/Shanghai:20270422T193000
DTSTAMP:20260425T003856
CREATED:20230706T041014Z
LAST-MODIFIED:20240311T073607Z
UID:10002345-1808418600-1808422200@portsideboulders.com.au
SUMMARY:Strength & Conditioning
DESCRIPTION:Increase your overall climbing strength and performance and build functional strength on and off the wall. \nIt’s all about improving form on and off the wall\, and having fun!
URL:https://portsideboulders.com.au/event/strength-conditioning/2027-04-22/
LOCATION:Portside Boulders Osborne Park\, warehouse e/73 Walters Dr\, Osborne Park\, WA\, 6017\, Australia
ATTACH;FMTTYPE=image/jpeg:https://portsideboulders.com.au/wp-content/uploads/2023/07/DSCF6586-scaled.jpg
END:VEVENT
BEGIN:VEVENT
DTSTART;TZID=Asia/Shanghai:20270429T183000
DTEND;TZID=Asia/Shanghai:20270429T193000
DTSTAMP:20260425T003856
CREATED:20230706T041014Z
LAST-MODIFIED:20240311T073607Z
UID:10002346-1809023400-1809027000@portsideboulders.com.au
SUMMARY:Strength & Conditioning
DESCRIPTION:Increase your overall climbing strength and performance and build functional strength on and off the wall. \nIt’s all about improving form on and off the wall\, and having fun!
URL:https://portsideboulders.com.au/event/strength-conditioning/2027-04-29/
LOCATION:Portside Boulders Osborne Park\, warehouse e/73 Walters Dr\, Osborne Park\, WA\, 6017\, Australia
ATTACH;FMTTYPE=image/jpeg:https://portsideboulders.com.au/wp-content/uploads/2023/07/DSCF6586-scaled.jpg
END:VEVENT
BEGIN:VEVENT
DTSTART;TZID=Asia/Shanghai:20270506T183000
DTEND;TZID=Asia/Shanghai:20270506T193000
DTSTAMP:20260425T003856
CREATED:20230706T041014Z
LAST-MODIFIED:20240311T073607Z
UID:10002347-1809628200-1809631800@portsideboulders.com.au
SUMMARY:Strength & Conditioning
DESCRIPTION:Increase your overall climbing strength and performance and build functional strength on and off the wall. \nIt’s all about improving form on and off the wall\, and having fun!
URL:https://portsideboulders.com.au/event/strength-conditioning/2027-05-06/
LOCATION:Portside Boulders Osborne Park\, warehouse e/73 Walters Dr\, Osborne Park\, WA\, 6017\, Australia
ATTACH;FMTTYPE=image/jpeg:https://portsideboulders.com.au/wp-content/uploads/2023/07/DSCF6586-scaled.jpg
END:VEVENT
BEGIN:VEVENT
DTSTART;TZID=Asia/Shanghai:20270513T183000
DTEND;TZID=Asia/Shanghai:20270513T193000
DTSTAMP:20260425T003856
CREATED:20230706T041014Z
LAST-MODIFIED:20240311T073607Z
UID:10002348-1810233000-1810236600@portsideboulders.com.au
SUMMARY:Strength & Conditioning
DESCRIPTION:Increase your overall climbing strength and performance and build functional strength on and off the wall. \nIt’s all about improving form on and off the wall\, and having fun!
URL:https://portsideboulders.com.au/event/strength-conditioning/2027-05-13/
LOCATION:Portside Boulders Osborne Park\, warehouse e/73 Walters Dr\, Osborne Park\, WA\, 6017\, Australia
ATTACH;FMTTYPE=image/jpeg:https://portsideboulders.com.au/wp-content/uploads/2023/07/DSCF6586-scaled.jpg
END:VEVENT
BEGIN:VEVENT
DTSTART;TZID=Asia/Shanghai:20270520T183000
DTEND;TZID=Asia/Shanghai:20270520T193000
DTSTAMP:20260425T003856
CREATED:20230706T041014Z
LAST-MODIFIED:20240311T073607Z
UID:10002349-1810837800-1810841400@portsideboulders.com.au
SUMMARY:Strength & Conditioning
DESCRIPTION:Increase your overall climbing strength and performance and build functional strength on and off the wall. \nIt’s all about improving form on and off the wall\, and having fun!
URL:https://portsideboulders.com.au/event/strength-conditioning/2027-05-20/
LOCATION:Portside Boulders Osborne Park\, warehouse e/73 Walters Dr\, Osborne Park\, WA\, 6017\, Australia
ATTACH;FMTTYPE=image/jpeg:https://portsideboulders.com.au/wp-content/uploads/2023/07/DSCF6586-scaled.jpg
END:VEVENT
BEGIN:VEVENT
DTSTART;TZID=Asia/Shanghai:20270527T183000
DTEND;TZID=Asia/Shanghai:20270527T193000
DTSTAMP:20260425T003856
CREATED:20230706T041014Z
LAST-MODIFIED:20240311T073607Z
UID:10002350-1811442600-1811446200@portsideboulders.com.au
SUMMARY:Strength & Conditioning
DESCRIPTION:Increase your overall climbing strength and performance and build functional strength on and off the wall. \nIt’s all about improving form on and off the wall\, and having fun!
URL:https://portsideboulders.com.au/event/strength-conditioning/2027-05-27/
LOCATION:Portside Boulders Osborne Park\, warehouse e/73 Walters Dr\, Osborne Park\, WA\, 6017\, Australia
ATTACH;FMTTYPE=image/jpeg:https://portsideboulders.com.au/wp-content/uploads/2023/07/DSCF6586-scaled.jpg
END:VEVENT
BEGIN:VEVENT
DTSTART;TZID=Asia/Shanghai:20270603T183000
DTEND;TZID=Asia/Shanghai:20270603T193000
DTSTAMP:20260425T003856
CREATED:20230706T041014Z
LAST-MODIFIED:20240311T073607Z
UID:10002351-1812047400-1812051000@portsideboulders.com.au
SUMMARY:Strength & Conditioning
DESCRIPTION:Increase your overall climbing strength and performance and build functional strength on and off the wall. \nIt’s all about improving form on and off the wall\, and having fun!
URL:https://portsideboulders.com.au/event/strength-conditioning/2027-06-03/
LOCATION:Portside Boulders Osborne Park\, warehouse e/73 Walters Dr\, Osborne Park\, WA\, 6017\, Australia
ATTACH;FMTTYPE=image/jpeg:https://portsideboulders.com.au/wp-content/uploads/2023/07/DSCF6586-scaled.jpg
END:VEVENT
BEGIN:VEVENT
DTSTART;TZID=Asia/Shanghai:20270610T183000
DTEND;TZID=Asia/Shanghai:20270610T193000
DTSTAMP:20260425T003856
CREATED:20230706T041014Z
LAST-MODIFIED:20240311T073607Z
UID:10002352-1812652200-1812655800@portsideboulders.com.au
SUMMARY:Strength & Conditioning
DESCRIPTION:Increase your overall climbing strength and performance and build functional strength on and off the wall. \nIt’s all about improving form on and off the wall\, and having fun!
URL:https://portsideboulders.com.au/event/strength-conditioning/2027-06-10/
LOCATION:Portside Boulders Osborne Park\, warehouse e/73 Walters Dr\, Osborne Park\, WA\, 6017\, Australia
ATTACH;FMTTYPE=image/jpeg:https://portsideboulders.com.au/wp-content/uploads/2023/07/DSCF6586-scaled.jpg
END:VEVENT
BEGIN:VEVENT
DTSTART;TZID=Asia/Shanghai:20270617T183000
DTEND;TZID=Asia/Shanghai:20270617T193000
DTSTAMP:20260425T003856
CREATED:20230706T041014Z
LAST-MODIFIED:20240311T073607Z
UID:10002353-1813257000-1813260600@portsideboulders.com.au
SUMMARY:Strength & Conditioning
DESCRIPTION:Increase your overall climbing strength and performance and build functional strength on and off the wall. \nIt’s all about improving form on and off the wall\, and having fun!
URL:https://portsideboulders.com.au/event/strength-conditioning/2027-06-17/
LOCATION:Portside Boulders Osborne Park\, warehouse e/73 Walters Dr\, Osborne Park\, WA\, 6017\, Australia
ATTACH;FMTTYPE=image/jpeg:https://portsideboulders.com.au/wp-content/uploads/2023/07/DSCF6586-scaled.jpg
END:VEVENT
BEGIN:VEVENT
DTSTART;TZID=Asia/Shanghai:20270624T183000
DTEND;TZID=Asia/Shanghai:20270624T193000
DTSTAMP:20260425T003856
CREATED:20230706T041014Z
LAST-MODIFIED:20240311T073607Z
UID:10002354-1813861800-1813865400@portsideboulders.com.au
SUMMARY:Strength & Conditioning
DESCRIPTION:Increase your overall climbing strength and performance and build functional strength on and off the wall. \nIt’s all about improving form on and off the wall\, and having fun!
URL:https://portsideboulders.com.au/event/strength-conditioning/2027-06-24/
LOCATION:Portside Boulders Osborne Park\, warehouse e/73 Walters Dr\, Osborne Park\, WA\, 6017\, Australia
ATTACH;FMTTYPE=image/jpeg:https://portsideboulders.com.au/wp-content/uploads/2023/07/DSCF6586-scaled.jpg
END:VEVENT
BEGIN:VEVENT
DTSTART;TZID=Asia/Shanghai:20270701T183000
DTEND;TZID=Asia/Shanghai:20270701T193000
DTSTAMP:20260425T003856
CREATED:20230706T041014Z
LAST-MODIFIED:20240311T073607Z
UID:10002355-1814466600-1814470200@portsideboulders.com.au
SUMMARY:Strength & Conditioning
DESCRIPTION:Increase your overall climbing strength and performance and build functional strength on and off the wall. \nIt’s all about improving form on and off the wall\, and having fun!
URL:https://portsideboulders.com.au/event/strength-conditioning/2027-07-01/
LOCATION:Portside Boulders Osborne Park\, warehouse e/73 Walters Dr\, Osborne Park\, WA\, 6017\, Australia
ATTACH;FMTTYPE=image/jpeg:https://portsideboulders.com.au/wp-content/uploads/2023/07/DSCF6586-scaled.jpg
END:VEVENT
BEGIN:VEVENT
DTSTART;TZID=Asia/Shanghai:20270708T183000
DTEND;TZID=Asia/Shanghai:20270708T193000
DTSTAMP:20260425T003856
CREATED:20230706T041014Z
LAST-MODIFIED:20240311T073607Z
UID:10002356-1815071400-1815075000@portsideboulders.com.au
SUMMARY:Strength & Conditioning
DESCRIPTION:Increase your overall climbing strength and performance and build functional strength on and off the wall. \nIt’s all about improving form on and off the wall\, and having fun!
URL:https://portsideboulders.com.au/event/strength-conditioning/2027-07-08/
LOCATION:Portside Boulders Osborne Park\, warehouse e/73 Walters Dr\, Osborne Park\, WA\, 6017\, Australia
ATTACH;FMTTYPE=image/jpeg:https://portsideboulders.com.au/wp-content/uploads/2023/07/DSCF6586-scaled.jpg
END:VEVENT
BEGIN:VEVENT
DTSTART;TZID=Asia/Shanghai:20270715T183000
DTEND;TZID=Asia/Shanghai:20270715T193000
DTSTAMP:20260425T003856
CREATED:20230706T041014Z
LAST-MODIFIED:20240311T073607Z
UID:10002357-1815676200-1815679800@portsideboulders.com.au
SUMMARY:Strength & Conditioning
DESCRIPTION:Increase your overall climbing strength and performance and build functional strength on and off the wall. \nIt’s all about improving form on and off the wall\, and having fun!
URL:https://portsideboulders.com.au/event/strength-conditioning/2027-07-15/
LOCATION:Portside Boulders Osborne Park\, warehouse e/73 Walters Dr\, Osborne Park\, WA\, 6017\, Australia
ATTACH;FMTTYPE=image/jpeg:https://portsideboulders.com.au/wp-content/uploads/2023/07/DSCF6586-scaled.jpg
END:VEVENT
BEGIN:VEVENT
DTSTART;TZID=Asia/Shanghai:20270722T183000
DTEND;TZID=Asia/Shanghai:20270722T193000
DTSTAMP:20260425T003856
CREATED:20230706T041014Z
LAST-MODIFIED:20240311T073607Z
UID:10002358-1816281000-1816284600@portsideboulders.com.au
SUMMARY:Strength & Conditioning
DESCRIPTION:Increase your overall climbing strength and performance and build functional strength on and off the wall. \nIt’s all about improving form on and off the wall\, and having fun!
URL:https://portsideboulders.com.au/event/strength-conditioning/2027-07-22/
LOCATION:Portside Boulders Osborne Park\, warehouse e/73 Walters Dr\, Osborne Park\, WA\, 6017\, Australia
ATTACH;FMTTYPE=image/jpeg:https://portsideboulders.com.au/wp-content/uploads/2023/07/DSCF6586-scaled.jpg
END:VEVENT
BEGIN:VEVENT
DTSTART;TZID=Asia/Shanghai:20270729T183000
DTEND;TZID=Asia/Shanghai:20270729T193000
DTSTAMP:20260425T003856
CREATED:20230706T041014Z
LAST-MODIFIED:20240311T073607Z
UID:10002359-1816885800-1816889400@portsideboulders.com.au
SUMMARY:Strength & Conditioning
DESCRIPTION:Increase your overall climbing strength and performance and build functional strength on and off the wall. \nIt’s all about improving form on and off the wall\, and having fun!
URL:https://portsideboulders.com.au/event/strength-conditioning/2027-07-29/
LOCATION:Portside Boulders Osborne Park\, warehouse e/73 Walters Dr\, Osborne Park\, WA\, 6017\, Australia
ATTACH;FMTTYPE=image/jpeg:https://portsideboulders.com.au/wp-content/uploads/2023/07/DSCF6586-scaled.jpg
END:VEVENT
END:VCALENDAR