BEGIN:VCALENDAR
VERSION:2.0
PRODID:-//Portside Boulders - ECPv6.15.17.1//NONSGML v1.0//EN
CALSCALE:GREGORIAN
METHOD:PUBLISH
X-ORIGINAL-URL:https://portsideboulders.com.au
X-WR-CALDESC:Events for Portside Boulders
REFRESH-INTERVAL;VALUE=DURATION:PT1H
X-Robots-Tag:noindex
X-PUBLISHED-TTL:PT1H
BEGIN:VTIMEZONE
TZID:Asia/Shanghai
BEGIN:STANDARD
TZOFFSETFROM:+0800
TZOFFSETTO:+0800
TZNAME:CST
DTSTART:20250101T000000
END:STANDARD
END:VTIMEZONE
BEGIN:VEVENT
DTSTART;TZID=Asia/Shanghai:20260711T090000
DTEND;TZID=Asia/Shanghai:20260711T103000
DTSTAMP:20260420T205605
CREATED:20230706T053101Z
LAST-MODIFIED:20240311T074233Z
UID:10005384-1783760400-1783765800@portsideboulders.com.au
SUMMARY:Boulder Stronger
DESCRIPTION:This is a comprehensive\, customised training program designed by our head coach and contains one face-to-face session each week\, as well as two homework sessions a week. \nYou’ll focus on advanced climbing techniques\, as well as tailor-made strength-work. If you’re looking to really elevate your climbing abilities or train for competition climbing\, this is the program for you! \nPortside Members – $39.95 p/w\nNon-Members – $49.95 p/w \nAll our Bouldering Classes are run by Axis Coaching. \nAxis are a professional coaching service\, and have been integrated into Portside since 2017.\nTheir mission is to help boulderers improve their performance both on and off the wall.
URL:https://portsideboulders.com.au/event/boulder-stronger-3/2026-07-11/
LOCATION:Portside Boulders Willetton\, 8 Kembla Way\, Perth\, WA\, 6155\, Australia
ATTACH;FMTTYPE=image/png:https://portsideboulders.com.au/wp-content/uploads/2023/07/Boulder-Stronger.png
END:VEVENT
BEGIN:VEVENT
DTSTART;TZID=Asia/Shanghai:20260712T090000
DTEND;TZID=Asia/Shanghai:20260712T100000
DTSTAMP:20260420T205605
CREATED:20230703T080440Z
LAST-MODIFIED:20240311T074428Z
UID:10000966-1783846800-1783850400@portsideboulders.com.au
SUMMARY:Restorative Yoga
DESCRIPTION:Restorative Yoga is a style of yoga that encourages physical\, mental\, and emotional relaxation. Great for all levels\, restorative yoga is practiced at a slow pace\, focusing on long holds\, stillness\, and deep breathing.
URL:https://portsideboulders.com.au/event/restorative-yoga/2026-07-12/
LOCATION:Portside Boulders Willetton\, 8 Kembla Way\, Perth\, WA\, 6155\, Australia
ATTACH;FMTTYPE=image/jpeg:https://portsideboulders.com.au/wp-content/uploads/2023/07/Akemi-15-Copy-scaled.jpg
END:VEVENT
BEGIN:VEVENT
DTSTART;TZID=Asia/Shanghai:20260713T183000
DTEND;TZID=Asia/Shanghai:20260713T193000
DTSTAMP:20260420T205605
CREATED:20241029T080057Z
LAST-MODIFIED:20251029T052115Z
UID:10013140-1783967400-1783971000@portsideboulders.com.au
SUMMARY:Calisthenics
DESCRIPTION:Oscar will guide you through learning a variety of calisthenics skills. Muscle ups\, levers\, handstands and pistol squats to name a couple. \nIt’s all about improving form on and off the wall\, and having fun!
URL:https://portsideboulders.com.au/event/calisthenics-2-2/2026-07-13/
LOCATION:Portside Boulders Willetton\, 8 Kembla Way\, Perth\, WA\, 6155\, Australia
ATTACH;FMTTYPE=image/jpeg:https://portsideboulders.com.au/wp-content/uploads/2023/07/DSCF6577-scaled.jpg
END:VEVENT
BEGIN:VEVENT
DTSTART;VALUE=DATE:20260717
DTEND;VALUE=DATE:20260718
DTSTAMP:20260420T205605
CREATED:20230719T035730Z
LAST-MODIFIED:20260123T034050Z
UID:10006746-1784246400-1784332799@portsideboulders.com.au
SUMMARY:Student Fridays
DESCRIPTION:Every Friday we offer $16 entry for students to each Portside with any valid student ID. \nNote: this does not include chalk ($3) and shoe ($7) hire. \nWe also have a BBQ that runs from approximately 6pm-7:30pm. \nSo come on down\, and bring your mates! To speed things up\, make sure you get anyone new you’d like to fill out the waiver in advance.
URL:https://portsideboulders.com.au/event/student-fridays/2026-07-17/
LOCATION:Portside Boulders Willetton\, 8 Kembla Way\, Perth\, WA\, 6155\, Australia
ATTACH;FMTTYPE=image/jpeg:https://portsideboulders.com.au/wp-content/uploads/2024/02/student-night.jpg
END:VEVENT
BEGIN:VEVENT
DTSTART;TZID=Asia/Shanghai:20260718T090000
DTEND;TZID=Asia/Shanghai:20260718T103000
DTSTAMP:20260420T205605
CREATED:20230706T053101Z
LAST-MODIFIED:20240311T074233Z
UID:10005385-1784365200-1784370600@portsideboulders.com.au
SUMMARY:Boulder Stronger
DESCRIPTION:This is a comprehensive\, customised training program designed by our head coach and contains one face-to-face session each week\, as well as two homework sessions a week. \nYou’ll focus on advanced climbing techniques\, as well as tailor-made strength-work. If you’re looking to really elevate your climbing abilities or train for competition climbing\, this is the program for you! \nPortside Members – $39.95 p/w\nNon-Members – $49.95 p/w \nAll our Bouldering Classes are run by Axis Coaching. \nAxis are a professional coaching service\, and have been integrated into Portside since 2017.\nTheir mission is to help boulderers improve their performance both on and off the wall.
URL:https://portsideboulders.com.au/event/boulder-stronger-3/2026-07-18/
LOCATION:Portside Boulders Willetton\, 8 Kembla Way\, Perth\, WA\, 6155\, Australia
ATTACH;FMTTYPE=image/png:https://portsideboulders.com.au/wp-content/uploads/2023/07/Boulder-Stronger.png
END:VEVENT
BEGIN:VEVENT
DTSTART;TZID=Asia/Shanghai:20260719T090000
DTEND;TZID=Asia/Shanghai:20260719T100000
DTSTAMP:20260420T205605
CREATED:20230703T080440Z
LAST-MODIFIED:20240311T074428Z
UID:10000967-1784451600-1784455200@portsideboulders.com.au
SUMMARY:Restorative Yoga
DESCRIPTION:Restorative Yoga is a style of yoga that encourages physical\, mental\, and emotional relaxation. Great for all levels\, restorative yoga is practiced at a slow pace\, focusing on long holds\, stillness\, and deep breathing.
URL:https://portsideboulders.com.au/event/restorative-yoga/2026-07-19/
LOCATION:Portside Boulders Willetton\, 8 Kembla Way\, Perth\, WA\, 6155\, Australia
ATTACH;FMTTYPE=image/jpeg:https://portsideboulders.com.au/wp-content/uploads/2023/07/Akemi-15-Copy-scaled.jpg
END:VEVENT
BEGIN:VEVENT
DTSTART;TZID=Asia/Shanghai:20260720T183000
DTEND;TZID=Asia/Shanghai:20260720T193000
DTSTAMP:20260420T205605
CREATED:20241029T080057Z
LAST-MODIFIED:20251029T052115Z
UID:10013141-1784572200-1784575800@portsideboulders.com.au
SUMMARY:Calisthenics
DESCRIPTION:Oscar will guide you through learning a variety of calisthenics skills. Muscle ups\, levers\, handstands and pistol squats to name a couple. \nIt’s all about improving form on and off the wall\, and having fun!
URL:https://portsideboulders.com.au/event/calisthenics-2-2/2026-07-20/
LOCATION:Portside Boulders Willetton\, 8 Kembla Way\, Perth\, WA\, 6155\, Australia
ATTACH;FMTTYPE=image/jpeg:https://portsideboulders.com.au/wp-content/uploads/2023/07/DSCF6577-scaled.jpg
END:VEVENT
BEGIN:VEVENT
DTSTART;VALUE=DATE:20260724
DTEND;VALUE=DATE:20260725
DTSTAMP:20260420T205605
CREATED:20230719T035730Z
LAST-MODIFIED:20260123T034050Z
UID:10006747-1784851200-1784937599@portsideboulders.com.au
SUMMARY:Student Fridays
DESCRIPTION:Every Friday we offer $16 entry for students to each Portside with any valid student ID. \nNote: this does not include chalk ($3) and shoe ($7) hire. \nWe also have a BBQ that runs from approximately 6pm-7:30pm. \nSo come on down\, and bring your mates! To speed things up\, make sure you get anyone new you’d like to fill out the waiver in advance.
URL:https://portsideboulders.com.au/event/student-fridays/2026-07-24/
LOCATION:Portside Boulders Willetton\, 8 Kembla Way\, Perth\, WA\, 6155\, Australia
ATTACH;FMTTYPE=image/jpeg:https://portsideboulders.com.au/wp-content/uploads/2024/02/student-night.jpg
END:VEVENT
BEGIN:VEVENT
DTSTART;TZID=Asia/Shanghai:20260725T090000
DTEND;TZID=Asia/Shanghai:20260725T103000
DTSTAMP:20260420T205605
CREATED:20230706T053101Z
LAST-MODIFIED:20240311T074233Z
UID:10005386-1784970000-1784975400@portsideboulders.com.au
SUMMARY:Boulder Stronger
DESCRIPTION:This is a comprehensive\, customised training program designed by our head coach and contains one face-to-face session each week\, as well as two homework sessions a week. \nYou’ll focus on advanced climbing techniques\, as well as tailor-made strength-work. If you’re looking to really elevate your climbing abilities or train for competition climbing\, this is the program for you! \nPortside Members – $39.95 p/w\nNon-Members – $49.95 p/w \nAll our Bouldering Classes are run by Axis Coaching. \nAxis are a professional coaching service\, and have been integrated into Portside since 2017.\nTheir mission is to help boulderers improve their performance both on and off the wall.
URL:https://portsideboulders.com.au/event/boulder-stronger-3/2026-07-25/
LOCATION:Portside Boulders Willetton\, 8 Kembla Way\, Perth\, WA\, 6155\, Australia
ATTACH;FMTTYPE=image/png:https://portsideboulders.com.au/wp-content/uploads/2023/07/Boulder-Stronger.png
END:VEVENT
BEGIN:VEVENT
DTSTART;TZID=Asia/Shanghai:20260726T090000
DTEND;TZID=Asia/Shanghai:20260726T100000
DTSTAMP:20260420T205605
CREATED:20230703T080440Z
LAST-MODIFIED:20240311T074428Z
UID:10000968-1785056400-1785060000@portsideboulders.com.au
SUMMARY:Restorative Yoga
DESCRIPTION:Restorative Yoga is a style of yoga that encourages physical\, mental\, and emotional relaxation. Great for all levels\, restorative yoga is practiced at a slow pace\, focusing on long holds\, stillness\, and deep breathing.
URL:https://portsideboulders.com.au/event/restorative-yoga/2026-07-26/
LOCATION:Portside Boulders Willetton\, 8 Kembla Way\, Perth\, WA\, 6155\, Australia
ATTACH;FMTTYPE=image/jpeg:https://portsideboulders.com.au/wp-content/uploads/2023/07/Akemi-15-Copy-scaled.jpg
END:VEVENT
BEGIN:VEVENT
DTSTART;TZID=Asia/Shanghai:20260727T183000
DTEND;TZID=Asia/Shanghai:20260727T193000
DTSTAMP:20260420T205605
CREATED:20241029T080057Z
LAST-MODIFIED:20251029T052115Z
UID:10013142-1785177000-1785180600@portsideboulders.com.au
SUMMARY:Calisthenics
DESCRIPTION:Oscar will guide you through learning a variety of calisthenics skills. Muscle ups\, levers\, handstands and pistol squats to name a couple. \nIt’s all about improving form on and off the wall\, and having fun!
URL:https://portsideboulders.com.au/event/calisthenics-2-2/2026-07-27/
LOCATION:Portside Boulders Willetton\, 8 Kembla Way\, Perth\, WA\, 6155\, Australia
ATTACH;FMTTYPE=image/jpeg:https://portsideboulders.com.au/wp-content/uploads/2023/07/DSCF6577-scaled.jpg
END:VEVENT
BEGIN:VEVENT
DTSTART;VALUE=DATE:20260731
DTEND;VALUE=DATE:20260801
DTSTAMP:20260420T205605
CREATED:20230719T035730Z
LAST-MODIFIED:20260123T034050Z
UID:10006748-1785456000-1785542399@portsideboulders.com.au
SUMMARY:Student Fridays
DESCRIPTION:Every Friday we offer $16 entry for students to each Portside with any valid student ID. \nNote: this does not include chalk ($3) and shoe ($7) hire. \nWe also have a BBQ that runs from approximately 6pm-7:30pm. \nSo come on down\, and bring your mates! To speed things up\, make sure you get anyone new you’d like to fill out the waiver in advance.
URL:https://portsideboulders.com.au/event/student-fridays/2026-07-31/
LOCATION:Portside Boulders Willetton\, 8 Kembla Way\, Perth\, WA\, 6155\, Australia
ATTACH;FMTTYPE=image/jpeg:https://portsideboulders.com.au/wp-content/uploads/2024/02/student-night.jpg
END:VEVENT
BEGIN:VEVENT
DTSTART;TZID=Asia/Shanghai:20260801T090000
DTEND;TZID=Asia/Shanghai:20260801T103000
DTSTAMP:20260420T205605
CREATED:20230706T053101Z
LAST-MODIFIED:20240311T074233Z
UID:10005387-1785574800-1785580200@portsideboulders.com.au
SUMMARY:Boulder Stronger
DESCRIPTION:This is a comprehensive\, customised training program designed by our head coach and contains one face-to-face session each week\, as well as two homework sessions a week. \nYou’ll focus on advanced climbing techniques\, as well as tailor-made strength-work. If you’re looking to really elevate your climbing abilities or train for competition climbing\, this is the program for you! \nPortside Members – $39.95 p/w\nNon-Members – $49.95 p/w \nAll our Bouldering Classes are run by Axis Coaching. \nAxis are a professional coaching service\, and have been integrated into Portside since 2017.\nTheir mission is to help boulderers improve their performance both on and off the wall.
URL:https://portsideboulders.com.au/event/boulder-stronger-3/2026-08-01/
LOCATION:Portside Boulders Willetton\, 8 Kembla Way\, Perth\, WA\, 6155\, Australia
ATTACH;FMTTYPE=image/png:https://portsideboulders.com.au/wp-content/uploads/2023/07/Boulder-Stronger.png
END:VEVENT
BEGIN:VEVENT
DTSTART;TZID=Asia/Shanghai:20260802T090000
DTEND;TZID=Asia/Shanghai:20260802T100000
DTSTAMP:20260420T205605
CREATED:20230703T080440Z
LAST-MODIFIED:20240311T074428Z
UID:10000969-1785661200-1785664800@portsideboulders.com.au
SUMMARY:Restorative Yoga
DESCRIPTION:Restorative Yoga is a style of yoga that encourages physical\, mental\, and emotional relaxation. Great for all levels\, restorative yoga is practiced at a slow pace\, focusing on long holds\, stillness\, and deep breathing.
URL:https://portsideboulders.com.au/event/restorative-yoga/2026-08-02/
LOCATION:Portside Boulders Willetton\, 8 Kembla Way\, Perth\, WA\, 6155\, Australia
ATTACH;FMTTYPE=image/jpeg:https://portsideboulders.com.au/wp-content/uploads/2023/07/Akemi-15-Copy-scaled.jpg
END:VEVENT
BEGIN:VEVENT
DTSTART;TZID=Asia/Shanghai:20260803T183000
DTEND;TZID=Asia/Shanghai:20260803T193000
DTSTAMP:20260420T205605
CREATED:20241029T080057Z
LAST-MODIFIED:20251029T052115Z
UID:10013143-1785781800-1785785400@portsideboulders.com.au
SUMMARY:Calisthenics
DESCRIPTION:Oscar will guide you through learning a variety of calisthenics skills. Muscle ups\, levers\, handstands and pistol squats to name a couple. \nIt’s all about improving form on and off the wall\, and having fun!
URL:https://portsideboulders.com.au/event/calisthenics-2-2/2026-08-03/
LOCATION:Portside Boulders Willetton\, 8 Kembla Way\, Perth\, WA\, 6155\, Australia
ATTACH;FMTTYPE=image/jpeg:https://portsideboulders.com.au/wp-content/uploads/2023/07/DSCF6577-scaled.jpg
END:VEVENT
BEGIN:VEVENT
DTSTART;TZID=Asia/Shanghai:20260804T190000
DTEND;TZID=Asia/Shanghai:20260804T200000
DTSTAMP:20260420T205605
CREATED:20230719T012101Z
LAST-MODIFIED:20260123T034704Z
UID:10012642-1785870000-1785873600@portsideboulders.com.au
SUMMARY:Climb Like A Girl
DESCRIPTION:A relaxed social session for women* of all levels. Move\, climb\, connect — no bookings needed\, just show up and hang out. \n$15.90 entry\, Portside members free. \n*Women includes trans\, gender diverse and cisgender women. \nWilletton – First Tuesday of the Month\nJoondalup – Second Thursday\nO’Connor – Third Tuesday\nOsborne Park – Fourth Thursday \nJoin our Climb Like A Girl Whatsapp Group Chat! Here we chat about how our sessions went and send out any updates or new things we might be doing.
URL:https://portsideboulders.com.au/event/climb-like-a-girl/2026-08-04/
LOCATION:Portside Boulders Willetton\, 8 Kembla Way\, Perth\, WA\, 6155\, Australia
ATTACH;FMTTYPE=image/jpeg:https://portsideboulders.com.au/wp-content/uploads/2023/07/CLAG-WL.jpg
END:VEVENT
BEGIN:VEVENT
DTSTART;VALUE=DATE:20260807
DTEND;VALUE=DATE:20260808
DTSTAMP:20260420T205605
CREATED:20230719T035730Z
LAST-MODIFIED:20260123T034050Z
UID:10006749-1786060800-1786147199@portsideboulders.com.au
SUMMARY:Student Fridays
DESCRIPTION:Every Friday we offer $16 entry for students to each Portside with any valid student ID. \nNote: this does not include chalk ($3) and shoe ($7) hire. \nWe also have a BBQ that runs from approximately 6pm-7:30pm. \nSo come on down\, and bring your mates! To speed things up\, make sure you get anyone new you’d like to fill out the waiver in advance.
URL:https://portsideboulders.com.au/event/student-fridays/2026-08-07/
LOCATION:Portside Boulders Willetton\, 8 Kembla Way\, Perth\, WA\, 6155\, Australia
ATTACH;FMTTYPE=image/jpeg:https://portsideboulders.com.au/wp-content/uploads/2024/02/student-night.jpg
END:VEVENT
BEGIN:VEVENT
DTSTART;TZID=Asia/Shanghai:20260808T090000
DTEND;TZID=Asia/Shanghai:20260808T103000
DTSTAMP:20260420T205605
CREATED:20230706T053101Z
LAST-MODIFIED:20240311T074233Z
UID:10005388-1786179600-1786185000@portsideboulders.com.au
SUMMARY:Boulder Stronger
DESCRIPTION:This is a comprehensive\, customised training program designed by our head coach and contains one face-to-face session each week\, as well as two homework sessions a week. \nYou’ll focus on advanced climbing techniques\, as well as tailor-made strength-work. If you’re looking to really elevate your climbing abilities or train for competition climbing\, this is the program for you! \nPortside Members – $39.95 p/w\nNon-Members – $49.95 p/w \nAll our Bouldering Classes are run by Axis Coaching. \nAxis are a professional coaching service\, and have been integrated into Portside since 2017.\nTheir mission is to help boulderers improve their performance both on and off the wall.
URL:https://portsideboulders.com.au/event/boulder-stronger-3/2026-08-08/
LOCATION:Portside Boulders Willetton\, 8 Kembla Way\, Perth\, WA\, 6155\, Australia
ATTACH;FMTTYPE=image/png:https://portsideboulders.com.au/wp-content/uploads/2023/07/Boulder-Stronger.png
END:VEVENT
BEGIN:VEVENT
DTSTART;TZID=Asia/Shanghai:20260809T090000
DTEND;TZID=Asia/Shanghai:20260809T100000
DTSTAMP:20260420T205605
CREATED:20230703T080440Z
LAST-MODIFIED:20240311T074428Z
UID:10000970-1786266000-1786269600@portsideboulders.com.au
SUMMARY:Restorative Yoga
DESCRIPTION:Restorative Yoga is a style of yoga that encourages physical\, mental\, and emotional relaxation. Great for all levels\, restorative yoga is practiced at a slow pace\, focusing on long holds\, stillness\, and deep breathing.
URL:https://portsideboulders.com.au/event/restorative-yoga/2026-08-09/
LOCATION:Portside Boulders Willetton\, 8 Kembla Way\, Perth\, WA\, 6155\, Australia
ATTACH;FMTTYPE=image/jpeg:https://portsideboulders.com.au/wp-content/uploads/2023/07/Akemi-15-Copy-scaled.jpg
END:VEVENT
BEGIN:VEVENT
DTSTART;TZID=Asia/Shanghai:20260810T183000
DTEND;TZID=Asia/Shanghai:20260810T193000
DTSTAMP:20260420T205605
CREATED:20241029T080057Z
LAST-MODIFIED:20251029T052115Z
UID:10013144-1786386600-1786390200@portsideboulders.com.au
SUMMARY:Calisthenics
DESCRIPTION:Oscar will guide you through learning a variety of calisthenics skills. Muscle ups\, levers\, handstands and pistol squats to name a couple. \nIt’s all about improving form on and off the wall\, and having fun!
URL:https://portsideboulders.com.au/event/calisthenics-2-2/2026-08-10/
LOCATION:Portside Boulders Willetton\, 8 Kembla Way\, Perth\, WA\, 6155\, Australia
ATTACH;FMTTYPE=image/jpeg:https://portsideboulders.com.au/wp-content/uploads/2023/07/DSCF6577-scaled.jpg
END:VEVENT
BEGIN:VEVENT
DTSTART;VALUE=DATE:20260814
DTEND;VALUE=DATE:20260815
DTSTAMP:20260420T205605
CREATED:20230719T035730Z
LAST-MODIFIED:20260123T034050Z
UID:10006750-1786665600-1786751999@portsideboulders.com.au
SUMMARY:Student Fridays
DESCRIPTION:Every Friday we offer $16 entry for students to each Portside with any valid student ID. \nNote: this does not include chalk ($3) and shoe ($7) hire. \nWe also have a BBQ that runs from approximately 6pm-7:30pm. \nSo come on down\, and bring your mates! To speed things up\, make sure you get anyone new you’d like to fill out the waiver in advance.
URL:https://portsideboulders.com.au/event/student-fridays/2026-08-14/
LOCATION:Portside Boulders Willetton\, 8 Kembla Way\, Perth\, WA\, 6155\, Australia
ATTACH;FMTTYPE=image/jpeg:https://portsideboulders.com.au/wp-content/uploads/2024/02/student-night.jpg
END:VEVENT
BEGIN:VEVENT
DTSTART;TZID=Asia/Shanghai:20260815T090000
DTEND;TZID=Asia/Shanghai:20260815T103000
DTSTAMP:20260420T205605
CREATED:20230706T053101Z
LAST-MODIFIED:20240311T074233Z
UID:10005389-1786784400-1786789800@portsideboulders.com.au
SUMMARY:Boulder Stronger
DESCRIPTION:This is a comprehensive\, customised training program designed by our head coach and contains one face-to-face session each week\, as well as two homework sessions a week. \nYou’ll focus on advanced climbing techniques\, as well as tailor-made strength-work. If you’re looking to really elevate your climbing abilities or train for competition climbing\, this is the program for you! \nPortside Members – $39.95 p/w\nNon-Members – $49.95 p/w \nAll our Bouldering Classes are run by Axis Coaching. \nAxis are a professional coaching service\, and have been integrated into Portside since 2017.\nTheir mission is to help boulderers improve their performance both on and off the wall.
URL:https://portsideboulders.com.au/event/boulder-stronger-3/2026-08-15/
LOCATION:Portside Boulders Willetton\, 8 Kembla Way\, Perth\, WA\, 6155\, Australia
ATTACH;FMTTYPE=image/png:https://portsideboulders.com.au/wp-content/uploads/2023/07/Boulder-Stronger.png
END:VEVENT
BEGIN:VEVENT
DTSTART;TZID=Asia/Shanghai:20260816T090000
DTEND;TZID=Asia/Shanghai:20260816T100000
DTSTAMP:20260420T205605
CREATED:20230703T080440Z
LAST-MODIFIED:20240311T074428Z
UID:10000971-1786870800-1786874400@portsideboulders.com.au
SUMMARY:Restorative Yoga
DESCRIPTION:Restorative Yoga is a style of yoga that encourages physical\, mental\, and emotional relaxation. Great for all levels\, restorative yoga is practiced at a slow pace\, focusing on long holds\, stillness\, and deep breathing.
URL:https://portsideboulders.com.au/event/restorative-yoga/2026-08-16/
LOCATION:Portside Boulders Willetton\, 8 Kembla Way\, Perth\, WA\, 6155\, Australia
ATTACH;FMTTYPE=image/jpeg:https://portsideboulders.com.au/wp-content/uploads/2023/07/Akemi-15-Copy-scaled.jpg
END:VEVENT
BEGIN:VEVENT
DTSTART;TZID=Asia/Shanghai:20260817T183000
DTEND;TZID=Asia/Shanghai:20260817T193000
DTSTAMP:20260420T205605
CREATED:20241029T080057Z
LAST-MODIFIED:20251029T052115Z
UID:10013145-1786991400-1786995000@portsideboulders.com.au
SUMMARY:Calisthenics
DESCRIPTION:Oscar will guide you through learning a variety of calisthenics skills. Muscle ups\, levers\, handstands and pistol squats to name a couple. \nIt’s all about improving form on and off the wall\, and having fun!
URL:https://portsideboulders.com.au/event/calisthenics-2-2/2026-08-17/
LOCATION:Portside Boulders Willetton\, 8 Kembla Way\, Perth\, WA\, 6155\, Australia
ATTACH;FMTTYPE=image/jpeg:https://portsideboulders.com.au/wp-content/uploads/2023/07/DSCF6577-scaled.jpg
END:VEVENT
BEGIN:VEVENT
DTSTART;VALUE=DATE:20260821
DTEND;VALUE=DATE:20260822
DTSTAMP:20260420T205605
CREATED:20230719T035730Z
LAST-MODIFIED:20260123T034050Z
UID:10006751-1787270400-1787356799@portsideboulders.com.au
SUMMARY:Student Fridays
DESCRIPTION:Every Friday we offer $16 entry for students to each Portside with any valid student ID. \nNote: this does not include chalk ($3) and shoe ($7) hire. \nWe also have a BBQ that runs from approximately 6pm-7:30pm. \nSo come on down\, and bring your mates! To speed things up\, make sure you get anyone new you’d like to fill out the waiver in advance.
URL:https://portsideboulders.com.au/event/student-fridays/2026-08-21/
LOCATION:Portside Boulders Willetton\, 8 Kembla Way\, Perth\, WA\, 6155\, Australia
ATTACH;FMTTYPE=image/jpeg:https://portsideboulders.com.au/wp-content/uploads/2024/02/student-night.jpg
END:VEVENT
BEGIN:VEVENT
DTSTART;TZID=Asia/Shanghai:20260822T090000
DTEND;TZID=Asia/Shanghai:20260822T103000
DTSTAMP:20260420T205605
CREATED:20230706T053101Z
LAST-MODIFIED:20240311T074233Z
UID:10005390-1787389200-1787394600@portsideboulders.com.au
SUMMARY:Boulder Stronger
DESCRIPTION:This is a comprehensive\, customised training program designed by our head coach and contains one face-to-face session each week\, as well as two homework sessions a week. \nYou’ll focus on advanced climbing techniques\, as well as tailor-made strength-work. If you’re looking to really elevate your climbing abilities or train for competition climbing\, this is the program for you! \nPortside Members – $39.95 p/w\nNon-Members – $49.95 p/w \nAll our Bouldering Classes are run by Axis Coaching. \nAxis are a professional coaching service\, and have been integrated into Portside since 2017.\nTheir mission is to help boulderers improve their performance both on and off the wall.
URL:https://portsideboulders.com.au/event/boulder-stronger-3/2026-08-22/
LOCATION:Portside Boulders Willetton\, 8 Kembla Way\, Perth\, WA\, 6155\, Australia
ATTACH;FMTTYPE=image/png:https://portsideboulders.com.au/wp-content/uploads/2023/07/Boulder-Stronger.png
END:VEVENT
BEGIN:VEVENT
DTSTART;TZID=Asia/Shanghai:20260823T090000
DTEND;TZID=Asia/Shanghai:20260823T100000
DTSTAMP:20260420T205605
CREATED:20230703T080440Z
LAST-MODIFIED:20240311T074428Z
UID:10000972-1787475600-1787479200@portsideboulders.com.au
SUMMARY:Restorative Yoga
DESCRIPTION:Restorative Yoga is a style of yoga that encourages physical\, mental\, and emotional relaxation. Great for all levels\, restorative yoga is practiced at a slow pace\, focusing on long holds\, stillness\, and deep breathing.
URL:https://portsideboulders.com.au/event/restorative-yoga/2026-08-23/
LOCATION:Portside Boulders Willetton\, 8 Kembla Way\, Perth\, WA\, 6155\, Australia
ATTACH;FMTTYPE=image/jpeg:https://portsideboulders.com.au/wp-content/uploads/2023/07/Akemi-15-Copy-scaled.jpg
END:VEVENT
BEGIN:VEVENT
DTSTART;TZID=Asia/Shanghai:20260824T183000
DTEND;TZID=Asia/Shanghai:20260824T193000
DTSTAMP:20260420T205605
CREATED:20241029T080057Z
LAST-MODIFIED:20251029T052115Z
UID:10013146-1787596200-1787599800@portsideboulders.com.au
SUMMARY:Calisthenics
DESCRIPTION:Oscar will guide you through learning a variety of calisthenics skills. Muscle ups\, levers\, handstands and pistol squats to name a couple. \nIt’s all about improving form on and off the wall\, and having fun!
URL:https://portsideboulders.com.au/event/calisthenics-2-2/2026-08-24/
LOCATION:Portside Boulders Willetton\, 8 Kembla Way\, Perth\, WA\, 6155\, Australia
ATTACH;FMTTYPE=image/jpeg:https://portsideboulders.com.au/wp-content/uploads/2023/07/DSCF6577-scaled.jpg
END:VEVENT
BEGIN:VEVENT
DTSTART;VALUE=DATE:20260828
DTEND;VALUE=DATE:20260829
DTSTAMP:20260420T205605
CREATED:20230719T035730Z
LAST-MODIFIED:20260123T034050Z
UID:10006752-1787875200-1787961599@portsideboulders.com.au
SUMMARY:Student Fridays
DESCRIPTION:Every Friday we offer $16 entry for students to each Portside with any valid student ID. \nNote: this does not include chalk ($3) and shoe ($7) hire. \nWe also have a BBQ that runs from approximately 6pm-7:30pm. \nSo come on down\, and bring your mates! To speed things up\, make sure you get anyone new you’d like to fill out the waiver in advance.
URL:https://portsideboulders.com.au/event/student-fridays/2026-08-28/
LOCATION:Portside Boulders Willetton\, 8 Kembla Way\, Perth\, WA\, 6155\, Australia
ATTACH;FMTTYPE=image/jpeg:https://portsideboulders.com.au/wp-content/uploads/2024/02/student-night.jpg
END:VEVENT
BEGIN:VEVENT
DTSTART;TZID=Asia/Shanghai:20260829T090000
DTEND;TZID=Asia/Shanghai:20260829T103000
DTSTAMP:20260420T205605
CREATED:20230706T053101Z
LAST-MODIFIED:20240311T074233Z
UID:10005391-1787994000-1787999400@portsideboulders.com.au
SUMMARY:Boulder Stronger
DESCRIPTION:This is a comprehensive\, customised training program designed by our head coach and contains one face-to-face session each week\, as well as two homework sessions a week. \nYou’ll focus on advanced climbing techniques\, as well as tailor-made strength-work. If you’re looking to really elevate your climbing abilities or train for competition climbing\, this is the program for you! \nPortside Members – $39.95 p/w\nNon-Members – $49.95 p/w \nAll our Bouldering Classes are run by Axis Coaching. \nAxis are a professional coaching service\, and have been integrated into Portside since 2017.\nTheir mission is to help boulderers improve their performance both on and off the wall.
URL:https://portsideboulders.com.au/event/boulder-stronger-3/2026-08-29/
LOCATION:Portside Boulders Willetton\, 8 Kembla Way\, Perth\, WA\, 6155\, Australia
ATTACH;FMTTYPE=image/png:https://portsideboulders.com.au/wp-content/uploads/2023/07/Boulder-Stronger.png
END:VEVENT
END:VCALENDAR