BEGIN:VCALENDAR
VERSION:2.0
PRODID:-//Portside Boulders - ECPv6.15.17.1//NONSGML v1.0//EN
CALSCALE:GREGORIAN
METHOD:PUBLISH
X-ORIGINAL-URL:https://portsideboulders.com.au
X-WR-CALDESC:Events for Portside Boulders
REFRESH-INTERVAL;VALUE=DURATION:PT1H
X-Robots-Tag:noindex
X-PUBLISHED-TTL:PT1H
BEGIN:VTIMEZONE
TZID:Asia/Shanghai
BEGIN:STANDARD
TZOFFSETFROM:+0800
TZOFFSETTO:+0800
TZNAME:CST
DTSTART:20220101T000000
END:STANDARD
END:VTIMEZONE
BEGIN:VTIMEZONE
TZID:Australia/Perth
BEGIN:STANDARD
TZOFFSETFROM:+0800
TZOFFSETTO:+0800
TZNAME:AWST
DTSTART:20220101T000000
END:STANDARD
END:VTIMEZONE
BEGIN:VEVENT
DTSTART;TZID=Asia/Shanghai:20230902T083000
DTEND;TZID=Asia/Shanghai:20230902T093000
DTSTAMP:20260422T123516
CREATED:20230228T023951Z
LAST-MODIFIED:20240311T074007Z
UID:10001876-1693643400-1693647000@portsideboulders.com.au
SUMMARY:Revitalising Yin & Yang Yoga
DESCRIPTION:Yin Yoga is a slower practice where poses are passively held for longer. Yin relates to the deep connective tissues and joints in the body. Yang Yoga\, in contrast\, refers to a more active practice. This works on the (Yang) muscles and blood flow\, building strength\, stamina and flexibility. Combining both Yin and Yang Yoga in one class provides a balanced practice and can have a powerful effect on energy levels!
URL:https://portsideboulders.com.au/event/revitalising-yin-yang-yoga-2/2023-09-02/
LOCATION:Portside Boulders O’Connor\, 12 Murphy St\, O'Connor\, WA\, 6163\, Australia
ATTACH;FMTTYPE=image/jpeg:https://portsideboulders.com.au/wp-content/uploads/2023/07/YogaSelects-29-scaled.jpg
END:VEVENT
BEGIN:VEVENT
DTSTART;TZID=Asia/Shanghai:20230902T100000
DTEND;TZID=Asia/Shanghai:20230902T110000
DTSTAMP:20260422T123516
CREATED:20230706T051222Z
LAST-MODIFIED:20240311T074121Z
UID:10003014-1693648800-1693652400@portsideboulders.com.au
SUMMARY:Revitalising Yin & Yang Yoga
DESCRIPTION:Yin Yoga is a slower practice where poses are passively held for longer. Yin relates to the deep connective tissues and joints in the body. Yang Yoga\, in contrast\, refers to a more active practice. This works on the (Yang) muscles and blood flow\, building strength\, stamina and flexibility. Combining both Yin and Yang Yoga in one class provides a balanced practice and can have a powerful effect on energy levels!
URL:https://portsideboulders.com.au/event/revitalising-yin-yang-yoga/2023-09-02/
LOCATION:Portside Boulders O’Connor\, 12 Murphy St\, O'Connor\, WA\, 6163\, Australia
ATTACH;FMTTYPE=image/jpeg:https://portsideboulders.com.au/wp-content/uploads/2023/07/Ash-OC-19-Copy-scaled.jpg
END:VEVENT
BEGIN:VEVENT
DTSTART;TZID=Asia/Shanghai:20230903T090000
DTEND;TZID=Asia/Shanghai:20230903T100000
DTSTAMP:20260422T123516
CREATED:20230703T080440Z
LAST-MODIFIED:20240311T074428Z
UID:10000817-1693731600-1693735200@portsideboulders.com.au
SUMMARY:Restorative Yoga
DESCRIPTION:Restorative Yoga is a style of yoga that encourages physical\, mental\, and emotional relaxation. Great for all levels\, restorative yoga is practiced at a slow pace\, focusing on long holds\, stillness\, and deep breathing.
URL:https://portsideboulders.com.au/event/restorative-yoga/2023-09-03/
LOCATION:Portside Boulders Willetton\, 8 Kembla Way\, Perth\, WA\, 6155\, Australia
ATTACH;FMTTYPE=image/jpeg:https://portsideboulders.com.au/wp-content/uploads/2023/07/Akemi-15-Copy-scaled.jpg
END:VEVENT
BEGIN:VEVENT
DTSTART;TZID=Australia/Perth:20230904T183000
DTEND;TZID=Australia/Perth:20230904T193000
DTSTAMP:20260422T123516
CREATED:20230706T042815Z
LAST-MODIFIED:20251028T003935Z
UID:10000031-1693852200-1693855800@portsideboulders.com.au
SUMMARY:Hatha Yoga
DESCRIPTION:Hatha Yoga is a gentle\, purposeful practice that combines breath\, movement\, and stillness to build strength\, flexibility\, and inner calm. Perfect for beginners and experienced yogis alike\, it’s about slowing down\, tuning in\, and creating balance—on and off the mat.
URL:https://portsideboulders.com.au/event/power-yoga-2/2023-09-04/
LOCATION:Portside Boulders Osborne Park\, warehouse e/73 Walters Dr\, Osborne Park\, WA\, 6017\, Australia
ATTACH;FMTTYPE=image/jpeg:https://portsideboulders.com.au/wp-content/uploads/2023/07/Yoga-OC-14-scaled.jpg
END:VEVENT
BEGIN:VEVENT
DTSTART;TZID=Asia/Shanghai:20230906T183000
DTEND;TZID=Asia/Shanghai:20230906T193000
DTSTAMP:20260422T123516
CREATED:20230706T040930Z
LAST-MODIFIED:20240311T074603Z
UID:10001338-1694025000-1694028600@portsideboulders.com.au
SUMMARY:Power Yoga
DESCRIPTION:A fast-paced and intense style of yoga that’s focused on building strength and endurance\, linking your breath to the different movements of your body.
URL:https://portsideboulders.com.au/event/power-yoga/2023-09-06/
LOCATION:Portside Boulders O’Connor\, 12 Murphy St\, O'Connor\, WA\, 6163\, Australia
ATTACH;FMTTYPE=image/jpeg:https://portsideboulders.com.au/wp-content/uploads/2023/07/Yoga-OC-14-scaled.jpg
END:VEVENT
BEGIN:VEVENT
DTSTART;TZID=Asia/Shanghai:20230909T083000
DTEND;TZID=Asia/Shanghai:20230909T093000
DTSTAMP:20260422T123516
CREATED:20230228T023951Z
LAST-MODIFIED:20240311T074007Z
UID:10001877-1694248200-1694251800@portsideboulders.com.au
SUMMARY:Revitalising Yin & Yang Yoga
DESCRIPTION:Yin Yoga is a slower practice where poses are passively held for longer. Yin relates to the deep connective tissues and joints in the body. Yang Yoga\, in contrast\, refers to a more active practice. This works on the (Yang) muscles and blood flow\, building strength\, stamina and flexibility. Combining both Yin and Yang Yoga in one class provides a balanced practice and can have a powerful effect on energy levels!
URL:https://portsideboulders.com.au/event/revitalising-yin-yang-yoga-2/2023-09-09/
LOCATION:Portside Boulders O’Connor\, 12 Murphy St\, O'Connor\, WA\, 6163\, Australia
ATTACH;FMTTYPE=image/jpeg:https://portsideboulders.com.au/wp-content/uploads/2023/07/YogaSelects-29-scaled.jpg
END:VEVENT
BEGIN:VEVENT
DTSTART;TZID=Asia/Shanghai:20230909T100000
DTEND;TZID=Asia/Shanghai:20230909T110000
DTSTAMP:20260422T123516
CREATED:20230706T051222Z
LAST-MODIFIED:20240311T074121Z
UID:10003015-1694253600-1694257200@portsideboulders.com.au
SUMMARY:Revitalising Yin & Yang Yoga
DESCRIPTION:Yin Yoga is a slower practice where poses are passively held for longer. Yin relates to the deep connective tissues and joints in the body. Yang Yoga\, in contrast\, refers to a more active practice. This works on the (Yang) muscles and blood flow\, building strength\, stamina and flexibility. Combining both Yin and Yang Yoga in one class provides a balanced practice and can have a powerful effect on energy levels!
URL:https://portsideboulders.com.au/event/revitalising-yin-yang-yoga/2023-09-09/
LOCATION:Portside Boulders O’Connor\, 12 Murphy St\, O'Connor\, WA\, 6163\, Australia
ATTACH;FMTTYPE=image/jpeg:https://portsideboulders.com.au/wp-content/uploads/2023/07/Ash-OC-19-Copy-scaled.jpg
END:VEVENT
BEGIN:VEVENT
DTSTART;TZID=Asia/Shanghai:20230910T090000
DTEND;TZID=Asia/Shanghai:20230910T100000
DTSTAMP:20260422T123516
CREATED:20230703T080440Z
LAST-MODIFIED:20240311T074428Z
UID:10000818-1694336400-1694340000@portsideboulders.com.au
SUMMARY:Restorative Yoga
DESCRIPTION:Restorative Yoga is a style of yoga that encourages physical\, mental\, and emotional relaxation. Great for all levels\, restorative yoga is practiced at a slow pace\, focusing on long holds\, stillness\, and deep breathing.
URL:https://portsideboulders.com.au/event/restorative-yoga/2023-09-10/
LOCATION:Portside Boulders Willetton\, 8 Kembla Way\, Perth\, WA\, 6155\, Australia
ATTACH;FMTTYPE=image/jpeg:https://portsideboulders.com.au/wp-content/uploads/2023/07/Akemi-15-Copy-scaled.jpg
END:VEVENT
BEGIN:VEVENT
DTSTART;TZID=Australia/Perth:20230911T183000
DTEND;TZID=Australia/Perth:20230911T193000
DTSTAMP:20260422T123516
CREATED:20230706T042815Z
LAST-MODIFIED:20251028T003935Z
UID:10000032-1694457000-1694460600@portsideboulders.com.au
SUMMARY:Hatha Yoga
DESCRIPTION:Hatha Yoga is a gentle\, purposeful practice that combines breath\, movement\, and stillness to build strength\, flexibility\, and inner calm. Perfect for beginners and experienced yogis alike\, it’s about slowing down\, tuning in\, and creating balance—on and off the mat.
URL:https://portsideboulders.com.au/event/power-yoga-2/2023-09-11/
LOCATION:Portside Boulders Osborne Park\, warehouse e/73 Walters Dr\, Osborne Park\, WA\, 6017\, Australia
ATTACH;FMTTYPE=image/jpeg:https://portsideboulders.com.au/wp-content/uploads/2023/07/Yoga-OC-14-scaled.jpg
END:VEVENT
BEGIN:VEVENT
DTSTART;TZID=Asia/Shanghai:20230913T183000
DTEND;TZID=Asia/Shanghai:20230913T193000
DTSTAMP:20260422T123516
CREATED:20230706T040930Z
LAST-MODIFIED:20240311T074603Z
UID:10001339-1694629800-1694633400@portsideboulders.com.au
SUMMARY:Power Yoga
DESCRIPTION:A fast-paced and intense style of yoga that’s focused on building strength and endurance\, linking your breath to the different movements of your body.
URL:https://portsideboulders.com.au/event/power-yoga/2023-09-13/
LOCATION:Portside Boulders O’Connor\, 12 Murphy St\, O'Connor\, WA\, 6163\, Australia
ATTACH;FMTTYPE=image/jpeg:https://portsideboulders.com.au/wp-content/uploads/2023/07/Yoga-OC-14-scaled.jpg
END:VEVENT
BEGIN:VEVENT
DTSTART;TZID=Asia/Shanghai:20230916T083000
DTEND;TZID=Asia/Shanghai:20230916T093000
DTSTAMP:20260422T123516
CREATED:20230228T023951Z
LAST-MODIFIED:20240311T074007Z
UID:10001878-1694853000-1694856600@portsideboulders.com.au
SUMMARY:Revitalising Yin & Yang Yoga
DESCRIPTION:Yin Yoga is a slower practice where poses are passively held for longer. Yin relates to the deep connective tissues and joints in the body. Yang Yoga\, in contrast\, refers to a more active practice. This works on the (Yang) muscles and blood flow\, building strength\, stamina and flexibility. Combining both Yin and Yang Yoga in one class provides a balanced practice and can have a powerful effect on energy levels!
URL:https://portsideboulders.com.au/event/revitalising-yin-yang-yoga-2/2023-09-16/
LOCATION:Portside Boulders O’Connor\, 12 Murphy St\, O'Connor\, WA\, 6163\, Australia
ATTACH;FMTTYPE=image/jpeg:https://portsideboulders.com.au/wp-content/uploads/2023/07/YogaSelects-29-scaled.jpg
END:VEVENT
BEGIN:VEVENT
DTSTART;TZID=Asia/Shanghai:20230916T100000
DTEND;TZID=Asia/Shanghai:20230916T110000
DTSTAMP:20260422T123516
CREATED:20230706T051222Z
LAST-MODIFIED:20240311T074121Z
UID:10003016-1694858400-1694862000@portsideboulders.com.au
SUMMARY:Revitalising Yin & Yang Yoga
DESCRIPTION:Yin Yoga is a slower practice where poses are passively held for longer. Yin relates to the deep connective tissues and joints in the body. Yang Yoga\, in contrast\, refers to a more active practice. This works on the (Yang) muscles and blood flow\, building strength\, stamina and flexibility. Combining both Yin and Yang Yoga in one class provides a balanced practice and can have a powerful effect on energy levels!
URL:https://portsideboulders.com.au/event/revitalising-yin-yang-yoga/2023-09-16/
LOCATION:Portside Boulders O’Connor\, 12 Murphy St\, O'Connor\, WA\, 6163\, Australia
ATTACH;FMTTYPE=image/jpeg:https://portsideboulders.com.au/wp-content/uploads/2023/07/Ash-OC-19-Copy-scaled.jpg
END:VEVENT
BEGIN:VEVENT
DTSTART;TZID=Asia/Shanghai:20230917T090000
DTEND;TZID=Asia/Shanghai:20230917T100000
DTSTAMP:20260422T123516
CREATED:20230703T080440Z
LAST-MODIFIED:20240311T074428Z
UID:10000819-1694941200-1694944800@portsideboulders.com.au
SUMMARY:Restorative Yoga
DESCRIPTION:Restorative Yoga is a style of yoga that encourages physical\, mental\, and emotional relaxation. Great for all levels\, restorative yoga is practiced at a slow pace\, focusing on long holds\, stillness\, and deep breathing.
URL:https://portsideboulders.com.au/event/restorative-yoga/2023-09-17/
LOCATION:Portside Boulders Willetton\, 8 Kembla Way\, Perth\, WA\, 6155\, Australia
ATTACH;FMTTYPE=image/jpeg:https://portsideboulders.com.au/wp-content/uploads/2023/07/Akemi-15-Copy-scaled.jpg
END:VEVENT
BEGIN:VEVENT
DTSTART;TZID=Australia/Perth:20230918T183000
DTEND;TZID=Australia/Perth:20230918T193000
DTSTAMP:20260422T123516
CREATED:20230706T042815Z
LAST-MODIFIED:20251028T003935Z
UID:10000033-1695061800-1695065400@portsideboulders.com.au
SUMMARY:Hatha Yoga
DESCRIPTION:Hatha Yoga is a gentle\, purposeful practice that combines breath\, movement\, and stillness to build strength\, flexibility\, and inner calm. Perfect for beginners and experienced yogis alike\, it’s about slowing down\, tuning in\, and creating balance—on and off the mat.
URL:https://portsideboulders.com.au/event/power-yoga-2/2023-09-18/
LOCATION:Portside Boulders Osborne Park\, warehouse e/73 Walters Dr\, Osborne Park\, WA\, 6017\, Australia
ATTACH;FMTTYPE=image/jpeg:https://portsideboulders.com.au/wp-content/uploads/2023/07/Yoga-OC-14-scaled.jpg
END:VEVENT
BEGIN:VEVENT
DTSTART;TZID=Asia/Shanghai:20230920T183000
DTEND;TZID=Asia/Shanghai:20230920T193000
DTSTAMP:20260422T123516
CREATED:20230706T040930Z
LAST-MODIFIED:20240311T074603Z
UID:10001340-1695234600-1695238200@portsideboulders.com.au
SUMMARY:Power Yoga
DESCRIPTION:A fast-paced and intense style of yoga that’s focused on building strength and endurance\, linking your breath to the different movements of your body.
URL:https://portsideboulders.com.au/event/power-yoga/2023-09-20/
LOCATION:Portside Boulders O’Connor\, 12 Murphy St\, O'Connor\, WA\, 6163\, Australia
ATTACH;FMTTYPE=image/jpeg:https://portsideboulders.com.au/wp-content/uploads/2023/07/Yoga-OC-14-scaled.jpg
END:VEVENT
BEGIN:VEVENT
DTSTART;TZID=Asia/Shanghai:20230923T083000
DTEND;TZID=Asia/Shanghai:20230923T093000
DTSTAMP:20260422T123516
CREATED:20230228T023951Z
LAST-MODIFIED:20240311T074007Z
UID:10001879-1695457800-1695461400@portsideboulders.com.au
SUMMARY:Revitalising Yin & Yang Yoga
DESCRIPTION:Yin Yoga is a slower practice where poses are passively held for longer. Yin relates to the deep connective tissues and joints in the body. Yang Yoga\, in contrast\, refers to a more active practice. This works on the (Yang) muscles and blood flow\, building strength\, stamina and flexibility. Combining both Yin and Yang Yoga in one class provides a balanced practice and can have a powerful effect on energy levels!
URL:https://portsideboulders.com.au/event/revitalising-yin-yang-yoga-2/2023-09-23/
LOCATION:Portside Boulders O’Connor\, 12 Murphy St\, O'Connor\, WA\, 6163\, Australia
ATTACH;FMTTYPE=image/jpeg:https://portsideboulders.com.au/wp-content/uploads/2023/07/YogaSelects-29-scaled.jpg
END:VEVENT
BEGIN:VEVENT
DTSTART;TZID=Asia/Shanghai:20230923T100000
DTEND;TZID=Asia/Shanghai:20230923T110000
DTSTAMP:20260422T123516
CREATED:20230706T051222Z
LAST-MODIFIED:20240311T074121Z
UID:10003017-1695463200-1695466800@portsideboulders.com.au
SUMMARY:Revitalising Yin & Yang Yoga
DESCRIPTION:Yin Yoga is a slower practice where poses are passively held for longer. Yin relates to the deep connective tissues and joints in the body. Yang Yoga\, in contrast\, refers to a more active practice. This works on the (Yang) muscles and blood flow\, building strength\, stamina and flexibility. Combining both Yin and Yang Yoga in one class provides a balanced practice and can have a powerful effect on energy levels!
URL:https://portsideboulders.com.au/event/revitalising-yin-yang-yoga/2023-09-23/
LOCATION:Portside Boulders O’Connor\, 12 Murphy St\, O'Connor\, WA\, 6163\, Australia
ATTACH;FMTTYPE=image/jpeg:https://portsideboulders.com.au/wp-content/uploads/2023/07/Ash-OC-19-Copy-scaled.jpg
END:VEVENT
BEGIN:VEVENT
DTSTART;TZID=Asia/Shanghai:20230924T090000
DTEND;TZID=Asia/Shanghai:20230924T100000
DTSTAMP:20260422T123516
CREATED:20230703T080440Z
LAST-MODIFIED:20240311T074428Z
UID:10000820-1695546000-1695549600@portsideboulders.com.au
SUMMARY:Restorative Yoga
DESCRIPTION:Restorative Yoga is a style of yoga that encourages physical\, mental\, and emotional relaxation. Great for all levels\, restorative yoga is practiced at a slow pace\, focusing on long holds\, stillness\, and deep breathing.
URL:https://portsideboulders.com.au/event/restorative-yoga/2023-09-24/
LOCATION:Portside Boulders Willetton\, 8 Kembla Way\, Perth\, WA\, 6155\, Australia
ATTACH;FMTTYPE=image/jpeg:https://portsideboulders.com.au/wp-content/uploads/2023/07/Akemi-15-Copy-scaled.jpg
END:VEVENT
BEGIN:VEVENT
DTSTART;TZID=Australia/Perth:20230925T183000
DTEND;TZID=Australia/Perth:20230925T193000
DTSTAMP:20260422T123516
CREATED:20230706T042815Z
LAST-MODIFIED:20251028T003935Z
UID:10000034-1695666600-1695670200@portsideboulders.com.au
SUMMARY:Hatha Yoga
DESCRIPTION:Hatha Yoga is a gentle\, purposeful practice that combines breath\, movement\, and stillness to build strength\, flexibility\, and inner calm. Perfect for beginners and experienced yogis alike\, it’s about slowing down\, tuning in\, and creating balance—on and off the mat.
URL:https://portsideboulders.com.au/event/power-yoga-2/2023-09-25/
LOCATION:Portside Boulders Osborne Park\, warehouse e/73 Walters Dr\, Osborne Park\, WA\, 6017\, Australia
ATTACH;FMTTYPE=image/jpeg:https://portsideboulders.com.au/wp-content/uploads/2023/07/Yoga-OC-14-scaled.jpg
END:VEVENT
BEGIN:VEVENT
DTSTART;TZID=Asia/Shanghai:20230927T183000
DTEND;TZID=Asia/Shanghai:20230927T193000
DTSTAMP:20260422T123516
CREATED:20230706T040930Z
LAST-MODIFIED:20240311T074603Z
UID:10001341-1695839400-1695843000@portsideboulders.com.au
SUMMARY:Power Yoga
DESCRIPTION:A fast-paced and intense style of yoga that’s focused on building strength and endurance\, linking your breath to the different movements of your body.
URL:https://portsideboulders.com.au/event/power-yoga/2023-09-27/
LOCATION:Portside Boulders O’Connor\, 12 Murphy St\, O'Connor\, WA\, 6163\, Australia
ATTACH;FMTTYPE=image/jpeg:https://portsideboulders.com.au/wp-content/uploads/2023/07/Yoga-OC-14-scaled.jpg
END:VEVENT
BEGIN:VEVENT
DTSTART;TZID=Asia/Shanghai:20230930T083000
DTEND;TZID=Asia/Shanghai:20230930T093000
DTSTAMP:20260422T123516
CREATED:20230228T023951Z
LAST-MODIFIED:20240311T074007Z
UID:10001880-1696062600-1696066200@portsideboulders.com.au
SUMMARY:Revitalising Yin & Yang Yoga
DESCRIPTION:Yin Yoga is a slower practice where poses are passively held for longer. Yin relates to the deep connective tissues and joints in the body. Yang Yoga\, in contrast\, refers to a more active practice. This works on the (Yang) muscles and blood flow\, building strength\, stamina and flexibility. Combining both Yin and Yang Yoga in one class provides a balanced practice and can have a powerful effect on energy levels!
URL:https://portsideboulders.com.au/event/revitalising-yin-yang-yoga-2/2023-09-30/
LOCATION:Portside Boulders O’Connor\, 12 Murphy St\, O'Connor\, WA\, 6163\, Australia
ATTACH;FMTTYPE=image/jpeg:https://portsideboulders.com.au/wp-content/uploads/2023/07/YogaSelects-29-scaled.jpg
END:VEVENT
BEGIN:VEVENT
DTSTART;TZID=Asia/Shanghai:20230930T100000
DTEND;TZID=Asia/Shanghai:20230930T110000
DTSTAMP:20260422T123516
CREATED:20230706T051222Z
LAST-MODIFIED:20240311T074121Z
UID:10003018-1696068000-1696071600@portsideboulders.com.au
SUMMARY:Revitalising Yin & Yang Yoga
DESCRIPTION:Yin Yoga is a slower practice where poses are passively held for longer. Yin relates to the deep connective tissues and joints in the body. Yang Yoga\, in contrast\, refers to a more active practice. This works on the (Yang) muscles and blood flow\, building strength\, stamina and flexibility. Combining both Yin and Yang Yoga in one class provides a balanced practice and can have a powerful effect on energy levels!
URL:https://portsideboulders.com.au/event/revitalising-yin-yang-yoga/2023-09-30/
LOCATION:Portside Boulders O’Connor\, 12 Murphy St\, O'Connor\, WA\, 6163\, Australia
ATTACH;FMTTYPE=image/jpeg:https://portsideboulders.com.au/wp-content/uploads/2023/07/Ash-OC-19-Copy-scaled.jpg
END:VEVENT
END:VCALENDAR