BEGIN:VCALENDAR
VERSION:2.0
PRODID:-//Portside Boulders - ECPv6.15.17.1//NONSGML v1.0//EN
CALSCALE:GREGORIAN
METHOD:PUBLISH
X-WR-CALNAME:Portside Boulders
X-ORIGINAL-URL:https://portsideboulders.com.au
X-WR-CALDESC:Events for Portside Boulders
REFRESH-INTERVAL;VALUE=DURATION:PT1H
X-Robots-Tag:noindex
X-PUBLISHED-TTL:PT1H
BEGIN:VTIMEZONE
TZID:Australia/Perth
BEGIN:STANDARD
TZOFFSETFROM:+0800
TZOFFSETTO:+0800
TZNAME:AWST
DTSTART:20230101T000000
END:STANDARD
END:VTIMEZONE
BEGIN:VTIMEZONE
TZID:Asia/Shanghai
BEGIN:STANDARD
TZOFFSETFROM:+0800
TZOFFSETTO:+0800
TZNAME:CST
DTSTART:20230101T000000
END:STANDARD
END:VTIMEZONE
BEGIN:VEVENT
DTSTART;TZID=Australia/Perth:20240101T183000
DTEND;TZID=Australia/Perth:20240101T193000
DTSTAMP:20260422T011932
CREATED:20230706T042815Z
LAST-MODIFIED:20251028T003935Z
UID:10000048-1704133800-1704137400@portsideboulders.com.au
SUMMARY:Hatha Yoga
DESCRIPTION:Hatha Yoga is a gentle\, purposeful practice that combines breath\, movement\, and stillness to build strength\, flexibility\, and inner calm. Perfect for beginners and experienced yogis alike\, it’s about slowing down\, tuning in\, and creating balance—on and off the mat.
URL:https://portsideboulders.com.au/event/power-yoga-2/2024-01-01/
LOCATION:Portside Boulders Osborne Park\, warehouse e/73 Walters Dr\, Osborne Park\, WA\, 6017\, Australia
ATTACH;FMTTYPE=image/jpeg:https://portsideboulders.com.au/wp-content/uploads/2023/07/Yoga-OC-14-scaled.jpg
END:VEVENT
BEGIN:VEVENT
DTSTART;TZID=Asia/Shanghai:20240103T183000
DTEND;TZID=Asia/Shanghai:20240103T193000
DTSTAMP:20260422T011932
CREATED:20230706T040930Z
LAST-MODIFIED:20240311T074603Z
UID:10001355-1704306600-1704310200@portsideboulders.com.au
SUMMARY:Power Yoga
DESCRIPTION:A fast-paced and intense style of yoga that’s focused on building strength and endurance\, linking your breath to the different movements of your body.
URL:https://portsideboulders.com.au/event/power-yoga/2024-01-03/
LOCATION:Portside Boulders O’Connor\, 12 Murphy St\, O'Connor\, WA\, 6163\, Australia
ATTACH;FMTTYPE=image/jpeg:https://portsideboulders.com.au/wp-content/uploads/2023/07/Yoga-OC-14-scaled.jpg
END:VEVENT
BEGIN:VEVENT
DTSTART;TZID=Asia/Shanghai:20240106T083000
DTEND;TZID=Asia/Shanghai:20240106T093000
DTSTAMP:20260422T011932
CREATED:20230228T023951Z
LAST-MODIFIED:20240311T074007Z
UID:10001894-1704529800-1704533400@portsideboulders.com.au
SUMMARY:Revitalising Yin & Yang Yoga
DESCRIPTION:Yin Yoga is a slower practice where poses are passively held for longer. Yin relates to the deep connective tissues and joints in the body. Yang Yoga\, in contrast\, refers to a more active practice. This works on the (Yang) muscles and blood flow\, building strength\, stamina and flexibility. Combining both Yin and Yang Yoga in one class provides a balanced practice and can have a powerful effect on energy levels!
URL:https://portsideboulders.com.au/event/revitalising-yin-yang-yoga-2/2024-01-06/
LOCATION:Portside Boulders O’Connor\, 12 Murphy St\, O'Connor\, WA\, 6163\, Australia
ATTACH;FMTTYPE=image/jpeg:https://portsideboulders.com.au/wp-content/uploads/2023/07/YogaSelects-29-scaled.jpg
END:VEVENT
BEGIN:VEVENT
DTSTART;TZID=Asia/Shanghai:20240106T100000
DTEND;TZID=Asia/Shanghai:20240106T110000
DTSTAMP:20260422T011932
CREATED:20230706T051222Z
LAST-MODIFIED:20240311T074121Z
UID:10003032-1704535200-1704538800@portsideboulders.com.au
SUMMARY:Revitalising Yin & Yang Yoga
DESCRIPTION:Yin Yoga is a slower practice where poses are passively held for longer. Yin relates to the deep connective tissues and joints in the body. Yang Yoga\, in contrast\, refers to a more active practice. This works on the (Yang) muscles and blood flow\, building strength\, stamina and flexibility. Combining both Yin and Yang Yoga in one class provides a balanced practice and can have a powerful effect on energy levels!
URL:https://portsideboulders.com.au/event/revitalising-yin-yang-yoga/2024-01-06/
LOCATION:Portside Boulders O’Connor\, 12 Murphy St\, O'Connor\, WA\, 6163\, Australia
ATTACH;FMTTYPE=image/jpeg:https://portsideboulders.com.au/wp-content/uploads/2023/07/Ash-OC-19-Copy-scaled.jpg
END:VEVENT
BEGIN:VEVENT
DTSTART;TZID=Asia/Shanghai:20240107T090000
DTEND;TZID=Asia/Shanghai:20240107T100000
DTSTAMP:20260422T011932
CREATED:20230703T080440Z
LAST-MODIFIED:20240311T074428Z
UID:10000835-1704618000-1704621600@portsideboulders.com.au
SUMMARY:Restorative Yoga
DESCRIPTION:Restorative Yoga is a style of yoga that encourages physical\, mental\, and emotional relaxation. Great for all levels\, restorative yoga is practiced at a slow pace\, focusing on long holds\, stillness\, and deep breathing.
URL:https://portsideboulders.com.au/event/restorative-yoga/2024-01-07/
LOCATION:Portside Boulders Willetton\, 8 Kembla Way\, Perth\, WA\, 6155\, Australia
ATTACH;FMTTYPE=image/jpeg:https://portsideboulders.com.au/wp-content/uploads/2023/07/Akemi-15-Copy-scaled.jpg
END:VEVENT
BEGIN:VEVENT
DTSTART;TZID=Australia/Perth:20240108T183000
DTEND;TZID=Australia/Perth:20240108T193000
DTSTAMP:20260422T011932
CREATED:20230706T042815Z
LAST-MODIFIED:20251028T003935Z
UID:10000049-1704738600-1704742200@portsideboulders.com.au
SUMMARY:Hatha Yoga
DESCRIPTION:Hatha Yoga is a gentle\, purposeful practice that combines breath\, movement\, and stillness to build strength\, flexibility\, and inner calm. Perfect for beginners and experienced yogis alike\, it’s about slowing down\, tuning in\, and creating balance—on and off the mat.
URL:https://portsideboulders.com.au/event/power-yoga-2/2024-01-08/
LOCATION:Portside Boulders Osborne Park\, warehouse e/73 Walters Dr\, Osborne Park\, WA\, 6017\, Australia
ATTACH;FMTTYPE=image/jpeg:https://portsideboulders.com.au/wp-content/uploads/2023/07/Yoga-OC-14-scaled.jpg
END:VEVENT
BEGIN:VEVENT
DTSTART;TZID=Asia/Shanghai:20240110T183000
DTEND;TZID=Asia/Shanghai:20240110T193000
DTSTAMP:20260422T011932
CREATED:20230706T040930Z
LAST-MODIFIED:20240311T074603Z
UID:10001356-1704911400-1704915000@portsideboulders.com.au
SUMMARY:Power Yoga
DESCRIPTION:A fast-paced and intense style of yoga that’s focused on building strength and endurance\, linking your breath to the different movements of your body.
URL:https://portsideboulders.com.au/event/power-yoga/2024-01-10/
LOCATION:Portside Boulders O’Connor\, 12 Murphy St\, O'Connor\, WA\, 6163\, Australia
ATTACH;FMTTYPE=image/jpeg:https://portsideboulders.com.au/wp-content/uploads/2023/07/Yoga-OC-14-scaled.jpg
END:VEVENT
BEGIN:VEVENT
DTSTART;TZID=Asia/Shanghai:20240113T083000
DTEND;TZID=Asia/Shanghai:20240113T093000
DTSTAMP:20260422T011932
CREATED:20230228T023951Z
LAST-MODIFIED:20240311T074007Z
UID:10001895-1705134600-1705138200@portsideboulders.com.au
SUMMARY:Revitalising Yin & Yang Yoga
DESCRIPTION:Yin Yoga is a slower practice where poses are passively held for longer. Yin relates to the deep connective tissues and joints in the body. Yang Yoga\, in contrast\, refers to a more active practice. This works on the (Yang) muscles and blood flow\, building strength\, stamina and flexibility. Combining both Yin and Yang Yoga in one class provides a balanced practice and can have a powerful effect on energy levels!
URL:https://portsideboulders.com.au/event/revitalising-yin-yang-yoga-2/2024-01-13/
LOCATION:Portside Boulders O’Connor\, 12 Murphy St\, O'Connor\, WA\, 6163\, Australia
ATTACH;FMTTYPE=image/jpeg:https://portsideboulders.com.au/wp-content/uploads/2023/07/YogaSelects-29-scaled.jpg
END:VEVENT
BEGIN:VEVENT
DTSTART;TZID=Asia/Shanghai:20240113T100000
DTEND;TZID=Asia/Shanghai:20240113T110000
DTSTAMP:20260422T011932
CREATED:20230706T051222Z
LAST-MODIFIED:20240311T074121Z
UID:10003033-1705140000-1705143600@portsideboulders.com.au
SUMMARY:Revitalising Yin & Yang Yoga
DESCRIPTION:Yin Yoga is a slower practice where poses are passively held for longer. Yin relates to the deep connective tissues and joints in the body. Yang Yoga\, in contrast\, refers to a more active practice. This works on the (Yang) muscles and blood flow\, building strength\, stamina and flexibility. Combining both Yin and Yang Yoga in one class provides a balanced practice and can have a powerful effect on energy levels!
URL:https://portsideboulders.com.au/event/revitalising-yin-yang-yoga/2024-01-13/
LOCATION:Portside Boulders O’Connor\, 12 Murphy St\, O'Connor\, WA\, 6163\, Australia
ATTACH;FMTTYPE=image/jpeg:https://portsideboulders.com.au/wp-content/uploads/2023/07/Ash-OC-19-Copy-scaled.jpg
END:VEVENT
BEGIN:VEVENT
DTSTART;TZID=Asia/Shanghai:20240114T090000
DTEND;TZID=Asia/Shanghai:20240114T100000
DTSTAMP:20260422T011932
CREATED:20230703T080440Z
LAST-MODIFIED:20240311T074428Z
UID:10000836-1705222800-1705226400@portsideboulders.com.au
SUMMARY:Restorative Yoga
DESCRIPTION:Restorative Yoga is a style of yoga that encourages physical\, mental\, and emotional relaxation. Great for all levels\, restorative yoga is practiced at a slow pace\, focusing on long holds\, stillness\, and deep breathing.
URL:https://portsideboulders.com.au/event/restorative-yoga/2024-01-14/
LOCATION:Portside Boulders Willetton\, 8 Kembla Way\, Perth\, WA\, 6155\, Australia
ATTACH;FMTTYPE=image/jpeg:https://portsideboulders.com.au/wp-content/uploads/2023/07/Akemi-15-Copy-scaled.jpg
END:VEVENT
BEGIN:VEVENT
DTSTART;TZID=Australia/Perth:20240115T183000
DTEND;TZID=Australia/Perth:20240115T193000
DTSTAMP:20260422T011932
CREATED:20230706T042815Z
LAST-MODIFIED:20251028T003935Z
UID:10000050-1705343400-1705347000@portsideboulders.com.au
SUMMARY:Hatha Yoga
DESCRIPTION:Hatha Yoga is a gentle\, purposeful practice that combines breath\, movement\, and stillness to build strength\, flexibility\, and inner calm. Perfect for beginners and experienced yogis alike\, it’s about slowing down\, tuning in\, and creating balance—on and off the mat.
URL:https://portsideboulders.com.au/event/power-yoga-2/2024-01-15/
LOCATION:Portside Boulders Osborne Park\, warehouse e/73 Walters Dr\, Osborne Park\, WA\, 6017\, Australia
ATTACH;FMTTYPE=image/jpeg:https://portsideboulders.com.au/wp-content/uploads/2023/07/Yoga-OC-14-scaled.jpg
END:VEVENT
BEGIN:VEVENT
DTSTART;TZID=Asia/Shanghai:20240117T183000
DTEND;TZID=Asia/Shanghai:20240117T193000
DTSTAMP:20260422T011932
CREATED:20230706T040930Z
LAST-MODIFIED:20240311T074603Z
UID:10001357-1705516200-1705519800@portsideboulders.com.au
SUMMARY:Power Yoga
DESCRIPTION:A fast-paced and intense style of yoga that’s focused on building strength and endurance\, linking your breath to the different movements of your body.
URL:https://portsideboulders.com.au/event/power-yoga/2024-01-17/
LOCATION:Portside Boulders O’Connor\, 12 Murphy St\, O'Connor\, WA\, 6163\, Australia
ATTACH;FMTTYPE=image/jpeg:https://portsideboulders.com.au/wp-content/uploads/2023/07/Yoga-OC-14-scaled.jpg
END:VEVENT
BEGIN:VEVENT
DTSTART;TZID=Asia/Shanghai:20240120T083000
DTEND;TZID=Asia/Shanghai:20240120T093000
DTSTAMP:20260422T011932
CREATED:20230228T023951Z
LAST-MODIFIED:20240311T074007Z
UID:10001896-1705739400-1705743000@portsideboulders.com.au
SUMMARY:Revitalising Yin & Yang Yoga
DESCRIPTION:Yin Yoga is a slower practice where poses are passively held for longer. Yin relates to the deep connective tissues and joints in the body. Yang Yoga\, in contrast\, refers to a more active practice. This works on the (Yang) muscles and blood flow\, building strength\, stamina and flexibility. Combining both Yin and Yang Yoga in one class provides a balanced practice and can have a powerful effect on energy levels!
URL:https://portsideboulders.com.au/event/revitalising-yin-yang-yoga-2/2024-01-20/
LOCATION:Portside Boulders O’Connor\, 12 Murphy St\, O'Connor\, WA\, 6163\, Australia
ATTACH;FMTTYPE=image/jpeg:https://portsideboulders.com.au/wp-content/uploads/2023/07/YogaSelects-29-scaled.jpg
END:VEVENT
BEGIN:VEVENT
DTSTART;TZID=Asia/Shanghai:20240120T100000
DTEND;TZID=Asia/Shanghai:20240120T110000
DTSTAMP:20260422T011932
CREATED:20230706T051222Z
LAST-MODIFIED:20240311T074121Z
UID:10003034-1705744800-1705748400@portsideboulders.com.au
SUMMARY:Revitalising Yin & Yang Yoga
DESCRIPTION:Yin Yoga is a slower practice where poses are passively held for longer. Yin relates to the deep connective tissues and joints in the body. Yang Yoga\, in contrast\, refers to a more active practice. This works on the (Yang) muscles and blood flow\, building strength\, stamina and flexibility. Combining both Yin and Yang Yoga in one class provides a balanced practice and can have a powerful effect on energy levels!
URL:https://portsideboulders.com.au/event/revitalising-yin-yang-yoga/2024-01-20/
LOCATION:Portside Boulders O’Connor\, 12 Murphy St\, O'Connor\, WA\, 6163\, Australia
ATTACH;FMTTYPE=image/jpeg:https://portsideboulders.com.au/wp-content/uploads/2023/07/Ash-OC-19-Copy-scaled.jpg
END:VEVENT
BEGIN:VEVENT
DTSTART;TZID=Asia/Shanghai:20240121T090000
DTEND;TZID=Asia/Shanghai:20240121T100000
DTSTAMP:20260422T011932
CREATED:20230703T080440Z
LAST-MODIFIED:20240311T074428Z
UID:10000837-1705827600-1705831200@portsideboulders.com.au
SUMMARY:Restorative Yoga
DESCRIPTION:Restorative Yoga is a style of yoga that encourages physical\, mental\, and emotional relaxation. Great for all levels\, restorative yoga is practiced at a slow pace\, focusing on long holds\, stillness\, and deep breathing.
URL:https://portsideboulders.com.au/event/restorative-yoga/2024-01-21/
LOCATION:Portside Boulders Willetton\, 8 Kembla Way\, Perth\, WA\, 6155\, Australia
ATTACH;FMTTYPE=image/jpeg:https://portsideboulders.com.au/wp-content/uploads/2023/07/Akemi-15-Copy-scaled.jpg
END:VEVENT
BEGIN:VEVENT
DTSTART;TZID=Australia/Perth:20240122T183000
DTEND;TZID=Australia/Perth:20240122T193000
DTSTAMP:20260422T011932
CREATED:20230706T042815Z
LAST-MODIFIED:20251028T003935Z
UID:10000051-1705948200-1705951800@portsideboulders.com.au
SUMMARY:Hatha Yoga
DESCRIPTION:Hatha Yoga is a gentle\, purposeful practice that combines breath\, movement\, and stillness to build strength\, flexibility\, and inner calm. Perfect for beginners and experienced yogis alike\, it’s about slowing down\, tuning in\, and creating balance—on and off the mat.
URL:https://portsideboulders.com.au/event/power-yoga-2/2024-01-22/
LOCATION:Portside Boulders Osborne Park\, warehouse e/73 Walters Dr\, Osborne Park\, WA\, 6017\, Australia
ATTACH;FMTTYPE=image/jpeg:https://portsideboulders.com.au/wp-content/uploads/2023/07/Yoga-OC-14-scaled.jpg
END:VEVENT
BEGIN:VEVENT
DTSTART;TZID=Asia/Shanghai:20240124T183000
DTEND;TZID=Asia/Shanghai:20240124T193000
DTSTAMP:20260422T011932
CREATED:20230706T040930Z
LAST-MODIFIED:20240311T074603Z
UID:10001358-1706121000-1706124600@portsideboulders.com.au
SUMMARY:Power Yoga
DESCRIPTION:A fast-paced and intense style of yoga that’s focused on building strength and endurance\, linking your breath to the different movements of your body.
URL:https://portsideboulders.com.au/event/power-yoga/2024-01-24/
LOCATION:Portside Boulders O’Connor\, 12 Murphy St\, O'Connor\, WA\, 6163\, Australia
ATTACH;FMTTYPE=image/jpeg:https://portsideboulders.com.au/wp-content/uploads/2023/07/Yoga-OC-14-scaled.jpg
END:VEVENT
BEGIN:VEVENT
DTSTART;TZID=Asia/Shanghai:20240127T083000
DTEND;TZID=Asia/Shanghai:20240127T093000
DTSTAMP:20260422T011932
CREATED:20230228T023951Z
LAST-MODIFIED:20240311T074007Z
UID:10001897-1706344200-1706347800@portsideboulders.com.au
SUMMARY:Revitalising Yin & Yang Yoga
DESCRIPTION:Yin Yoga is a slower practice where poses are passively held for longer. Yin relates to the deep connective tissues and joints in the body. Yang Yoga\, in contrast\, refers to a more active practice. This works on the (Yang) muscles and blood flow\, building strength\, stamina and flexibility. Combining both Yin and Yang Yoga in one class provides a balanced practice and can have a powerful effect on energy levels!
URL:https://portsideboulders.com.au/event/revitalising-yin-yang-yoga-2/2024-01-27/
LOCATION:Portside Boulders O’Connor\, 12 Murphy St\, O'Connor\, WA\, 6163\, Australia
ATTACH;FMTTYPE=image/jpeg:https://portsideboulders.com.au/wp-content/uploads/2023/07/YogaSelects-29-scaled.jpg
END:VEVENT
BEGIN:VEVENT
DTSTART;TZID=Asia/Shanghai:20240127T100000
DTEND;TZID=Asia/Shanghai:20240127T110000
DTSTAMP:20260422T011932
CREATED:20230706T051222Z
LAST-MODIFIED:20240311T074121Z
UID:10003035-1706349600-1706353200@portsideboulders.com.au
SUMMARY:Revitalising Yin & Yang Yoga
DESCRIPTION:Yin Yoga is a slower practice where poses are passively held for longer. Yin relates to the deep connective tissues and joints in the body. Yang Yoga\, in contrast\, refers to a more active practice. This works on the (Yang) muscles and blood flow\, building strength\, stamina and flexibility. Combining both Yin and Yang Yoga in one class provides a balanced practice and can have a powerful effect on energy levels!
URL:https://portsideboulders.com.au/event/revitalising-yin-yang-yoga/2024-01-27/
LOCATION:Portside Boulders O’Connor\, 12 Murphy St\, O'Connor\, WA\, 6163\, Australia
ATTACH;FMTTYPE=image/jpeg:https://portsideboulders.com.au/wp-content/uploads/2023/07/Ash-OC-19-Copy-scaled.jpg
END:VEVENT
BEGIN:VEVENT
DTSTART;TZID=Asia/Shanghai:20240128T090000
DTEND;TZID=Asia/Shanghai:20240128T100000
DTSTAMP:20260422T011932
CREATED:20230703T080440Z
LAST-MODIFIED:20240311T074428Z
UID:10000838-1706432400-1706436000@portsideboulders.com.au
SUMMARY:Restorative Yoga
DESCRIPTION:Restorative Yoga is a style of yoga that encourages physical\, mental\, and emotional relaxation. Great for all levels\, restorative yoga is practiced at a slow pace\, focusing on long holds\, stillness\, and deep breathing.
URL:https://portsideboulders.com.au/event/restorative-yoga/2024-01-28/
LOCATION:Portside Boulders Willetton\, 8 Kembla Way\, Perth\, WA\, 6155\, Australia
ATTACH;FMTTYPE=image/jpeg:https://portsideboulders.com.au/wp-content/uploads/2023/07/Akemi-15-Copy-scaled.jpg
END:VEVENT
BEGIN:VEVENT
DTSTART;TZID=Australia/Perth:20240129T183000
DTEND;TZID=Australia/Perth:20240129T193000
DTSTAMP:20260422T011932
CREATED:20230706T042815Z
LAST-MODIFIED:20251028T003935Z
UID:10000052-1706553000-1706556600@portsideboulders.com.au
SUMMARY:Hatha Yoga
DESCRIPTION:Hatha Yoga is a gentle\, purposeful practice that combines breath\, movement\, and stillness to build strength\, flexibility\, and inner calm. Perfect for beginners and experienced yogis alike\, it’s about slowing down\, tuning in\, and creating balance—on and off the mat.
URL:https://portsideboulders.com.au/event/power-yoga-2/2024-01-29/
LOCATION:Portside Boulders Osborne Park\, warehouse e/73 Walters Dr\, Osborne Park\, WA\, 6017\, Australia
ATTACH;FMTTYPE=image/jpeg:https://portsideboulders.com.au/wp-content/uploads/2023/07/Yoga-OC-14-scaled.jpg
END:VEVENT
BEGIN:VEVENT
DTSTART;TZID=Asia/Shanghai:20240131T183000
DTEND;TZID=Asia/Shanghai:20240131T193000
DTSTAMP:20260422T011932
CREATED:20230706T040930Z
LAST-MODIFIED:20240311T074603Z
UID:10001359-1706725800-1706729400@portsideboulders.com.au
SUMMARY:Power Yoga
DESCRIPTION:A fast-paced and intense style of yoga that’s focused on building strength and endurance\, linking your breath to the different movements of your body.
URL:https://portsideboulders.com.au/event/power-yoga/2024-01-31/
LOCATION:Portside Boulders O’Connor\, 12 Murphy St\, O'Connor\, WA\, 6163\, Australia
ATTACH;FMTTYPE=image/jpeg:https://portsideboulders.com.au/wp-content/uploads/2023/07/Yoga-OC-14-scaled.jpg
END:VEVENT
END:VCALENDAR