BEGIN:VCALENDAR
VERSION:2.0
PRODID:-//Portside Boulders - ECPv6.15.17.1//NONSGML v1.0//EN
CALSCALE:GREGORIAN
METHOD:PUBLISH
X-WR-CALNAME:Portside Boulders
X-ORIGINAL-URL:https://portsideboulders.com.au
X-WR-CALDESC:Events for Portside Boulders
REFRESH-INTERVAL;VALUE=DURATION:PT1H
X-Robots-Tag:noindex
X-PUBLISHED-TTL:PT1H
BEGIN:VTIMEZONE
TZID:Asia/Shanghai
BEGIN:STANDARD
TZOFFSETFROM:+0800
TZOFFSETTO:+0800
TZNAME:CST
DTSTART:20230101T000000
END:STANDARD
END:VTIMEZONE
BEGIN:VEVENT
DTSTART;TZID=Asia/Shanghai:20250121T180000
DTEND;TZID=Asia/Shanghai:20250121T193000
DTSTAMP:20260425T042951
CREATED:20241129T021655Z
LAST-MODIFIED:20241129T021655Z
UID:10004915-1737482400-1737487800@portsideboulders.com.au
SUMMARY:Boulder Stronger
DESCRIPTION:This is a comprehensive\, customised training program designed by our head coach and contains one face-to-face session each week\, as well as two homework sessions a week. \nYou’ll focus on advanced climbing techniques\, as well as tailor-made strength-work. If you’re looking to really elevate your climbing abilities or train for competition climbing\, this is the program for you! \nPortside Members – $39.95 p/w\nNon-Members – $49.95 p/w \nAll our Bouldering Classes are run by Axis Coaching. \nAxis are a professional coaching service\, and have been integrated into Portside since 2017.\nTheir mission is to help boulderers improve their performance both on and off the wall.
URL:https://portsideboulders.com.au/event/boulder-stronger-2-2/2025-01-21/
LOCATION:Portside Boulders O’Connor\, 12 Murphy St\, O'Connor\, WA\, 6163\, Australia
ATTACH;FMTTYPE=image/png:https://portsideboulders.com.au/wp-content/uploads/2023/07/Boulder-Stronger.png
END:VEVENT
BEGIN:VEVENT
DTSTART;TZID=Asia/Shanghai:20250118T100000
DTEND;TZID=Asia/Shanghai:20250118T110000
DTSTAMP:20260425T042951
CREATED:20230706T051222Z
LAST-MODIFIED:20240311T074121Z
UID:10003086-1737194400-1737198000@portsideboulders.com.au
SUMMARY:Revitalising Yin & Yang Yoga
DESCRIPTION:Yin Yoga is a slower practice where poses are passively held for longer. Yin relates to the deep connective tissues and joints in the body. Yang Yoga\, in contrast\, refers to a more active practice. This works on the (Yang) muscles and blood flow\, building strength\, stamina and flexibility. Combining both Yin and Yang Yoga in one class provides a balanced practice and can have a powerful effect on energy levels!
URL:https://portsideboulders.com.au/event/revitalising-yin-yang-yoga/2025-01-18/
LOCATION:Portside Boulders O’Connor\, 12 Murphy St\, O'Connor\, WA\, 6163\, Australia
ATTACH;FMTTYPE=image/jpeg:https://portsideboulders.com.au/wp-content/uploads/2023/07/Ash-OC-19-Copy-scaled.jpg
END:VEVENT
BEGIN:VEVENT
DTSTART;TZID=Asia/Shanghai:20250118T083000
DTEND;TZID=Asia/Shanghai:20250118T093000
DTSTAMP:20260425T042951
CREATED:20230228T023951Z
LAST-MODIFIED:20240311T074007Z
UID:10001948-1737189000-1737192600@portsideboulders.com.au
SUMMARY:Revitalising Yin & Yang Yoga
DESCRIPTION:Yin Yoga is a slower practice where poses are passively held for longer. Yin relates to the deep connective tissues and joints in the body. Yang Yoga\, in contrast\, refers to a more active practice. This works on the (Yang) muscles and blood flow\, building strength\, stamina and flexibility. Combining both Yin and Yang Yoga in one class provides a balanced practice and can have a powerful effect on energy levels!
URL:https://portsideboulders.com.au/event/revitalising-yin-yang-yoga-2/2025-01-18/
LOCATION:Portside Boulders O’Connor\, 12 Murphy St\, O'Connor\, WA\, 6163\, Australia
ATTACH;FMTTYPE=image/jpeg:https://portsideboulders.com.au/wp-content/uploads/2023/07/YogaSelects-29-scaled.jpg
END:VEVENT
BEGIN:VEVENT
DTSTART;VALUE=DATE:20250117
DTEND;VALUE=DATE:20250118
DTSTAMP:20260425T042951
CREATED:20230719T035540Z
LAST-MODIFIED:20260123T034118Z
UID:10006407-1737072000-1737158399@portsideboulders.com.au
SUMMARY:Student Fridays
DESCRIPTION:Every Friday we offer $16 entry for students to each Portside with any valid student ID. \nNote: this does not include chalk ($3) and shoe ($7) hire. \nWe also have a BBQ that runs from approximately 6pm-7:30pm. \nSo come on down\, and bring your mates! To speed things up\, make sure you get anyone new you’d like to fill out the waiver in advance.
URL:https://portsideboulders.com.au/event/student-fridays-2/2025-01-17/
LOCATION:Portside Boulders O’Connor\, 12 Murphy St\, O'Connor\, WA\, 6163\, Australia
ATTACH;FMTTYPE=image/jpeg:https://portsideboulders.com.au/wp-content/uploads/2024/02/student-night.jpg
END:VEVENT
BEGIN:VEVENT
DTSTART;TZID=Asia/Shanghai:20250115T183000
DTEND;TZID=Asia/Shanghai:20250115T193000
DTSTAMP:20260425T042951
CREATED:20230706T040930Z
LAST-MODIFIED:20240311T074603Z
UID:10001409-1736965800-1736969400@portsideboulders.com.au
SUMMARY:Power Yoga
DESCRIPTION:A fast-paced and intense style of yoga that’s focused on building strength and endurance\, linking your breath to the different movements of your body.
URL:https://portsideboulders.com.au/event/power-yoga/2025-01-15/
LOCATION:Portside Boulders O’Connor\, 12 Murphy St\, O'Connor\, WA\, 6163\, Australia
ATTACH;FMTTYPE=image/jpeg:https://portsideboulders.com.au/wp-content/uploads/2023/07/Yoga-OC-14-scaled.jpg
END:VEVENT
BEGIN:VEVENT
DTSTART;TZID=Asia/Shanghai:20250114T180000
DTEND;TZID=Asia/Shanghai:20250114T193000
DTSTAMP:20260425T042951
CREATED:20241129T021655Z
LAST-MODIFIED:20241129T021655Z
UID:10004914-1736877600-1736883000@portsideboulders.com.au
SUMMARY:Boulder Stronger
DESCRIPTION:This is a comprehensive\, customised training program designed by our head coach and contains one face-to-face session each week\, as well as two homework sessions a week. \nYou’ll focus on advanced climbing techniques\, as well as tailor-made strength-work. If you’re looking to really elevate your climbing abilities or train for competition climbing\, this is the program for you! \nPortside Members – $39.95 p/w\nNon-Members – $49.95 p/w \nAll our Bouldering Classes are run by Axis Coaching. \nAxis are a professional coaching service\, and have been integrated into Portside since 2017.\nTheir mission is to help boulderers improve their performance both on and off the wall.
URL:https://portsideboulders.com.au/event/boulder-stronger-2-2/2025-01-14/
LOCATION:Portside Boulders O’Connor\, 12 Murphy St\, O'Connor\, WA\, 6163\, Australia
ATTACH;FMTTYPE=image/png:https://portsideboulders.com.au/wp-content/uploads/2023/07/Boulder-Stronger.png
END:VEVENT
BEGIN:VEVENT
DTSTART;TZID=Asia/Shanghai:20250111T100000
DTEND;TZID=Asia/Shanghai:20250111T110000
DTSTAMP:20260425T042951
CREATED:20230706T051222Z
LAST-MODIFIED:20240311T074121Z
UID:10003085-1736589600-1736593200@portsideboulders.com.au
SUMMARY:Revitalising Yin & Yang Yoga
DESCRIPTION:Yin Yoga is a slower practice where poses are passively held for longer. Yin relates to the deep connective tissues and joints in the body. Yang Yoga\, in contrast\, refers to a more active practice. This works on the (Yang) muscles and blood flow\, building strength\, stamina and flexibility. Combining both Yin and Yang Yoga in one class provides a balanced practice and can have a powerful effect on energy levels!
URL:https://portsideboulders.com.au/event/revitalising-yin-yang-yoga/2025-01-11/
LOCATION:Portside Boulders O’Connor\, 12 Murphy St\, O'Connor\, WA\, 6163\, Australia
ATTACH;FMTTYPE=image/jpeg:https://portsideboulders.com.au/wp-content/uploads/2023/07/Ash-OC-19-Copy-scaled.jpg
END:VEVENT
BEGIN:VEVENT
DTSTART;TZID=Asia/Shanghai:20250111T083000
DTEND;TZID=Asia/Shanghai:20250111T093000
DTSTAMP:20260425T042951
CREATED:20230228T023951Z
LAST-MODIFIED:20240311T074007Z
UID:10001947-1736584200-1736587800@portsideboulders.com.au
SUMMARY:Revitalising Yin & Yang Yoga
DESCRIPTION:Yin Yoga is a slower practice where poses are passively held for longer. Yin relates to the deep connective tissues and joints in the body. Yang Yoga\, in contrast\, refers to a more active practice. This works on the (Yang) muscles and blood flow\, building strength\, stamina and flexibility. Combining both Yin and Yang Yoga in one class provides a balanced practice and can have a powerful effect on energy levels!
URL:https://portsideboulders.com.au/event/revitalising-yin-yang-yoga-2/2025-01-11/
LOCATION:Portside Boulders O’Connor\, 12 Murphy St\, O'Connor\, WA\, 6163\, Australia
ATTACH;FMTTYPE=image/jpeg:https://portsideboulders.com.au/wp-content/uploads/2023/07/YogaSelects-29-scaled.jpg
END:VEVENT
BEGIN:VEVENT
DTSTART;VALUE=DATE:20250110
DTEND;VALUE=DATE:20250111
DTSTAMP:20260425T042951
CREATED:20230719T035540Z
LAST-MODIFIED:20260123T034118Z
UID:10006406-1736467200-1736553599@portsideboulders.com.au
SUMMARY:Student Fridays
DESCRIPTION:Every Friday we offer $16 entry for students to each Portside with any valid student ID. \nNote: this does not include chalk ($3) and shoe ($7) hire. \nWe also have a BBQ that runs from approximately 6pm-7:30pm. \nSo come on down\, and bring your mates! To speed things up\, make sure you get anyone new you’d like to fill out the waiver in advance.
URL:https://portsideboulders.com.au/event/student-fridays-2/2025-01-10/
LOCATION:Portside Boulders O’Connor\, 12 Murphy St\, O'Connor\, WA\, 6163\, Australia
ATTACH;FMTTYPE=image/jpeg:https://portsideboulders.com.au/wp-content/uploads/2024/02/student-night.jpg
END:VEVENT
BEGIN:VEVENT
DTSTART;TZID=Asia/Shanghai:20250108T183000
DTEND;TZID=Asia/Shanghai:20250108T193000
DTSTAMP:20260425T042951
CREATED:20230706T040930Z
LAST-MODIFIED:20240311T074603Z
UID:10001408-1736361000-1736364600@portsideboulders.com.au
SUMMARY:Power Yoga
DESCRIPTION:A fast-paced and intense style of yoga that’s focused on building strength and endurance\, linking your breath to the different movements of your body.
URL:https://portsideboulders.com.au/event/power-yoga/2025-01-08/
LOCATION:Portside Boulders O’Connor\, 12 Murphy St\, O'Connor\, WA\, 6163\, Australia
ATTACH;FMTTYPE=image/jpeg:https://portsideboulders.com.au/wp-content/uploads/2023/07/Yoga-OC-14-scaled.jpg
END:VEVENT
BEGIN:VEVENT
DTSTART;TZID=Asia/Shanghai:20250107T180000
DTEND;TZID=Asia/Shanghai:20250107T193000
DTSTAMP:20260425T042951
CREATED:20241129T021655Z
LAST-MODIFIED:20241129T021655Z
UID:10004908-1736272800-1736278200@portsideboulders.com.au
SUMMARY:Boulder Stronger
DESCRIPTION:This is a comprehensive\, customised training program designed by our head coach and contains one face-to-face session each week\, as well as two homework sessions a week. \nYou’ll focus on advanced climbing techniques\, as well as tailor-made strength-work. If you’re looking to really elevate your climbing abilities or train for competition climbing\, this is the program for you! \nPortside Members – $39.95 p/w\nNon-Members – $49.95 p/w \nAll our Bouldering Classes are run by Axis Coaching. \nAxis are a professional coaching service\, and have been integrated into Portside since 2017.\nTheir mission is to help boulderers improve their performance both on and off the wall.
URL:https://portsideboulders.com.au/event/boulder-stronger-2-2/2025-01-07/
LOCATION:Portside Boulders O’Connor\, 12 Murphy St\, O'Connor\, WA\, 6163\, Australia
ATTACH;FMTTYPE=image/png:https://portsideboulders.com.au/wp-content/uploads/2023/07/Boulder-Stronger.png
END:VEVENT
BEGIN:VEVENT
DTSTART;TZID=Asia/Shanghai:20250104T100000
DTEND;TZID=Asia/Shanghai:20250104T110000
DTSTAMP:20260425T042951
CREATED:20230706T051222Z
LAST-MODIFIED:20240311T074121Z
UID:10003084-1735984800-1735988400@portsideboulders.com.au
SUMMARY:Revitalising Yin & Yang Yoga
DESCRIPTION:Yin Yoga is a slower practice where poses are passively held for longer. Yin relates to the deep connective tissues and joints in the body. Yang Yoga\, in contrast\, refers to a more active practice. This works on the (Yang) muscles and blood flow\, building strength\, stamina and flexibility. Combining both Yin and Yang Yoga in one class provides a balanced practice and can have a powerful effect on energy levels!
URL:https://portsideboulders.com.au/event/revitalising-yin-yang-yoga/2025-01-04/
LOCATION:Portside Boulders O’Connor\, 12 Murphy St\, O'Connor\, WA\, 6163\, Australia
ATTACH;FMTTYPE=image/jpeg:https://portsideboulders.com.au/wp-content/uploads/2023/07/Ash-OC-19-Copy-scaled.jpg
END:VEVENT
BEGIN:VEVENT
DTSTART;TZID=Asia/Shanghai:20250104T083000
DTEND;TZID=Asia/Shanghai:20250104T093000
DTSTAMP:20260425T042951
CREATED:20230228T023951Z
LAST-MODIFIED:20240311T074007Z
UID:10001946-1735979400-1735983000@portsideboulders.com.au
SUMMARY:Revitalising Yin & Yang Yoga
DESCRIPTION:Yin Yoga is a slower practice where poses are passively held for longer. Yin relates to the deep connective tissues and joints in the body. Yang Yoga\, in contrast\, refers to a more active practice. This works on the (Yang) muscles and blood flow\, building strength\, stamina and flexibility. Combining both Yin and Yang Yoga in one class provides a balanced practice and can have a powerful effect on energy levels!
URL:https://portsideboulders.com.au/event/revitalising-yin-yang-yoga-2/2025-01-04/
LOCATION:Portside Boulders O’Connor\, 12 Murphy St\, O'Connor\, WA\, 6163\, Australia
ATTACH;FMTTYPE=image/jpeg:https://portsideboulders.com.au/wp-content/uploads/2023/07/YogaSelects-29-scaled.jpg
END:VEVENT
BEGIN:VEVENT
DTSTART;VALUE=DATE:20250103
DTEND;VALUE=DATE:20250104
DTSTAMP:20260425T042951
CREATED:20230719T035540Z
LAST-MODIFIED:20260123T034118Z
UID:10006405-1735862400-1735948799@portsideboulders.com.au
SUMMARY:Student Fridays
DESCRIPTION:Every Friday we offer $16 entry for students to each Portside with any valid student ID. \nNote: this does not include chalk ($3) and shoe ($7) hire. \nWe also have a BBQ that runs from approximately 6pm-7:30pm. \nSo come on down\, and bring your mates! To speed things up\, make sure you get anyone new you’d like to fill out the waiver in advance.
URL:https://portsideboulders.com.au/event/student-fridays-2/2025-01-03/
LOCATION:Portside Boulders O’Connor\, 12 Murphy St\, O'Connor\, WA\, 6163\, Australia
ATTACH;FMTTYPE=image/jpeg:https://portsideboulders.com.au/wp-content/uploads/2024/02/student-night.jpg
END:VEVENT
BEGIN:VEVENT
DTSTART;TZID=Asia/Shanghai:20250101T183000
DTEND;TZID=Asia/Shanghai:20250101T193000
DTSTAMP:20260425T042951
CREATED:20230706T040930Z
LAST-MODIFIED:20240311T074603Z
UID:10001407-1735756200-1735759800@portsideboulders.com.au
SUMMARY:Power Yoga
DESCRIPTION:A fast-paced and intense style of yoga that’s focused on building strength and endurance\, linking your breath to the different movements of your body.
URL:https://portsideboulders.com.au/event/power-yoga/2025-01-01/
LOCATION:Portside Boulders O’Connor\, 12 Murphy St\, O'Connor\, WA\, 6163\, Australia
ATTACH;FMTTYPE=image/jpeg:https://portsideboulders.com.au/wp-content/uploads/2023/07/Yoga-OC-14-scaled.jpg
END:VEVENT
BEGIN:VEVENT
DTSTART;TZID=Asia/Shanghai:20241228T100000
DTEND;TZID=Asia/Shanghai:20241228T110000
DTSTAMP:20260425T042951
CREATED:20230706T051222Z
LAST-MODIFIED:20240311T074121Z
UID:10003083-1735380000-1735383600@portsideboulders.com.au
SUMMARY:Revitalising Yin & Yang Yoga
DESCRIPTION:Yin Yoga is a slower practice where poses are passively held for longer. Yin relates to the deep connective tissues and joints in the body. Yang Yoga\, in contrast\, refers to a more active practice. This works on the (Yang) muscles and blood flow\, building strength\, stamina and flexibility. Combining both Yin and Yang Yoga in one class provides a balanced practice and can have a powerful effect on energy levels!
URL:https://portsideboulders.com.au/event/revitalising-yin-yang-yoga/2024-12-28/
LOCATION:Portside Boulders O’Connor\, 12 Murphy St\, O'Connor\, WA\, 6163\, Australia
ATTACH;FMTTYPE=image/jpeg:https://portsideboulders.com.au/wp-content/uploads/2023/07/Ash-OC-19-Copy-scaled.jpg
END:VEVENT
BEGIN:VEVENT
DTSTART;TZID=Asia/Shanghai:20241228T083000
DTEND;TZID=Asia/Shanghai:20241228T093000
DTSTAMP:20260425T042951
CREATED:20230228T023951Z
LAST-MODIFIED:20240311T074007Z
UID:10001945-1735374600-1735378200@portsideboulders.com.au
SUMMARY:Revitalising Yin & Yang Yoga
DESCRIPTION:Yin Yoga is a slower practice where poses are passively held for longer. Yin relates to the deep connective tissues and joints in the body. Yang Yoga\, in contrast\, refers to a more active practice. This works on the (Yang) muscles and blood flow\, building strength\, stamina and flexibility. Combining both Yin and Yang Yoga in one class provides a balanced practice and can have a powerful effect on energy levels!
URL:https://portsideboulders.com.au/event/revitalising-yin-yang-yoga-2/2024-12-28/
LOCATION:Portside Boulders O’Connor\, 12 Murphy St\, O'Connor\, WA\, 6163\, Australia
ATTACH;FMTTYPE=image/jpeg:https://portsideboulders.com.au/wp-content/uploads/2023/07/YogaSelects-29-scaled.jpg
END:VEVENT
BEGIN:VEVENT
DTSTART;VALUE=DATE:20241227
DTEND;VALUE=DATE:20241228
DTSTAMP:20260425T042951
CREATED:20230719T035540Z
LAST-MODIFIED:20260123T034118Z
UID:10006404-1735257600-1735343999@portsideboulders.com.au
SUMMARY:Student Fridays
DESCRIPTION:Every Friday we offer $16 entry for students to each Portside with any valid student ID. \nNote: this does not include chalk ($3) and shoe ($7) hire. \nWe also have a BBQ that runs from approximately 6pm-7:30pm. \nSo come on down\, and bring your mates! To speed things up\, make sure you get anyone new you’d like to fill out the waiver in advance.
URL:https://portsideboulders.com.au/event/student-fridays-2/2024-12-27/
LOCATION:Portside Boulders O’Connor\, 12 Murphy St\, O'Connor\, WA\, 6163\, Australia
ATTACH;FMTTYPE=image/jpeg:https://portsideboulders.com.au/wp-content/uploads/2024/02/student-night.jpg
END:VEVENT
BEGIN:VEVENT
DTSTART;TZID=Asia/Shanghai:20241225T183000
DTEND;TZID=Asia/Shanghai:20241225T193000
DTSTAMP:20260425T042951
CREATED:20230706T040930Z
LAST-MODIFIED:20240311T074603Z
UID:10001406-1735151400-1735155000@portsideboulders.com.au
SUMMARY:Power Yoga
DESCRIPTION:A fast-paced and intense style of yoga that’s focused on building strength and endurance\, linking your breath to the different movements of your body.
URL:https://portsideboulders.com.au/event/power-yoga/2024-12-25/
LOCATION:Portside Boulders O’Connor\, 12 Murphy St\, O'Connor\, WA\, 6163\, Australia
ATTACH;FMTTYPE=image/jpeg:https://portsideboulders.com.au/wp-content/uploads/2023/07/Yoga-OC-14-scaled.jpg
END:VEVENT
BEGIN:VEVENT
DTSTART;TZID=Asia/Shanghai:20241221T100000
DTEND;TZID=Asia/Shanghai:20241221T110000
DTSTAMP:20260425T042951
CREATED:20230706T051222Z
LAST-MODIFIED:20240311T074121Z
UID:10003082-1734775200-1734778800@portsideboulders.com.au
SUMMARY:Revitalising Yin & Yang Yoga
DESCRIPTION:Yin Yoga is a slower practice where poses are passively held for longer. Yin relates to the deep connective tissues and joints in the body. Yang Yoga\, in contrast\, refers to a more active practice. This works on the (Yang) muscles and blood flow\, building strength\, stamina and flexibility. Combining both Yin and Yang Yoga in one class provides a balanced practice and can have a powerful effect on energy levels!
URL:https://portsideboulders.com.au/event/revitalising-yin-yang-yoga/2024-12-21/
LOCATION:Portside Boulders O’Connor\, 12 Murphy St\, O'Connor\, WA\, 6163\, Australia
ATTACH;FMTTYPE=image/jpeg:https://portsideboulders.com.au/wp-content/uploads/2023/07/Ash-OC-19-Copy-scaled.jpg
END:VEVENT
BEGIN:VEVENT
DTSTART;TZID=Asia/Shanghai:20241221T083000
DTEND;TZID=Asia/Shanghai:20241221T093000
DTSTAMP:20260425T042951
CREATED:20230228T023951Z
LAST-MODIFIED:20240311T074007Z
UID:10001944-1734769800-1734773400@portsideboulders.com.au
SUMMARY:Revitalising Yin & Yang Yoga
DESCRIPTION:Yin Yoga is a slower practice where poses are passively held for longer. Yin relates to the deep connective tissues and joints in the body. Yang Yoga\, in contrast\, refers to a more active practice. This works on the (Yang) muscles and blood flow\, building strength\, stamina and flexibility. Combining both Yin and Yang Yoga in one class provides a balanced practice and can have a powerful effect on energy levels!
URL:https://portsideboulders.com.au/event/revitalising-yin-yang-yoga-2/2024-12-21/
LOCATION:Portside Boulders O’Connor\, 12 Murphy St\, O'Connor\, WA\, 6163\, Australia
ATTACH;FMTTYPE=image/jpeg:https://portsideboulders.com.au/wp-content/uploads/2023/07/YogaSelects-29-scaled.jpg
END:VEVENT
BEGIN:VEVENT
DTSTART;VALUE=DATE:20241220
DTEND;VALUE=DATE:20241221
DTSTAMP:20260425T042951
CREATED:20230719T035540Z
LAST-MODIFIED:20260123T034118Z
UID:10006403-1734652800-1734739199@portsideboulders.com.au
SUMMARY:Student Fridays
DESCRIPTION:Every Friday we offer $16 entry for students to each Portside with any valid student ID. \nNote: this does not include chalk ($3) and shoe ($7) hire. \nWe also have a BBQ that runs from approximately 6pm-7:30pm. \nSo come on down\, and bring your mates! To speed things up\, make sure you get anyone new you’d like to fill out the waiver in advance.
URL:https://portsideboulders.com.au/event/student-fridays-2/2024-12-20/
LOCATION:Portside Boulders O’Connor\, 12 Murphy St\, O'Connor\, WA\, 6163\, Australia
ATTACH;FMTTYPE=image/jpeg:https://portsideboulders.com.au/wp-content/uploads/2024/02/student-night.jpg
END:VEVENT
BEGIN:VEVENT
DTSTART;TZID=Asia/Shanghai:20241218T183000
DTEND;TZID=Asia/Shanghai:20241218T193000
DTSTAMP:20260425T042951
CREATED:20230706T040930Z
LAST-MODIFIED:20240311T074603Z
UID:10001405-1734546600-1734550200@portsideboulders.com.au
SUMMARY:Power Yoga
DESCRIPTION:A fast-paced and intense style of yoga that’s focused on building strength and endurance\, linking your breath to the different movements of your body.
URL:https://portsideboulders.com.au/event/power-yoga/2024-12-18/
LOCATION:Portside Boulders O’Connor\, 12 Murphy St\, O'Connor\, WA\, 6163\, Australia
ATTACH;FMTTYPE=image/jpeg:https://portsideboulders.com.au/wp-content/uploads/2023/07/Yoga-OC-14-scaled.jpg
END:VEVENT
BEGIN:VEVENT
DTSTART;TZID=Asia/Shanghai:20241214T100000
DTEND;TZID=Asia/Shanghai:20241214T110000
DTSTAMP:20260425T042951
CREATED:20230706T051222Z
LAST-MODIFIED:20240311T074121Z
UID:10003081-1734170400-1734174000@portsideboulders.com.au
SUMMARY:Revitalising Yin & Yang Yoga
DESCRIPTION:Yin Yoga is a slower practice where poses are passively held for longer. Yin relates to the deep connective tissues and joints in the body. Yang Yoga\, in contrast\, refers to a more active practice. This works on the (Yang) muscles and blood flow\, building strength\, stamina and flexibility. Combining both Yin and Yang Yoga in one class provides a balanced practice and can have a powerful effect on energy levels!
URL:https://portsideboulders.com.au/event/revitalising-yin-yang-yoga/2024-12-14/
LOCATION:Portside Boulders O’Connor\, 12 Murphy St\, O'Connor\, WA\, 6163\, Australia
ATTACH;FMTTYPE=image/jpeg:https://portsideboulders.com.au/wp-content/uploads/2023/07/Ash-OC-19-Copy-scaled.jpg
END:VEVENT
BEGIN:VEVENT
DTSTART;TZID=Asia/Shanghai:20241214T083000
DTEND;TZID=Asia/Shanghai:20241214T093000
DTSTAMP:20260425T042951
CREATED:20230228T023951Z
LAST-MODIFIED:20240311T074007Z
UID:10001943-1734165000-1734168600@portsideboulders.com.au
SUMMARY:Revitalising Yin & Yang Yoga
DESCRIPTION:Yin Yoga is a slower practice where poses are passively held for longer. Yin relates to the deep connective tissues and joints in the body. Yang Yoga\, in contrast\, refers to a more active practice. This works on the (Yang) muscles and blood flow\, building strength\, stamina and flexibility. Combining both Yin and Yang Yoga in one class provides a balanced practice and can have a powerful effect on energy levels!
URL:https://portsideboulders.com.au/event/revitalising-yin-yang-yoga-2/2024-12-14/
LOCATION:Portside Boulders O’Connor\, 12 Murphy St\, O'Connor\, WA\, 6163\, Australia
ATTACH;FMTTYPE=image/jpeg:https://portsideboulders.com.au/wp-content/uploads/2023/07/YogaSelects-29-scaled.jpg
END:VEVENT
BEGIN:VEVENT
DTSTART;VALUE=DATE:20241213
DTEND;VALUE=DATE:20241214
DTSTAMP:20260425T042951
CREATED:20230719T035540Z
LAST-MODIFIED:20260123T034118Z
UID:10006402-1734048000-1734134399@portsideboulders.com.au
SUMMARY:Student Fridays
DESCRIPTION:Every Friday we offer $16 entry for students to each Portside with any valid student ID. \nNote: this does not include chalk ($3) and shoe ($7) hire. \nWe also have a BBQ that runs from approximately 6pm-7:30pm. \nSo come on down\, and bring your mates! To speed things up\, make sure you get anyone new you’d like to fill out the waiver in advance.
URL:https://portsideboulders.com.au/event/student-fridays-2/2024-12-13/
LOCATION:Portside Boulders O’Connor\, 12 Murphy St\, O'Connor\, WA\, 6163\, Australia
ATTACH;FMTTYPE=image/jpeg:https://portsideboulders.com.au/wp-content/uploads/2024/02/student-night.jpg
END:VEVENT
BEGIN:VEVENT
DTSTART;TZID=Asia/Shanghai:20241211T183000
DTEND;TZID=Asia/Shanghai:20241211T193000
DTSTAMP:20260425T042951
CREATED:20230706T040930Z
LAST-MODIFIED:20240311T074603Z
UID:10001404-1733941800-1733945400@portsideboulders.com.au
SUMMARY:Power Yoga
DESCRIPTION:A fast-paced and intense style of yoga that’s focused on building strength and endurance\, linking your breath to the different movements of your body.
URL:https://portsideboulders.com.au/event/power-yoga/2024-12-11/
LOCATION:Portside Boulders O’Connor\, 12 Murphy St\, O'Connor\, WA\, 6163\, Australia
ATTACH;FMTTYPE=image/jpeg:https://portsideboulders.com.au/wp-content/uploads/2023/07/Yoga-OC-14-scaled.jpg
END:VEVENT
BEGIN:VEVENT
DTSTART;TZID=Asia/Shanghai:20241207T100000
DTEND;TZID=Asia/Shanghai:20241207T110000
DTSTAMP:20260425T042951
CREATED:20230706T051222Z
LAST-MODIFIED:20240311T074121Z
UID:10003080-1733565600-1733569200@portsideboulders.com.au
SUMMARY:Revitalising Yin & Yang Yoga
DESCRIPTION:Yin Yoga is a slower practice where poses are passively held for longer. Yin relates to the deep connective tissues and joints in the body. Yang Yoga\, in contrast\, refers to a more active practice. This works on the (Yang) muscles and blood flow\, building strength\, stamina and flexibility. Combining both Yin and Yang Yoga in one class provides a balanced practice and can have a powerful effect on energy levels!
URL:https://portsideboulders.com.au/event/revitalising-yin-yang-yoga/2024-12-07/
LOCATION:Portside Boulders O’Connor\, 12 Murphy St\, O'Connor\, WA\, 6163\, Australia
ATTACH;FMTTYPE=image/jpeg:https://portsideboulders.com.au/wp-content/uploads/2023/07/Ash-OC-19-Copy-scaled.jpg
END:VEVENT
BEGIN:VEVENT
DTSTART;TZID=Asia/Shanghai:20241207T083000
DTEND;TZID=Asia/Shanghai:20241207T093000
DTSTAMP:20260425T042951
CREATED:20230228T023951Z
LAST-MODIFIED:20240311T074007Z
UID:10001942-1733560200-1733563800@portsideboulders.com.au
SUMMARY:Revitalising Yin & Yang Yoga
DESCRIPTION:Yin Yoga is a slower practice where poses are passively held for longer. Yin relates to the deep connective tissues and joints in the body. Yang Yoga\, in contrast\, refers to a more active practice. This works on the (Yang) muscles and blood flow\, building strength\, stamina and flexibility. Combining both Yin and Yang Yoga in one class provides a balanced practice and can have a powerful effect on energy levels!
URL:https://portsideboulders.com.au/event/revitalising-yin-yang-yoga-2/2024-12-07/
LOCATION:Portside Boulders O’Connor\, 12 Murphy St\, O'Connor\, WA\, 6163\, Australia
ATTACH;FMTTYPE=image/jpeg:https://portsideboulders.com.au/wp-content/uploads/2023/07/YogaSelects-29-scaled.jpg
END:VEVENT
BEGIN:VEVENT
DTSTART;VALUE=DATE:20241206
DTEND;VALUE=DATE:20241207
DTSTAMP:20260425T042951
CREATED:20230719T035540Z
LAST-MODIFIED:20260123T034118Z
UID:10006401-1733443200-1733529599@portsideboulders.com.au
SUMMARY:Student Fridays
DESCRIPTION:Every Friday we offer $16 entry for students to each Portside with any valid student ID. \nNote: this does not include chalk ($3) and shoe ($7) hire. \nWe also have a BBQ that runs from approximately 6pm-7:30pm. \nSo come on down\, and bring your mates! To speed things up\, make sure you get anyone new you’d like to fill out the waiver in advance.
URL:https://portsideboulders.com.au/event/student-fridays-2/2024-12-06/
LOCATION:Portside Boulders O’Connor\, 12 Murphy St\, O'Connor\, WA\, 6163\, Australia
ATTACH;FMTTYPE=image/jpeg:https://portsideboulders.com.au/wp-content/uploads/2024/02/student-night.jpg
END:VEVENT
END:VCALENDAR