BEGIN:VCALENDAR
VERSION:2.0
PRODID:-//Portside Boulders - ECPv6.15.17.1//NONSGML v1.0//EN
CALSCALE:GREGORIAN
METHOD:PUBLISH
X-ORIGINAL-URL:https://portsideboulders.com.au
X-WR-CALDESC:Events for Portside Boulders
REFRESH-INTERVAL;VALUE=DURATION:PT1H
X-Robots-Tag:noindex
X-PUBLISHED-TTL:PT1H
BEGIN:VTIMEZONE
TZID:Asia/Shanghai
BEGIN:STANDARD
TZOFFSETFROM:+0800
TZOFFSETTO:+0800
TZNAME:CST
DTSTART:20230101T000000
END:STANDARD
END:VTIMEZONE
BEGIN:VEVENT
DTSTART;TZID=Asia/Shanghai:20241102T083000
DTEND;TZID=Asia/Shanghai:20241102T093000
DTSTAMP:20260425T081633
CREATED:20230228T023951Z
LAST-MODIFIED:20240311T074007Z
UID:10001937-1730536200-1730539800@portsideboulders.com.au
SUMMARY:Revitalising Yin & Yang Yoga
DESCRIPTION:Yin Yoga is a slower practice where poses are passively held for longer. Yin relates to the deep connective tissues and joints in the body. Yang Yoga\, in contrast\, refers to a more active practice. This works on the (Yang) muscles and blood flow\, building strength\, stamina and flexibility. Combining both Yin and Yang Yoga in one class provides a balanced practice and can have a powerful effect on energy levels!
URL:https://portsideboulders.com.au/event/revitalising-yin-yang-yoga-2/2024-11-02/
LOCATION:Portside Boulders O’Connor\, 12 Murphy St\, O'Connor\, WA\, 6163\, Australia
ATTACH;FMTTYPE=image/jpeg:https://portsideboulders.com.au/wp-content/uploads/2023/07/YogaSelects-29-scaled.jpg
END:VEVENT
BEGIN:VEVENT
DTSTART;VALUE=DATE:20241101
DTEND;VALUE=DATE:20241102
DTSTAMP:20260425T081633
CREATED:20230719T035540Z
LAST-MODIFIED:20260123T034118Z
UID:10006396-1730419200-1730505599@portsideboulders.com.au
SUMMARY:Student Fridays
DESCRIPTION:Every Friday we offer $16 entry for students to each Portside with any valid student ID. \nNote: this does not include chalk ($3) and shoe ($7) hire. \nWe also have a BBQ that runs from approximately 6pm-7:30pm. \nSo come on down\, and bring your mates! To speed things up\, make sure you get anyone new you’d like to fill out the waiver in advance.
URL:https://portsideboulders.com.au/event/student-fridays-2/2024-11-01/
LOCATION:Portside Boulders O’Connor\, 12 Murphy St\, O'Connor\, WA\, 6163\, Australia
ATTACH;FMTTYPE=image/jpeg:https://portsideboulders.com.au/wp-content/uploads/2024/02/student-night.jpg
END:VEVENT
BEGIN:VEVENT
DTSTART;TZID=Asia/Shanghai:20241030T183000
DTEND;TZID=Asia/Shanghai:20241030T193000
DTSTAMP:20260425T081633
CREATED:20230706T040930Z
LAST-MODIFIED:20240311T074603Z
UID:10001398-1730313000-1730316600@portsideboulders.com.au
SUMMARY:Power Yoga
DESCRIPTION:A fast-paced and intense style of yoga that’s focused on building strength and endurance\, linking your breath to the different movements of your body.
URL:https://portsideboulders.com.au/event/power-yoga/2024-10-30/
LOCATION:Portside Boulders O’Connor\, 12 Murphy St\, O'Connor\, WA\, 6163\, Australia
ATTACH;FMTTYPE=image/jpeg:https://portsideboulders.com.au/wp-content/uploads/2023/07/Yoga-OC-14-scaled.jpg
END:VEVENT
BEGIN:VEVENT
DTSTART;TZID=Asia/Shanghai:20241026T100000
DTEND;TZID=Asia/Shanghai:20241026T110000
DTSTAMP:20260425T081633
CREATED:20230706T051222Z
LAST-MODIFIED:20240311T074121Z
UID:10003074-1729936800-1729940400@portsideboulders.com.au
SUMMARY:Revitalising Yin & Yang Yoga
DESCRIPTION:Yin Yoga is a slower practice where poses are passively held for longer. Yin relates to the deep connective tissues and joints in the body. Yang Yoga\, in contrast\, refers to a more active practice. This works on the (Yang) muscles and blood flow\, building strength\, stamina and flexibility. Combining both Yin and Yang Yoga in one class provides a balanced practice and can have a powerful effect on energy levels!
URL:https://portsideboulders.com.au/event/revitalising-yin-yang-yoga/2024-10-26/
LOCATION:Portside Boulders O’Connor\, 12 Murphy St\, O'Connor\, WA\, 6163\, Australia
ATTACH;FMTTYPE=image/jpeg:https://portsideboulders.com.au/wp-content/uploads/2023/07/Ash-OC-19-Copy-scaled.jpg
END:VEVENT
BEGIN:VEVENT
DTSTART;TZID=Asia/Shanghai:20241026T083000
DTEND;TZID=Asia/Shanghai:20241026T093000
DTSTAMP:20260425T081633
CREATED:20230228T023951Z
LAST-MODIFIED:20240311T074007Z
UID:10001936-1729931400-1729935000@portsideboulders.com.au
SUMMARY:Revitalising Yin & Yang Yoga
DESCRIPTION:Yin Yoga is a slower practice where poses are passively held for longer. Yin relates to the deep connective tissues and joints in the body. Yang Yoga\, in contrast\, refers to a more active practice. This works on the (Yang) muscles and blood flow\, building strength\, stamina and flexibility. Combining both Yin and Yang Yoga in one class provides a balanced practice and can have a powerful effect on energy levels!
URL:https://portsideboulders.com.au/event/revitalising-yin-yang-yoga-2/2024-10-26/
LOCATION:Portside Boulders O’Connor\, 12 Murphy St\, O'Connor\, WA\, 6163\, Australia
ATTACH;FMTTYPE=image/jpeg:https://portsideboulders.com.au/wp-content/uploads/2023/07/YogaSelects-29-scaled.jpg
END:VEVENT
BEGIN:VEVENT
DTSTART;VALUE=DATE:20241025
DTEND;VALUE=DATE:20241026
DTSTAMP:20260425T081633
CREATED:20230719T035540Z
LAST-MODIFIED:20260123T034118Z
UID:10006395-1729814400-1729900799@portsideboulders.com.au
SUMMARY:Student Fridays
DESCRIPTION:Every Friday we offer $16 entry for students to each Portside with any valid student ID. \nNote: this does not include chalk ($3) and shoe ($7) hire. \nWe also have a BBQ that runs from approximately 6pm-7:30pm. \nSo come on down\, and bring your mates! To speed things up\, make sure you get anyone new you’d like to fill out the waiver in advance.
URL:https://portsideboulders.com.au/event/student-fridays-2/2024-10-25/
LOCATION:Portside Boulders O’Connor\, 12 Murphy St\, O'Connor\, WA\, 6163\, Australia
ATTACH;FMTTYPE=image/jpeg:https://portsideboulders.com.au/wp-content/uploads/2024/02/student-night.jpg
END:VEVENT
BEGIN:VEVENT
DTSTART;TZID=Asia/Shanghai:20241023T183000
DTEND;TZID=Asia/Shanghai:20241023T193000
DTSTAMP:20260425T081633
CREATED:20230706T040930Z
LAST-MODIFIED:20240311T074603Z
UID:10001397-1729708200-1729711800@portsideboulders.com.au
SUMMARY:Power Yoga
DESCRIPTION:A fast-paced and intense style of yoga that’s focused on building strength and endurance\, linking your breath to the different movements of your body.
URL:https://portsideboulders.com.au/event/power-yoga/2024-10-23/
LOCATION:Portside Boulders O’Connor\, 12 Murphy St\, O'Connor\, WA\, 6163\, Australia
ATTACH;FMTTYPE=image/jpeg:https://portsideboulders.com.au/wp-content/uploads/2023/07/Yoga-OC-14-scaled.jpg
END:VEVENT
BEGIN:VEVENT
DTSTART;TZID=Asia/Shanghai:20241019T100000
DTEND;TZID=Asia/Shanghai:20241019T110000
DTSTAMP:20260425T081633
CREATED:20230706T051222Z
LAST-MODIFIED:20240311T074121Z
UID:10003073-1729332000-1729335600@portsideboulders.com.au
SUMMARY:Revitalising Yin & Yang Yoga
DESCRIPTION:Yin Yoga is a slower practice where poses are passively held for longer. Yin relates to the deep connective tissues and joints in the body. Yang Yoga\, in contrast\, refers to a more active practice. This works on the (Yang) muscles and blood flow\, building strength\, stamina and flexibility. Combining both Yin and Yang Yoga in one class provides a balanced practice and can have a powerful effect on energy levels!
URL:https://portsideboulders.com.au/event/revitalising-yin-yang-yoga/2024-10-19/
LOCATION:Portside Boulders O’Connor\, 12 Murphy St\, O'Connor\, WA\, 6163\, Australia
ATTACH;FMTTYPE=image/jpeg:https://portsideboulders.com.au/wp-content/uploads/2023/07/Ash-OC-19-Copy-scaled.jpg
END:VEVENT
BEGIN:VEVENT
DTSTART;TZID=Asia/Shanghai:20241019T083000
DTEND;TZID=Asia/Shanghai:20241019T093000
DTSTAMP:20260425T081633
CREATED:20230228T023951Z
LAST-MODIFIED:20240311T074007Z
UID:10001935-1729326600-1729330200@portsideboulders.com.au
SUMMARY:Revitalising Yin & Yang Yoga
DESCRIPTION:Yin Yoga is a slower practice where poses are passively held for longer. Yin relates to the deep connective tissues and joints in the body. Yang Yoga\, in contrast\, refers to a more active practice. This works on the (Yang) muscles and blood flow\, building strength\, stamina and flexibility. Combining both Yin and Yang Yoga in one class provides a balanced practice and can have a powerful effect on energy levels!
URL:https://portsideboulders.com.au/event/revitalising-yin-yang-yoga-2/2024-10-19/
LOCATION:Portside Boulders O’Connor\, 12 Murphy St\, O'Connor\, WA\, 6163\, Australia
ATTACH;FMTTYPE=image/jpeg:https://portsideboulders.com.au/wp-content/uploads/2023/07/YogaSelects-29-scaled.jpg
END:VEVENT
BEGIN:VEVENT
DTSTART;VALUE=DATE:20241018
DTEND;VALUE=DATE:20241019
DTSTAMP:20260425T081633
CREATED:20230719T035540Z
LAST-MODIFIED:20260123T034118Z
UID:10006394-1729209600-1729295999@portsideboulders.com.au
SUMMARY:Student Fridays
DESCRIPTION:Every Friday we offer $16 entry for students to each Portside with any valid student ID. \nNote: this does not include chalk ($3) and shoe ($7) hire. \nWe also have a BBQ that runs from approximately 6pm-7:30pm. \nSo come on down\, and bring your mates! To speed things up\, make sure you get anyone new you’d like to fill out the waiver in advance.
URL:https://portsideboulders.com.au/event/student-fridays-2/2024-10-18/
LOCATION:Portside Boulders O’Connor\, 12 Murphy St\, O'Connor\, WA\, 6163\, Australia
ATTACH;FMTTYPE=image/jpeg:https://portsideboulders.com.au/wp-content/uploads/2024/02/student-night.jpg
END:VEVENT
BEGIN:VEVENT
DTSTART;TZID=Asia/Shanghai:20241016T183000
DTEND;TZID=Asia/Shanghai:20241016T193000
DTSTAMP:20260425T081633
CREATED:20230706T040930Z
LAST-MODIFIED:20240311T074603Z
UID:10001396-1729103400-1729107000@portsideboulders.com.au
SUMMARY:Power Yoga
DESCRIPTION:A fast-paced and intense style of yoga that’s focused on building strength and endurance\, linking your breath to the different movements of your body.
URL:https://portsideboulders.com.au/event/power-yoga/2024-10-16/
LOCATION:Portside Boulders O’Connor\, 12 Murphy St\, O'Connor\, WA\, 6163\, Australia
ATTACH;FMTTYPE=image/jpeg:https://portsideboulders.com.au/wp-content/uploads/2023/07/Yoga-OC-14-scaled.jpg
END:VEVENT
BEGIN:VEVENT
DTSTART;TZID=Asia/Shanghai:20241012T100000
DTEND;TZID=Asia/Shanghai:20241012T110000
DTSTAMP:20260425T081633
CREATED:20230706T051222Z
LAST-MODIFIED:20240311T074121Z
UID:10003072-1728727200-1728730800@portsideboulders.com.au
SUMMARY:Revitalising Yin & Yang Yoga
DESCRIPTION:Yin Yoga is a slower practice where poses are passively held for longer. Yin relates to the deep connective tissues and joints in the body. Yang Yoga\, in contrast\, refers to a more active practice. This works on the (Yang) muscles and blood flow\, building strength\, stamina and flexibility. Combining both Yin and Yang Yoga in one class provides a balanced practice and can have a powerful effect on energy levels!
URL:https://portsideboulders.com.au/event/revitalising-yin-yang-yoga/2024-10-12/
LOCATION:Portside Boulders O’Connor\, 12 Murphy St\, O'Connor\, WA\, 6163\, Australia
ATTACH;FMTTYPE=image/jpeg:https://portsideboulders.com.au/wp-content/uploads/2023/07/Ash-OC-19-Copy-scaled.jpg
END:VEVENT
BEGIN:VEVENT
DTSTART;TZID=Asia/Shanghai:20241012T083000
DTEND;TZID=Asia/Shanghai:20241012T093000
DTSTAMP:20260425T081633
CREATED:20230228T023951Z
LAST-MODIFIED:20240311T074007Z
UID:10001934-1728721800-1728725400@portsideboulders.com.au
SUMMARY:Revitalising Yin & Yang Yoga
DESCRIPTION:Yin Yoga is a slower practice where poses are passively held for longer. Yin relates to the deep connective tissues and joints in the body. Yang Yoga\, in contrast\, refers to a more active practice. This works on the (Yang) muscles and blood flow\, building strength\, stamina and flexibility. Combining both Yin and Yang Yoga in one class provides a balanced practice and can have a powerful effect on energy levels!
URL:https://portsideboulders.com.au/event/revitalising-yin-yang-yoga-2/2024-10-12/
LOCATION:Portside Boulders O’Connor\, 12 Murphy St\, O'Connor\, WA\, 6163\, Australia
ATTACH;FMTTYPE=image/jpeg:https://portsideboulders.com.au/wp-content/uploads/2023/07/YogaSelects-29-scaled.jpg
END:VEVENT
BEGIN:VEVENT
DTSTART;VALUE=DATE:20241011
DTEND;VALUE=DATE:20241012
DTSTAMP:20260425T081633
CREATED:20230719T035540Z
LAST-MODIFIED:20260123T034118Z
UID:10006393-1728604800-1728691199@portsideboulders.com.au
SUMMARY:Student Fridays
DESCRIPTION:Every Friday we offer $16 entry for students to each Portside with any valid student ID. \nNote: this does not include chalk ($3) and shoe ($7) hire. \nWe also have a BBQ that runs from approximately 6pm-7:30pm. \nSo come on down\, and bring your mates! To speed things up\, make sure you get anyone new you’d like to fill out the waiver in advance.
URL:https://portsideboulders.com.au/event/student-fridays-2/2024-10-11/
LOCATION:Portside Boulders O’Connor\, 12 Murphy St\, O'Connor\, WA\, 6163\, Australia
ATTACH;FMTTYPE=image/jpeg:https://portsideboulders.com.au/wp-content/uploads/2024/02/student-night.jpg
END:VEVENT
BEGIN:VEVENT
DTSTART;TZID=Asia/Shanghai:20241009T183000
DTEND;TZID=Asia/Shanghai:20241009T193000
DTSTAMP:20260425T081633
CREATED:20230706T040930Z
LAST-MODIFIED:20240311T074603Z
UID:10001395-1728498600-1728502200@portsideboulders.com.au
SUMMARY:Power Yoga
DESCRIPTION:A fast-paced and intense style of yoga that’s focused on building strength and endurance\, linking your breath to the different movements of your body.
URL:https://portsideboulders.com.au/event/power-yoga/2024-10-09/
LOCATION:Portside Boulders O’Connor\, 12 Murphy St\, O'Connor\, WA\, 6163\, Australia
ATTACH;FMTTYPE=image/jpeg:https://portsideboulders.com.au/wp-content/uploads/2023/07/Yoga-OC-14-scaled.jpg
END:VEVENT
BEGIN:VEVENT
DTSTART;TZID=Asia/Shanghai:20241005T100000
DTEND;TZID=Asia/Shanghai:20241005T110000
DTSTAMP:20260425T081633
CREATED:20230706T051222Z
LAST-MODIFIED:20240311T074121Z
UID:10003071-1728122400-1728126000@portsideboulders.com.au
SUMMARY:Revitalising Yin & Yang Yoga
DESCRIPTION:Yin Yoga is a slower practice where poses are passively held for longer. Yin relates to the deep connective tissues and joints in the body. Yang Yoga\, in contrast\, refers to a more active practice. This works on the (Yang) muscles and blood flow\, building strength\, stamina and flexibility. Combining both Yin and Yang Yoga in one class provides a balanced practice and can have a powerful effect on energy levels!
URL:https://portsideboulders.com.au/event/revitalising-yin-yang-yoga/2024-10-05/
LOCATION:Portside Boulders O’Connor\, 12 Murphy St\, O'Connor\, WA\, 6163\, Australia
ATTACH;FMTTYPE=image/jpeg:https://portsideboulders.com.au/wp-content/uploads/2023/07/Ash-OC-19-Copy-scaled.jpg
END:VEVENT
BEGIN:VEVENT
DTSTART;TZID=Asia/Shanghai:20241005T083000
DTEND;TZID=Asia/Shanghai:20241005T093000
DTSTAMP:20260425T081633
CREATED:20230228T023951Z
LAST-MODIFIED:20240311T074007Z
UID:10001933-1728117000-1728120600@portsideboulders.com.au
SUMMARY:Revitalising Yin & Yang Yoga
DESCRIPTION:Yin Yoga is a slower practice where poses are passively held for longer. Yin relates to the deep connective tissues and joints in the body. Yang Yoga\, in contrast\, refers to a more active practice. This works on the (Yang) muscles and blood flow\, building strength\, stamina and flexibility. Combining both Yin and Yang Yoga in one class provides a balanced practice and can have a powerful effect on energy levels!
URL:https://portsideboulders.com.au/event/revitalising-yin-yang-yoga-2/2024-10-05/
LOCATION:Portside Boulders O’Connor\, 12 Murphy St\, O'Connor\, WA\, 6163\, Australia
ATTACH;FMTTYPE=image/jpeg:https://portsideboulders.com.au/wp-content/uploads/2023/07/YogaSelects-29-scaled.jpg
END:VEVENT
BEGIN:VEVENT
DTSTART;VALUE=DATE:20241004
DTEND;VALUE=DATE:20241005
DTSTAMP:20260425T081633
CREATED:20230719T035540Z
LAST-MODIFIED:20260123T034118Z
UID:10006392-1728000000-1728086399@portsideboulders.com.au
SUMMARY:Student Fridays
DESCRIPTION:Every Friday we offer $16 entry for students to each Portside with any valid student ID. \nNote: this does not include chalk ($3) and shoe ($7) hire. \nWe also have a BBQ that runs from approximately 6pm-7:30pm. \nSo come on down\, and bring your mates! To speed things up\, make sure you get anyone new you’d like to fill out the waiver in advance.
URL:https://portsideboulders.com.au/event/student-fridays-2/2024-10-04/
LOCATION:Portside Boulders O’Connor\, 12 Murphy St\, O'Connor\, WA\, 6163\, Australia
ATTACH;FMTTYPE=image/jpeg:https://portsideboulders.com.au/wp-content/uploads/2024/02/student-night.jpg
END:VEVENT
BEGIN:VEVENT
DTSTART;TZID=Asia/Shanghai:20241002T183000
DTEND;TZID=Asia/Shanghai:20241002T193000
DTSTAMP:20260425T081633
CREATED:20230706T040930Z
LAST-MODIFIED:20240311T074603Z
UID:10001394-1727893800-1727897400@portsideboulders.com.au
SUMMARY:Power Yoga
DESCRIPTION:A fast-paced and intense style of yoga that’s focused on building strength and endurance\, linking your breath to the different movements of your body.
URL:https://portsideboulders.com.au/event/power-yoga/2024-10-02/
LOCATION:Portside Boulders O’Connor\, 12 Murphy St\, O'Connor\, WA\, 6163\, Australia
ATTACH;FMTTYPE=image/jpeg:https://portsideboulders.com.au/wp-content/uploads/2023/07/Yoga-OC-14-scaled.jpg
END:VEVENT
BEGIN:VEVENT
DTSTART;TZID=Asia/Shanghai:20240928T100000
DTEND;TZID=Asia/Shanghai:20240928T110000
DTSTAMP:20260425T081633
CREATED:20230706T051222Z
LAST-MODIFIED:20240311T074121Z
UID:10003070-1727517600-1727521200@portsideboulders.com.au
SUMMARY:Revitalising Yin & Yang Yoga
DESCRIPTION:Yin Yoga is a slower practice where poses are passively held for longer. Yin relates to the deep connective tissues and joints in the body. Yang Yoga\, in contrast\, refers to a more active practice. This works on the (Yang) muscles and blood flow\, building strength\, stamina and flexibility. Combining both Yin and Yang Yoga in one class provides a balanced practice and can have a powerful effect on energy levels!
URL:https://portsideboulders.com.au/event/revitalising-yin-yang-yoga/2024-09-28/
LOCATION:Portside Boulders O’Connor\, 12 Murphy St\, O'Connor\, WA\, 6163\, Australia
ATTACH;FMTTYPE=image/jpeg:https://portsideboulders.com.au/wp-content/uploads/2023/07/Ash-OC-19-Copy-scaled.jpg
END:VEVENT
BEGIN:VEVENT
DTSTART;TZID=Asia/Shanghai:20240928T083000
DTEND;TZID=Asia/Shanghai:20240928T093000
DTSTAMP:20260425T081633
CREATED:20230228T023951Z
LAST-MODIFIED:20240311T074007Z
UID:10001932-1727512200-1727515800@portsideboulders.com.au
SUMMARY:Revitalising Yin & Yang Yoga
DESCRIPTION:Yin Yoga is a slower practice where poses are passively held for longer. Yin relates to the deep connective tissues and joints in the body. Yang Yoga\, in contrast\, refers to a more active practice. This works on the (Yang) muscles and blood flow\, building strength\, stamina and flexibility. Combining both Yin and Yang Yoga in one class provides a balanced practice and can have a powerful effect on energy levels!
URL:https://portsideboulders.com.au/event/revitalising-yin-yang-yoga-2/2024-09-28/
LOCATION:Portside Boulders O’Connor\, 12 Murphy St\, O'Connor\, WA\, 6163\, Australia
ATTACH;FMTTYPE=image/jpeg:https://portsideboulders.com.au/wp-content/uploads/2023/07/YogaSelects-29-scaled.jpg
END:VEVENT
BEGIN:VEVENT
DTSTART;VALUE=DATE:20240927
DTEND;VALUE=DATE:20240928
DTSTAMP:20260425T081633
CREATED:20230719T035540Z
LAST-MODIFIED:20260123T034118Z
UID:10006391-1727395200-1727481599@portsideboulders.com.au
SUMMARY:Student Fridays
DESCRIPTION:Every Friday we offer $16 entry for students to each Portside with any valid student ID. \nNote: this does not include chalk ($3) and shoe ($7) hire. \nWe also have a BBQ that runs from approximately 6pm-7:30pm. \nSo come on down\, and bring your mates! To speed things up\, make sure you get anyone new you’d like to fill out the waiver in advance.
URL:https://portsideboulders.com.au/event/student-fridays-2/2024-09-27/
LOCATION:Portside Boulders O’Connor\, 12 Murphy St\, O'Connor\, WA\, 6163\, Australia
ATTACH;FMTTYPE=image/jpeg:https://portsideboulders.com.au/wp-content/uploads/2024/02/student-night.jpg
END:VEVENT
BEGIN:VEVENT
DTSTART;TZID=Asia/Shanghai:20240925T183000
DTEND;TZID=Asia/Shanghai:20240925T193000
DTSTAMP:20260425T081633
CREATED:20230706T040930Z
LAST-MODIFIED:20240311T074603Z
UID:10001393-1727289000-1727292600@portsideboulders.com.au
SUMMARY:Power Yoga
DESCRIPTION:A fast-paced and intense style of yoga that’s focused on building strength and endurance\, linking your breath to the different movements of your body.
URL:https://portsideboulders.com.au/event/power-yoga/2024-09-25/
LOCATION:Portside Boulders O’Connor\, 12 Murphy St\, O'Connor\, WA\, 6163\, Australia
ATTACH;FMTTYPE=image/jpeg:https://portsideboulders.com.au/wp-content/uploads/2023/07/Yoga-OC-14-scaled.jpg
END:VEVENT
BEGIN:VEVENT
DTSTART;TZID=Asia/Shanghai:20240921T100000
DTEND;TZID=Asia/Shanghai:20240921T110000
DTSTAMP:20260425T081633
CREATED:20230706T051222Z
LAST-MODIFIED:20240311T074121Z
UID:10003069-1726912800-1726916400@portsideboulders.com.au
SUMMARY:Revitalising Yin & Yang Yoga
DESCRIPTION:Yin Yoga is a slower practice where poses are passively held for longer. Yin relates to the deep connective tissues and joints in the body. Yang Yoga\, in contrast\, refers to a more active practice. This works on the (Yang) muscles and blood flow\, building strength\, stamina and flexibility. Combining both Yin and Yang Yoga in one class provides a balanced practice and can have a powerful effect on energy levels!
URL:https://portsideboulders.com.au/event/revitalising-yin-yang-yoga/2024-09-21/
LOCATION:Portside Boulders O’Connor\, 12 Murphy St\, O'Connor\, WA\, 6163\, Australia
ATTACH;FMTTYPE=image/jpeg:https://portsideboulders.com.au/wp-content/uploads/2023/07/Ash-OC-19-Copy-scaled.jpg
END:VEVENT
BEGIN:VEVENT
DTSTART;TZID=Asia/Shanghai:20240921T083000
DTEND;TZID=Asia/Shanghai:20240921T093000
DTSTAMP:20260425T081633
CREATED:20230228T023951Z
LAST-MODIFIED:20240311T074007Z
UID:10001931-1726907400-1726911000@portsideboulders.com.au
SUMMARY:Revitalising Yin & Yang Yoga
DESCRIPTION:Yin Yoga is a slower practice where poses are passively held for longer. Yin relates to the deep connective tissues and joints in the body. Yang Yoga\, in contrast\, refers to a more active practice. This works on the (Yang) muscles and blood flow\, building strength\, stamina and flexibility. Combining both Yin and Yang Yoga in one class provides a balanced practice and can have a powerful effect on energy levels!
URL:https://portsideboulders.com.au/event/revitalising-yin-yang-yoga-2/2024-09-21/
LOCATION:Portside Boulders O’Connor\, 12 Murphy St\, O'Connor\, WA\, 6163\, Australia
ATTACH;FMTTYPE=image/jpeg:https://portsideboulders.com.au/wp-content/uploads/2023/07/YogaSelects-29-scaled.jpg
END:VEVENT
BEGIN:VEVENT
DTSTART;VALUE=DATE:20240920
DTEND;VALUE=DATE:20240921
DTSTAMP:20260425T081633
CREATED:20230719T035540Z
LAST-MODIFIED:20260123T034118Z
UID:10006390-1726790400-1726876799@portsideboulders.com.au
SUMMARY:Student Fridays
DESCRIPTION:Every Friday we offer $16 entry for students to each Portside with any valid student ID. \nNote: this does not include chalk ($3) and shoe ($7) hire. \nWe also have a BBQ that runs from approximately 6pm-7:30pm. \nSo come on down\, and bring your mates! To speed things up\, make sure you get anyone new you’d like to fill out the waiver in advance.
URL:https://portsideboulders.com.au/event/student-fridays-2/2024-09-20/
LOCATION:Portside Boulders O’Connor\, 12 Murphy St\, O'Connor\, WA\, 6163\, Australia
ATTACH;FMTTYPE=image/jpeg:https://portsideboulders.com.au/wp-content/uploads/2024/02/student-night.jpg
END:VEVENT
BEGIN:VEVENT
DTSTART;TZID=Asia/Shanghai:20240918T183000
DTEND;TZID=Asia/Shanghai:20240918T193000
DTSTAMP:20260425T081633
CREATED:20230706T040930Z
LAST-MODIFIED:20240311T074603Z
UID:10001392-1726684200-1726687800@portsideboulders.com.au
SUMMARY:Power Yoga
DESCRIPTION:A fast-paced and intense style of yoga that’s focused on building strength and endurance\, linking your breath to the different movements of your body.
URL:https://portsideboulders.com.au/event/power-yoga/2024-09-18/
LOCATION:Portside Boulders O’Connor\, 12 Murphy St\, O'Connor\, WA\, 6163\, Australia
ATTACH;FMTTYPE=image/jpeg:https://portsideboulders.com.au/wp-content/uploads/2023/07/Yoga-OC-14-scaled.jpg
END:VEVENT
BEGIN:VEVENT
DTSTART;TZID=Asia/Shanghai:20240914T100000
DTEND;TZID=Asia/Shanghai:20240914T110000
DTSTAMP:20260425T081633
CREATED:20230706T051222Z
LAST-MODIFIED:20240311T074121Z
UID:10003068-1726308000-1726311600@portsideboulders.com.au
SUMMARY:Revitalising Yin & Yang Yoga
DESCRIPTION:Yin Yoga is a slower practice where poses are passively held for longer. Yin relates to the deep connective tissues and joints in the body. Yang Yoga\, in contrast\, refers to a more active practice. This works on the (Yang) muscles and blood flow\, building strength\, stamina and flexibility. Combining both Yin and Yang Yoga in one class provides a balanced practice and can have a powerful effect on energy levels!
URL:https://portsideboulders.com.au/event/revitalising-yin-yang-yoga/2024-09-14/
LOCATION:Portside Boulders O’Connor\, 12 Murphy St\, O'Connor\, WA\, 6163\, Australia
ATTACH;FMTTYPE=image/jpeg:https://portsideboulders.com.au/wp-content/uploads/2023/07/Ash-OC-19-Copy-scaled.jpg
END:VEVENT
BEGIN:VEVENT
DTSTART;TZID=Asia/Shanghai:20240914T083000
DTEND;TZID=Asia/Shanghai:20240914T093000
DTSTAMP:20260425T081633
CREATED:20230228T023951Z
LAST-MODIFIED:20240311T074007Z
UID:10001930-1726302600-1726306200@portsideboulders.com.au
SUMMARY:Revitalising Yin & Yang Yoga
DESCRIPTION:Yin Yoga is a slower practice where poses are passively held for longer. Yin relates to the deep connective tissues and joints in the body. Yang Yoga\, in contrast\, refers to a more active practice. This works on the (Yang) muscles and blood flow\, building strength\, stamina and flexibility. Combining both Yin and Yang Yoga in one class provides a balanced practice and can have a powerful effect on energy levels!
URL:https://portsideboulders.com.au/event/revitalising-yin-yang-yoga-2/2024-09-14/
LOCATION:Portside Boulders O’Connor\, 12 Murphy St\, O'Connor\, WA\, 6163\, Australia
ATTACH;FMTTYPE=image/jpeg:https://portsideboulders.com.au/wp-content/uploads/2023/07/YogaSelects-29-scaled.jpg
END:VEVENT
BEGIN:VEVENT
DTSTART;VALUE=DATE:20240913
DTEND;VALUE=DATE:20240914
DTSTAMP:20260425T081633
CREATED:20230719T035540Z
LAST-MODIFIED:20260123T034118Z
UID:10006389-1726185600-1726271999@portsideboulders.com.au
SUMMARY:Student Fridays
DESCRIPTION:Every Friday we offer $16 entry for students to each Portside with any valid student ID. \nNote: this does not include chalk ($3) and shoe ($7) hire. \nWe also have a BBQ that runs from approximately 6pm-7:30pm. \nSo come on down\, and bring your mates! To speed things up\, make sure you get anyone new you’d like to fill out the waiver in advance.
URL:https://portsideboulders.com.au/event/student-fridays-2/2024-09-13/
LOCATION:Portside Boulders O’Connor\, 12 Murphy St\, O'Connor\, WA\, 6163\, Australia
ATTACH;FMTTYPE=image/jpeg:https://portsideboulders.com.au/wp-content/uploads/2024/02/student-night.jpg
END:VEVENT
END:VCALENDAR